BEGIN:VCALENDAR
VERSION:2.0
PRODID:-//Town of Annapolis Royal - ECPv6.15.20//NONSGML v1.0//EN
CALSCALE:GREGORIAN
METHOD:PUBLISH
X-ORIGINAL-URL:https://annapolisroyal.com
X-WR-CALDESC:Events for Town of Annapolis Royal
REFRESH-INTERVAL;VALUE=DURATION:PT1H
X-Robots-Tag:noindex
X-PUBLISHED-TTL:PT1H
BEGIN:VTIMEZONE
TZID:America/Halifax
BEGIN:DAYLIGHT
TZOFFSETFROM:-0400
TZOFFSETTO:-0300
TZNAME:ADT
DTSTART:20250309T060000
END:DAYLIGHT
BEGIN:STANDARD
TZOFFSETFROM:-0300
TZOFFSETTO:-0400
TZNAME:AST
DTSTART:20251102T050000
END:STANDARD
BEGIN:DAYLIGHT
TZOFFSETFROM:-0400
TZOFFSETTO:-0300
TZNAME:ADT
DTSTART:20260308T060000
END:DAYLIGHT
BEGIN:STANDARD
TZOFFSETFROM:-0300
TZOFFSETTO:-0400
TZNAME:AST
DTSTART:20261101T050000
END:STANDARD
BEGIN:DAYLIGHT
TZOFFSETFROM:-0400
TZOFFSETTO:-0300
TZNAME:ADT
DTSTART:20270314T060000
END:DAYLIGHT
BEGIN:STANDARD
TZOFFSETFROM:-0300
TZOFFSETTO:-0400
TZNAME:AST
DTSTART:20271107T050000
END:STANDARD
END:VTIMEZONE
BEGIN:VEVENT
DTSTART;TZID=America/Halifax:20260201T190000
DTEND;TZID=America/Halifax:20260201T190000
DTSTAMP:20260421T053900
CREATED:20260116T170405Z
LAST-MODIFIED:20260130T200322Z
UID:10006955-1769972400-1769972400@annapolisroyal.com
SUMMARY:POSTPONED - Annapolis Royal Skateboard Park: The Snow Moon Howl
DESCRIPTION:NEW DATE WILL BE POSTED SOON. \n  \nCommunity recreation event. Come snowshoe\, hike the Basin Trail\, enjoy hot cider\, and a bonfire. Headlights provided to those who would like to hike the trail. All welcome. County of\nAnnapolis sponsored event. Info at 902-955-1205.
URL:https://annapolisroyal.com/event/annapolis-royal-skateboard-park-the-snow-moon-howl/
LOCATION:Nova Scotia
END:VEVENT
BEGIN:VEVENT
DTSTART;TZID=America/Halifax:20260202T160000
DTEND;TZID=America/Halifax:20260202T170000
DTSTAMP:20260421T053900
CREATED:20170108T013239Z
LAST-MODIFIED:20260311T181150Z
UID:10005800-1770048000-1770051600@annapolisroyal.com
SUMMARY:Planning and Heritage Advisory Committee
DESCRIPTION:
URL:https://annapolisroyal.com/event/planning-heritage-advisory-committee-2024-07-01/2026-02-02/
LOCATION:Town Hall\, 285 St. George Street\, Annapolis Royal\, Nova Scotia\, B0S 1A0\, Canada
CATEGORIES:Town Council Meetings
GEO:44.7431041;-65.5191754
X-APPLE-STRUCTURED-LOCATION;VALUE=URI;X-ADDRESS=Town Hall 285 St. George Street Annapolis Royal Nova Scotia B0S 1A0 Canada;X-APPLE-RADIUS=500;X-TITLE=285 St. George Street:geo:-65.5191754,44.7431041
END:VEVENT
BEGIN:VEVENT
DTSTART;TZID=America/Halifax:20260203T170000
DTEND;TZID=America/Halifax:20260203T170000
DTSTAMP:20260421T053900
CREATED:20260122T155401Z
LAST-MODIFIED:20260122T155401Z
UID:10008348-1770138000-1770138000@annapolisroyal.com
SUMMARY:Committee of the Whole Meeting
DESCRIPTION:
URL:https://annapolisroyal.com/event/committee-of-the-whole-meeting-2/2026-02-03/
LOCATION:Nova Scotia
END:VEVENT
BEGIN:VEVENT
DTSTART;TZID=America/Halifax:20260205T180000
DTEND;TZID=America/Halifax:20260205T180000
DTSTAMP:20260421T053900
CREATED:20260116T170438Z
LAST-MODIFIED:20260116T170451Z
UID:10006956-1770314400-1770314400@annapolisroyal.com
SUMMARY:Mad Hatter Wine Bar: Valentine Craft Night
DESCRIPTION:Mad Hatter Wine Bar: Valentine Craft Night. $45. For ore information: 902-532-2070 or hollyesford@gmail.com.
URL:https://annapolisroyal.com/event/mad-hatter-wine-bar-valentine-craft-night/
LOCATION:Nova Scotia
END:VEVENT
BEGIN:VEVENT
DTSTART;TZID=America/Halifax:20260206T190000
DTEND;TZID=America/Halifax:20260206T210000
DTSTAMP:20260421T053900
CREATED:20260206T130539Z
LAST-MODIFIED:20260206T130539Z
UID:10008546-1770404400-1770411600@annapolisroyal.com
SUMMARY:Legion: Live music with The Hillbilly Band
DESCRIPTION:
URL:https://annapolisroyal.com/event/legion-live-music-with-the-hillbilly-band/
LOCATION:Port Royal Legion Branch #21\, 66 Victoria St\, Annapolis Royal\, Nova Scotia\, B0S 1A0\, Canada
GEO:44.7432838;-65.5172655
X-APPLE-STRUCTURED-LOCATION;VALUE=URI;X-ADDRESS=Port Royal Legion Branch #21 66 Victoria St Annapolis Royal Nova Scotia B0S 1A0 Canada;X-APPLE-RADIUS=500;X-TITLE=66 Victoria St:geo:-65.5172655,44.7432838
END:VEVENT
BEGIN:VEVENT
DTSTART;TZID=America/Halifax:20260206T193000
DTEND;TZID=America/Halifax:20260206T193000
DTSTAMP:20260421T053900
CREATED:20260122T191433Z
LAST-MODIFIED:20260122T191433Z
UID:10008411-1770406200-1770406200@annapolisroyal.com
SUMMARY:King’s Theatre: Live show: The Heterosexuals: Comedy with Johnnie McNamara
DESCRIPTION:
URL:https://annapolisroyal.com/event/kings-theatre-live-show-the-heterosexuals-comedy-with-johnnie-mcnamara/
LOCATION:Nova Scotia
END:VEVENT
BEGIN:VEVENT
DTSTART;TZID=America/Halifax:20260207T100000
DTEND;TZID=America/Halifax:20260207T100000
DTSTAMP:20260421T053900
CREATED:20240604T112939Z
LAST-MODIFIED:20240920T173355Z
UID:10005103-1770458400-1770458400@annapolisroyal.com
SUMMARY:Town Crier proclamations
DESCRIPTION:Event proclamations by Annapolis Royal Town Crier\, Christine Igot 10 am and noon. Every Saturday at the Farmers and Traders’ market
URL:https://annapolisroyal.com/event/town-crier-proclamations/2026-02-07/
LOCATION:Annapolis Royal Farmer’s Market\, St George St. \, Annapolis Royal\, Nova Scotia \, B0S 1A0\, Canada
GEO:44.7410157;-65.5109883
X-APPLE-STRUCTURED-LOCATION;VALUE=URI;X-ADDRESS=Annapolis Royal Farmer’s Market St George St.  Annapolis Royal Nova Scotia  B0S 1A0 Canada;X-APPLE-RADIUS=500;X-TITLE=St George St.:geo:-65.5109883,44.7410157
END:VEVENT
BEGIN:VEVENT
DTSTART;TZID=America/Halifax:20260207T183000
DTEND;TZID=America/Halifax:20260207T183000
DTSTAMP:20260421T053900
CREATED:20260206T131446Z
LAST-MODIFIED:20260206T131446Z
UID:10008547-1770489000-1770489000@annapolisroyal.com
SUMMARY:Mad Hatter Wine Bar: Live music with Livin’ The Dream
DESCRIPTION:
URL:https://annapolisroyal.com/event/mad-hatter-wine-bar-live-music-with-livin-the-dream-5/
LOCATION:Nova Scotia
END:VEVENT
BEGIN:VEVENT
DTSTART;TZID=America/Halifax:20260207T190000
DTEND;TZID=America/Halifax:20260207T190000
DTSTAMP:20260421T053900
CREATED:20260116T171822Z
LAST-MODIFIED:20260116T171822Z
UID:10008345-1770490800-1770490800@annapolisroyal.com
SUMMARY:Annapolis Brewing Company: Live music with Adam Hewy and Cody Peck with special guests
DESCRIPTION:Annapolis Brewing Company: Live music with Adam Hewy and Cody Peck with special guests. Funk\, pop and soul cover songs.
URL:https://annapolisroyal.com/event/annapolis-brewing-company-live-music-with-adam-hewy-and-cody-peck-with-special-guests/
LOCATION:Nova Scotia
END:VEVENT
BEGIN:VEVENT
DTSTART;TZID=America/Halifax:20260207T190000
DTEND;TZID=America/Halifax:20260207T190000
DTSTAMP:20260421T053900
CREATED:20260122T191459Z
LAST-MODIFIED:20260122T191459Z
UID:10008412-1770490800-1770490800@annapolisroyal.com
SUMMARY:King’s Theatre: movie: Song Sung Blue
DESCRIPTION:
URL:https://annapolisroyal.com/event/kings-theatre-movie-song-sung-blue/
LOCATION:King’s Theatre\, 209 St. George Street\, Annapolis Royal\, Nova Scotia\, B0S 1A0\, Canada
GEO:44.7453104;-65.5187667
X-APPLE-STRUCTURED-LOCATION;VALUE=URI;X-ADDRESS=King’s Theatre 209 St. George Street Annapolis Royal Nova Scotia B0S 1A0 Canada;X-APPLE-RADIUS=500;X-TITLE=209 St. George Street:geo:-65.5187667,44.7453104
END:VEVENT
BEGIN:VEVENT
DTSTART;TZID=America/Halifax:20260207T190000
DTEND;TZID=America/Halifax:20260207T190000
DTSTAMP:20260421T053900
CREATED:20260130T140315Z
LAST-MODIFIED:20260130T140315Z
UID:10008419-1770490800-1770490800@annapolisroyal.com
SUMMARY:Annapolis Brewing Company: Live music with Adam Hewy and Cody Peck with special guests
DESCRIPTION:
URL:https://annapolisroyal.com/event/annapolis-brewing-company-live-music-with-adam-hewy-and-cody-peck-with-special-guests-2/
LOCATION:Nova Scotia
END:VEVENT
BEGIN:VEVENT
DTSTART;TZID=America/Halifax:20260208T140000
DTEND;TZID=America/Halifax:20260208T140000
DTSTAMP:20260421T053900
CREATED:20260116T171935Z
LAST-MODIFIED:20260116T171935Z
UID:10008347-1770559200-1770559200@annapolisroyal.com
SUMMARY:King’s Theatre: Tong Wang – pianist
DESCRIPTION:
URL:https://annapolisroyal.com/event/kings-theatre-tong-wang-pianist/
LOCATION:King’s Theatre\, 209 St. George Street\, Annapolis Royal\, Nova Scotia\, B0S 1A0\, Canada
GEO:44.7453104;-65.5187667
X-APPLE-STRUCTURED-LOCATION;VALUE=URI;X-ADDRESS=King’s Theatre 209 St. George Street Annapolis Royal Nova Scotia B0S 1A0 Canada;X-APPLE-RADIUS=500;X-TITLE=209 St. George Street:geo:-65.5187667,44.7453104
END:VEVENT
BEGIN:VEVENT
DTSTART;TZID=America/Halifax:20260208T160000
DTEND;TZID=America/Halifax:20260208T180000
DTSTAMP:20260421T053900
CREATED:20260116T171903Z
LAST-MODIFIED:20260116T171903Z
UID:10008346-1770566400-1770573600@annapolisroyal.com
SUMMARY:Art@Exit: Artist Jack Hawkins
DESCRIPTION:Art@Exit: Artist Jack Hawkins. Opening reception in the new Realty office gallery. Refreshments complimentary of Benjamin Bridge Winery. All welcome. New gallery venue will have changing exhibits every six weeks. Contact Brent Goertzen for more information: info@brenttherealtor.ca
URL:https://annapolisroyal.com/event/artexit-artist-jack-hawkins/
LOCATION:Nova Scotia
END:VEVENT
BEGIN:VEVENT
DTSTART;TZID=America/Halifax:20260208T190000
DTEND;TZID=America/Halifax:20260208T190000
DTSTAMP:20260421T053900
CREATED:20260130T140357Z
LAST-MODIFIED:20260130T140357Z
UID:10008420-1770577200-1770577200@annapolisroyal.com
SUMMARY:Sunday\, February 8th: 7 pm: Annapolis Brewing Company: Super Bowl Tailgate
DESCRIPTION:Live on the Big Screen
URL:https://annapolisroyal.com/event/sunday-february-8th-7-pm-annapolis-brewing-company-super-bowl-tailgate/
LOCATION:Nova Scotia
END:VEVENT
BEGIN:VEVENT
DTSTART;TZID=America/Halifax:20260209T190000
DTEND;TZID=America/Halifax:20260209T200000
DTSTAMP:20260421T053900
CREATED:20260130T140459Z
LAST-MODIFIED:20260130T140520Z
UID:10008421-1770663600-1770667200@annapolisroyal.com
SUMMARY:Maritime Motion: Valentine’s Beginner Swing Dance Workshop
DESCRIPTION:Monday\, February 9th and Monday\, February 16th: 7 – 8 pm: Maritime Motion: Valentine’s Beginner Swing Dance Workshop. $75 + tax per couple. Register at www.martimemotion.com (gym membership not necessary).
URL:https://annapolisroyal.com/event/maritime-motion-valentines-beginner-swing-dance-workshop/2026-02-09/
LOCATION:Nova Scotia
END:VEVENT
BEGIN:VEVENT
DTSTART;TZID=America/Halifax:20260210T190000
DTEND;TZID=America/Halifax:20260210T190000
DTSTAMP:20260421T053900
CREATED:20260206T131552Z
LAST-MODIFIED:20260206T131552Z
UID:10008548-1770750000-1770750000@annapolisroyal.com
SUMMARY:Annapolis Brewing Company: Trivia with Amy
DESCRIPTION:
URL:https://annapolisroyal.com/event/annapolis-brewing-company-trivia-with-amy/
LOCATION:Nova Scotia
END:VEVENT
BEGIN:VEVENT
DTSTART;TZID=America/Halifax:20260211T120000
DTEND;TZID=America/Halifax:20260211T130000
DTSTAMP:20260421T053900
CREATED:20260206T184308Z
LAST-MODIFIED:20260206T184323Z
UID:10008569-1770811200-1770814800@annapolisroyal.com
SUMMARY:Board of Police Commissioners Meeting
DESCRIPTION:
URL:https://annapolisroyal.com/event/bopc-meeting/
LOCATION:Nova Scotia
END:VEVENT
BEGIN:VEVENT
DTSTART;TZID=America/Halifax:20260211T140000
DTEND;TZID=America/Halifax:20260211T160000
DTSTAMP:20260421T053900
CREATED:20260130T140616Z
LAST-MODIFIED:20260130T140616Z
UID:10008423-1770818400-1770825600@annapolisroyal.com
SUMMARY:O’Dell House Museum: Genealogy Coffee Club
DESCRIPTION:O’Dell House Museum: Genealogy Coffee Club. Explore the resource library. Light refreshments.
URL:https://annapolisroyal.com/event/odell-house-museum-genealogy-coffee-club-2/
LOCATION:Nova Scotia
END:VEVENT
BEGIN:VEVENT
DTSTART;TZID=America/Halifax:20260211T150000
DTEND;TZID=America/Halifax:20260211T160000
DTSTAMP:20260421T053900
CREATED:20250602T132103Z
LAST-MODIFIED:20260306T135451Z
UID:10006336-1770822000-1770825600@annapolisroyal.com
SUMMARY:Environmental Advisory Committee
DESCRIPTION:
URL:https://annapolisroyal.com/event/environmental-advisory-committee-2-2-2-2-2/2026-02-11/
LOCATION:Nova Scotia
CATEGORIES:Town Council Meetings
END:VEVENT
BEGIN:VEVENT
DTSTART;TZID=America/Halifax:20260213T190000
DTEND;TZID=America/Halifax:20260213T190000
DTSTAMP:20260421T053900
CREATED:20260122T191539Z
LAST-MODIFIED:20260122T191539Z
UID:10008413-1771009200-1771009200@annapolisroyal.com
SUMMARY:King’s Theatre: movie: A Private Life.
DESCRIPTION:
URL:https://annapolisroyal.com/event/kings-theatre-movie-a-private-life/
LOCATION:King’s Theatre\, 209 St. George Street\, Annapolis Royal\, Nova Scotia\, B0S 1A0\, Canada
GEO:44.7453104;-65.5187667
X-APPLE-STRUCTURED-LOCATION;VALUE=URI;X-ADDRESS=King’s Theatre 209 St. George Street Annapolis Royal Nova Scotia B0S 1A0 Canada;X-APPLE-RADIUS=500;X-TITLE=209 St. George Street:geo:-65.5187667,44.7453104
END:VEVENT
BEGIN:VEVENT
DTSTART;TZID=America/Halifax:20260213T190000
DTEND;TZID=America/Halifax:20260213T210000
DTSTAMP:20260421T053900
CREATED:20260206T132012Z
LAST-MODIFIED:20260206T132012Z
UID:10008549-1771009200-1771016400@annapolisroyal.com
SUMMARY:Legion: Live music with Mic’d Up
DESCRIPTION:
URL:https://annapolisroyal.com/event/legion-live-music-with-micd-up/
LOCATION:Port Royal Legion Branch #21\, 66 Victoria St\, Annapolis Royal\, Nova Scotia\, B0S 1A0\, Canada
GEO:44.7432838;-65.5172655
X-APPLE-STRUCTURED-LOCATION;VALUE=URI;X-ADDRESS=Port Royal Legion Branch #21 66 Victoria St Annapolis Royal Nova Scotia B0S 1A0 Canada;X-APPLE-RADIUS=500;X-TITLE=66 Victoria St:geo:-65.5172655,44.7432838
END:VEVENT
BEGIN:VEVENT
DTSTART;TZID=America/Halifax:20260214T100000
DTEND;TZID=America/Halifax:20260214T100000
DTSTAMP:20260421T053900
CREATED:20240604T112939Z
LAST-MODIFIED:20240920T173355Z
UID:10005104-1771063200-1771063200@annapolisroyal.com
SUMMARY:Town Crier proclamations
DESCRIPTION:Event proclamations by Annapolis Royal Town Crier\, Christine Igot 10 am and noon. Every Saturday at the Farmers and Traders’ market
URL:https://annapolisroyal.com/event/town-crier-proclamations/2026-02-14/
LOCATION:Annapolis Royal Farmer’s Market\, St George St. \, Annapolis Royal\, Nova Scotia \, B0S 1A0\, Canada
GEO:44.7410157;-65.5109883
X-APPLE-STRUCTURED-LOCATION;VALUE=URI;X-ADDRESS=Annapolis Royal Farmer’s Market St George St.  Annapolis Royal Nova Scotia  B0S 1A0 Canada;X-APPLE-RADIUS=500;X-TITLE=St George St.:geo:-65.5109883,44.7410157
END:VEVENT
BEGIN:VEVENT
DTSTART;TZID=America/Halifax:20260214T120000
DTEND;TZID=America/Halifax:20260214T150000
DTSTAMP:20260421T053900
CREATED:20260130T140728Z
LAST-MODIFIED:20260130T140728Z
UID:10008424-1771070400-1771081200@annapolisroyal.com
SUMMARY:ARTSPLACE: Happy Voluntine’s Day: Celebrating volunteers
DESCRIPTION:ARTSPLACE: Happy Voluntine’s Day: Celebrating volunteers. Artists talks beginning at 12:30. Light refreshments. All welcome. Free.
URL:https://annapolisroyal.com/event/artsplace-happy-voluntines-day-celebrating-volunteers/
LOCATION:Nova Scotia
END:VEVENT
BEGIN:VEVENT
DTSTART;TZID=America/Halifax:20260214T140000
DTEND;TZID=America/Halifax:20260214T140000
DTSTAMP:20260421T053900
CREATED:20260122T191608Z
LAST-MODIFIED:20260122T191608Z
UID:10008414-1771077600-1771077600@annapolisroyal.com
SUMMARY:King’s Theatre: movie: Charlie the Wonderdog
DESCRIPTION:
URL:https://annapolisroyal.com/event/kings-theatre-movie-charlie-the-wonderdog/
LOCATION:King’s Theatre\, 209 St. George Street\, Annapolis Royal\, Nova Scotia\, B0S 1A0\, Canada
GEO:44.7453104;-65.5187667
X-APPLE-STRUCTURED-LOCATION;VALUE=URI;X-ADDRESS=King’s Theatre 209 St. George Street Annapolis Royal Nova Scotia B0S 1A0 Canada;X-APPLE-RADIUS=500;X-TITLE=209 St. George Street:geo:-65.5187667,44.7453104
END:VEVENT
BEGIN:VEVENT
DTSTART;TZID=America/Halifax:20260214T183000
DTEND;TZID=America/Halifax:20260214T210000
DTSTAMP:20260421T053900
CREATED:20260130T140827Z
LAST-MODIFIED:20260130T140827Z
UID:10008425-1771093800-1771102800@annapolisroyal.com
SUMMARY:Mad Hatter Wine Bar: Shuck it! Love the Wine you’re With
DESCRIPTION:Mad Hatter Wine Bar: Shuck it! Love the Wine you’re With. Wine\, oysters and live music. Reserve your spot at 902-532-2070
URL:https://annapolisroyal.com/event/mad-hatter-wine-bar-shuck-it-love-the-wine-youre-with/
LOCATION:Nova Scotia
END:VEVENT
BEGIN:VEVENT
DTSTART;TZID=America/Halifax:20260214T190000
DTEND;TZID=America/Halifax:20260214T190000
DTSTAMP:20260421T053900
CREATED:20260130T140903Z
LAST-MODIFIED:20260130T140903Z
UID:10008426-1771095600-1771095600@annapolisroyal.com
SUMMARY:Annapolis Brewing Company: Live music with Sam and Rhys
DESCRIPTION:
URL:https://annapolisroyal.com/event/annapolis-brewing-company-live-music-with-sam-and-rhys/
LOCATION:Nova Scotia
END:VEVENT
BEGIN:VEVENT
DTSTART;TZID=America/Halifax:20260215T130000
DTEND;TZID=America/Halifax:20260215T130000
DTSTAMP:20260421T053900
CREATED:20260116T153610Z
LAST-MODIFIED:20260116T153610Z
UID:10006941-1771160400-1771160400@annapolisroyal.com
SUMMARY:Historic Gardens - Flag Day Courtyard Celebration
DESCRIPTION:Celebrate Flag Day with us on Sunday February 15 starting at 1pm in the Gardens Courtyard. Gather ’round the bonfire with hot chocolate & marshmallows\, and sing along to an iconic Canadian playlist.  \nBe sure to wear RED and bring something with a MAPLE LEAF if you can! \nMany of you may wish to complete your afternoon in the cozy King’s Theatre\, enjoying “The Choral”\, a great film starting at 2pm. The timing will allow you to do both\, or you may choose to linger at the Gardens for a while. Lots of options!
URL:https://annapolisroyal.com/event/historic-gardens-flag-day-courtyard-celebration/
LOCATION:Nova Scotia
END:VEVENT
BEGIN:VEVENT
DTSTART;TZID=America/Halifax:20260215T140000
DTEND;TZID=America/Halifax:20260215T140000
DTSTAMP:20260421T053900
CREATED:20260122T191721Z
LAST-MODIFIED:20260122T191721Z
UID:10008415-1771164000-1771164000@annapolisroyal.com
SUMMARY:King’s Theatre: movie: The Choral
DESCRIPTION:
URL:https://annapolisroyal.com/event/kings-theatre-movie-the-choral/
LOCATION:King’s Theatre\, 209 St. George Street\, Annapolis Royal\, Nova Scotia\, B0S 1A0\, Canada
GEO:44.7453104;-65.5187667
X-APPLE-STRUCTURED-LOCATION;VALUE=URI;X-ADDRESS=King’s Theatre 209 St. George Street Annapolis Royal Nova Scotia B0S 1A0 Canada;X-APPLE-RADIUS=500;X-TITLE=209 St. George Street:geo:-65.5187667,44.7453104
END:VEVENT
BEGIN:VEVENT
DTSTART;TZID=America/Halifax:20260216T190000
DTEND;TZID=America/Halifax:20260216T200000
DTSTAMP:20260421T053900
CREATED:20260130T140459Z
LAST-MODIFIED:20260130T140520Z
UID:10008422-1771268400-1771272000@annapolisroyal.com
SUMMARY:Maritime Motion: Valentine’s Beginner Swing Dance Workshop
DESCRIPTION:Monday\, February 9th and Monday\, February 16th: 7 – 8 pm: Maritime Motion: Valentine’s Beginner Swing Dance Workshop. $75 + tax per couple. Register at www.martimemotion.com (gym membership not necessary).
URL:https://annapolisroyal.com/event/maritime-motion-valentines-beginner-swing-dance-workshop/2026-02-16/
LOCATION:Nova Scotia
END:VEVENT
BEGIN:VEVENT
DTSTART;TZID=America/Halifax:20260218T160000
DTEND;TZID=America/Halifax:20260218T160000
DTSTAMP:20260421T053900
CREATED:20260130T141019Z
LAST-MODIFIED:20260130T141146Z
UID:10008486-1771430400-1771430400@annapolisroyal.com
SUMMARY:St. George and St. Andrew Church: Together for Peace
DESCRIPTION:Wednesday\, February 18th to Wednesday\, April 1st: 4 pm: St. George and St. Andrew Church: Together for Peace. A short service of prayer\, meditation and music. Every Wednesday afternoon during Lent. All welcome.
URL:https://annapolisroyal.com/event/st-george-and-st-andrew-church-together-for-peace/2026-02-18/
LOCATION:Nova Scotia
END:VEVENT
END:VCALENDAR