BEGIN:VCALENDAR
VERSION:2.0
PRODID:-//Town of Annapolis Royal - ECPv6.15.20//NONSGML v1.0//EN
CALSCALE:GREGORIAN
METHOD:PUBLISH
X-ORIGINAL-URL:https://annapolisroyal.com
X-WR-CALDESC:Events for Town of Annapolis Royal
REFRESH-INTERVAL;VALUE=DURATION:PT1H
X-Robots-Tag:noindex
X-PUBLISHED-TTL:PT1H
BEGIN:VTIMEZONE
TZID:America/Halifax
BEGIN:DAYLIGHT
TZOFFSETFROM:-0400
TZOFFSETTO:-0300
TZNAME:ADT
DTSTART:20250309T060000
END:DAYLIGHT
BEGIN:STANDARD
TZOFFSETFROM:-0300
TZOFFSETTO:-0400
TZNAME:AST
DTSTART:20251102T050000
END:STANDARD
BEGIN:DAYLIGHT
TZOFFSETFROM:-0400
TZOFFSETTO:-0300
TZNAME:ADT
DTSTART:20260308T060000
END:DAYLIGHT
BEGIN:STANDARD
TZOFFSETFROM:-0300
TZOFFSETTO:-0400
TZNAME:AST
DTSTART:20261101T050000
END:STANDARD
BEGIN:DAYLIGHT
TZOFFSETFROM:-0400
TZOFFSETTO:-0300
TZNAME:ADT
DTSTART:20270314T060000
END:DAYLIGHT
BEGIN:STANDARD
TZOFFSETFROM:-0300
TZOFFSETTO:-0400
TZNAME:AST
DTSTART:20271107T050000
END:STANDARD
END:VTIMEZONE
BEGIN:VEVENT
DTSTART;TZID=America/Halifax:20260401T090000
DTEND;TZID=America/Halifax:20260401T160000
DTSTAMP:20260420T051932
CREATED:20260330T163742Z
LAST-MODIFIED:20260330T163742Z
UID:10008630-1775034000-1775059200@annapolisroyal.com
SUMMARY:Artsplace. Still Life Studio
DESCRIPTION:Drop in. Free. Tables and easels available
URL:https://annapolisroyal.com/event/artsplace-still-life-studio/
END:VEVENT
BEGIN:VEVENT
DTSTART;TZID=America/Halifax:20260401T100000
DTEND;TZID=America/Halifax:20260401T113000
DTSTAMP:20260420T051932
CREATED:20260318T125625Z
LAST-MODIFIED:20260318T125625Z
UID:10008618-1775037600-1775043000@annapolisroyal.com
SUMMARY:Board of Police Commissioners Meeting
DESCRIPTION:
URL:https://annapolisroyal.com/event/board-of-police-commissioners-meeting-2/
END:VEVENT
BEGIN:VEVENT
DTSTART;TZID=America/Halifax:20260401T160000
DTEND;TZID=America/Halifax:20260401T160000
DTSTAMP:20260420T051932
CREATED:20260130T141019Z
LAST-MODIFIED:20260130T141146Z
UID:10008492-1775059200-1775059200@annapolisroyal.com
SUMMARY:St. George and St. Andrew Church: Together for Peace
DESCRIPTION:Wednesday\, February 18th to Wednesday\, April 1st: 4 pm: St. George and St. Andrew Church: Together for Peace. A short service of prayer\, meditation and music. Every Wednesday afternoon during Lent. All welcome.
URL:https://annapolisroyal.com/event/st-george-and-st-andrew-church-together-for-peace/2026-04-01/
END:VEVENT
BEGIN:VEVENT
DTSTART;TZID=America/Halifax:20260402T190000
DTEND;TZID=America/Halifax:20260402T190000
DTSTAMP:20260420T051932
CREATED:20260330T163811Z
LAST-MODIFIED:20260330T164028Z
UID:10008631-1775156400-1775156400@annapolisroyal.com
SUMMARY:Annapolis Brewing Company: Musical Bingo with Maurice
DESCRIPTION:
URL:https://annapolisroyal.com/event/annapolis-brewing-company-musical-bingo-with-maurice/
END:VEVENT
BEGIN:VEVENT
DTSTART;TZID=America/Halifax:20260402T193000
DTEND;TZID=America/Halifax:20260402T193000
DTSTAMP:20260420T051932
CREATED:20260330T163841Z
LAST-MODIFIED:20260330T163841Z
UID:10008632-1775158200-1775158200@annapolisroyal.com
SUMMARY:King’s Theatre: Live show: Tilt – mix of scripted theatre and improvisation
DESCRIPTION:
URL:https://annapolisroyal.com/event/kings-theatre-live-show-tilt-mix-of-scripted-theatre-and-improvisation/
LOCATION:King’s Theatre\, 209 St. George Street\, Annapolis Royal\, Nova Scotia\, B0S 1A0\, Canada
GEO:44.7453104;-65.5187667
X-APPLE-STRUCTURED-LOCATION;VALUE=URI;X-ADDRESS=King’s Theatre 209 St. George Street Annapolis Royal Nova Scotia B0S 1A0 Canada;X-APPLE-RADIUS=500;X-TITLE=209 St. George Street:geo:-65.5187667,44.7453104
END:VEVENT
BEGIN:VEVENT
DTSTART;TZID=America/Halifax:20260404T090000
DTEND;TZID=America/Halifax:20260404T090000
DTSTAMP:20260420T051932
CREATED:20260330T163921Z
LAST-MODIFIED:20260330T163921Z
UID:10008633-1775293200-1775293200@annapolisroyal.com
SUMMARY:Patrick’s Lane: Parkrun: Walk\, run or skip 5km
DESCRIPTION:Patrick’s Lane: Parkrun: Walk\, run or skip 5km. World- wide event every Saturday. Free and fun. One time registration with parkrun.ca.
URL:https://annapolisroyal.com/event/patricks-lane-parkrun-walk-run-or-skip-5km/
END:VEVENT
BEGIN:VEVENT
DTSTART;TZID=America/Halifax:20260404T100000
DTEND;TZID=America/Halifax:20260404T100000
DTSTAMP:20260420T051932
CREATED:20240604T112939Z
LAST-MODIFIED:20240920T173355Z
UID:10005111-1775296800-1775296800@annapolisroyal.com
SUMMARY:Town Crier proclamations
DESCRIPTION:Event proclamations by Annapolis Royal Town Crier\, Christine Igot 10 am and noon. Every Saturday at the Farmers and Traders’ market
URL:https://annapolisroyal.com/event/town-crier-proclamations/2026-04-04/
LOCATION:Annapolis Royal Farmer’s Market\, St George St. \, Annapolis Royal\, Nova Scotia \, B0S 1A0\, Canada
GEO:44.7410157;-65.5109883
X-APPLE-STRUCTURED-LOCATION;VALUE=URI;X-ADDRESS=Annapolis Royal Farmer’s Market St George St.  Annapolis Royal Nova Scotia  B0S 1A0 Canada;X-APPLE-RADIUS=500;X-TITLE=St George St.:geo:-65.5109883,44.7410157
END:VEVENT
BEGIN:VEVENT
DTSTART;TZID=America/Halifax:20260404T100000
DTEND;TZID=America/Halifax:20260404T100000
DTSTAMP:20260420T051932
CREATED:20260330T142947Z
LAST-MODIFIED:20260330T163951Z
UID:10008629-1775296800-1775296800@annapolisroyal.com
SUMMARY:Easter Eggstravaganza
DESCRIPTION:20th anniversary! 10am: free movie at Kings: 11:30 – 1:45: Firehall: BBQ fundraiser\, photo booth and Aurora the Cowboy and Billy Boots: 2pm: The Big Hunt at the Fort Anne Grounds.
URL:https://annapolisroyal.com/event/easter-eggstravaganza/
END:VEVENT
BEGIN:VEVENT
DTSTART;TZID=America/Halifax:20260404T100000
DTEND;TZID=America/Halifax:20260404T100000
DTSTAMP:20260420T051932
CREATED:20260330T164103Z
LAST-MODIFIED:20260330T164103Z
UID:10008634-1775296800-1775296800@annapolisroyal.com
SUMMARY:King’s Theatre: Luca – free Movie for kids!
DESCRIPTION:
URL:https://annapolisroyal.com/event/kings-theatre-luca-free-movie-for-kids/
LOCATION:King’s Theatre\, 209 St. George Street\, Annapolis Royal\, Nova Scotia\, B0S 1A0\, Canada
GEO:44.7453104;-65.5187667
X-APPLE-STRUCTURED-LOCATION;VALUE=URI;X-ADDRESS=King’s Theatre 209 St. George Street Annapolis Royal Nova Scotia B0S 1A0 Canada;X-APPLE-RADIUS=500;X-TITLE=209 St. George Street:geo:-65.5187667,44.7453104
END:VEVENT
BEGIN:VEVENT
DTSTART;TZID=America/Halifax:20260405T140000
DTEND;TZID=America/Halifax:20260405T140000
DTSTAMP:20260420T051932
CREATED:20260330T164135Z
LAST-MODIFIED:20260330T164135Z
UID:10008635-1775397600-1775397600@annapolisroyal.com
SUMMARY:Annapolis Brewing Company: Open Mic
DESCRIPTION:
URL:https://annapolisroyal.com/event/annapolis-brewing-company-open-mic/
END:VEVENT
BEGIN:VEVENT
DTSTART;TZID=America/Halifax:20260407T170000
DTEND;TZID=America/Halifax:20260407T170000
DTSTAMP:20260420T051932
CREATED:20260122T155401Z
LAST-MODIFIED:20260122T155401Z
UID:10008350-1775581200-1775581200@annapolisroyal.com
SUMMARY:Committee of the Whole Meeting
DESCRIPTION:
URL:https://annapolisroyal.com/event/committee-of-the-whole-meeting-2/2026-04-07/
END:VEVENT
BEGIN:VEVENT
DTSTART;TZID=America/Halifax:20260407T190000
DTEND;TZID=America/Halifax:20260407T190000
DTSTAMP:20260420T051932
CREATED:20260330T164206Z
LAST-MODIFIED:20260330T164206Z
UID:10008636-1775588400-1775588400@annapolisroyal.com
SUMMARY:Annapolis Brewing Company: Trivia Night
DESCRIPTION:
URL:https://annapolisroyal.com/event/annapolis-brewing-company-trivia-night-10/
END:VEVENT
BEGIN:VEVENT
DTSTART;TZID=America/Halifax:20260408T150000
DTEND;TZID=America/Halifax:20260408T160000
DTSTAMP:20260420T051932
CREATED:20250602T132103Z
LAST-MODIFIED:20260306T135451Z
UID:10006338-1775660400-1775664000@annapolisroyal.com
SUMMARY:Environmental Advisory Committee
DESCRIPTION:
URL:https://annapolisroyal.com/event/environmental-advisory-committee-2-2-2-2-2/2026-04-08/
CATEGORIES:Town Council Meetings
END:VEVENT
BEGIN:VEVENT
DTSTART;TZID=America/Halifax:20260408T190000
DTEND;TZID=America/Halifax:20260408T190000
DTSTAMP:20260420T051932
CREATED:20260330T164226Z
LAST-MODIFIED:20260330T164226Z
UID:10008637-1775674800-1775674800@annapolisroyal.com
SUMMARY:Annapolis Brewing Company: French club conversation
DESCRIPTION:
URL:https://annapolisroyal.com/event/annapolis-brewing-company-french-club-conversation/
END:VEVENT
BEGIN:VEVENT
DTSTART;TZID=America/Halifax:20260408T190000
DTEND;TZID=America/Halifax:20260409T190000
DTSTAMP:20260420T051932
CREATED:20260407T140057Z
LAST-MODIFIED:20260407T140057Z
UID:10008645-1775674800-1775761200@annapolisroyal.com
SUMMARY:King’s Theatre: film: Sirat
DESCRIPTION:
URL:https://annapolisroyal.com/event/kings-theatre-film-sirat/
LOCATION:King’s Theatre\, 209 St. George Street\, Annapolis Royal\, Nova Scotia\, B0S 1A0\, Canada
GEO:44.7453104;-65.5187667
X-APPLE-STRUCTURED-LOCATION;VALUE=URI;X-ADDRESS=King’s Theatre 209 St. George Street Annapolis Royal Nova Scotia B0S 1A0 Canada;X-APPLE-RADIUS=500;X-TITLE=209 St. George Street:geo:-65.5187667,44.7453104
END:VEVENT
BEGIN:VEVENT
DTSTART;TZID=America/Halifax:20260409T190000
DTEND;TZID=America/Halifax:20260409T190000
DTSTAMP:20260420T051932
CREATED:20260407T140152Z
LAST-MODIFIED:20260407T140152Z
UID:10008646-1775761200-1775761200@annapolisroyal.com
SUMMARY:United Church Hall: Champlain Garden Club Meeting:
DESCRIPTION:Recipes and Hints for the Garden. All welcome. Light refreshments.
URL:https://annapolisroyal.com/event/united-church-hall-champlain-garden-club-meeting/
END:VEVENT
BEGIN:VEVENT
DTSTART;TZID=America/Halifax:20260410T190000
DTEND;TZID=America/Halifax:20260410T190000
DTSTAMP:20260420T051932
CREATED:20260407T140216Z
LAST-MODIFIED:20260407T140216Z
UID:10008647-1775847600-1775847600@annapolisroyal.com
SUMMARY:Annapolis Brewing Company: Karaoke with Maurice
DESCRIPTION:
URL:https://annapolisroyal.com/event/annapolis-brewing-company-karaoke-with-maurice-6/
END:VEVENT
BEGIN:VEVENT
DTSTART;TZID=America/Halifax:20260410T190000
DTEND;TZID=America/Halifax:20260410T210000
DTSTAMP:20260420T051932
CREATED:20260410T114817Z
LAST-MODIFIED:20260410T115519Z
UID:10008655-1775847600-1775854800@annapolisroyal.com
SUMMARY:Legion: Live music with Hourglass
DESCRIPTION:
URL:https://annapolisroyal.com/event/legion-live-music-with-hourglass-5/
LOCATION:Port Royal Legion Branch #21\, 66 Victoria St\, Annapolis Royal\, Nova Scotia\, B0S 1A0\, Canada
GEO:44.7432838;-65.5172655
X-APPLE-STRUCTURED-LOCATION;VALUE=URI;X-ADDRESS=Port Royal Legion Branch #21 66 Victoria St Annapolis Royal Nova Scotia B0S 1A0 Canada;X-APPLE-RADIUS=500;X-TITLE=66 Victoria St:geo:-65.5172655,44.7432838
END:VEVENT
BEGIN:VEVENT
DTSTART;TZID=America/Halifax:20260411T100000
DTEND;TZID=America/Halifax:20260411T100000
DTSTAMP:20260420T051932
CREATED:20240604T112939Z
LAST-MODIFIED:20240920T173355Z
UID:10005112-1775901600-1775901600@annapolisroyal.com
SUMMARY:Town Crier proclamations
DESCRIPTION:Event proclamations by Annapolis Royal Town Crier\, Christine Igot 10 am and noon. Every Saturday at the Farmers and Traders’ market
URL:https://annapolisroyal.com/event/town-crier-proclamations/2026-04-11/
LOCATION:Annapolis Royal Farmer’s Market\, St George St. \, Annapolis Royal\, Nova Scotia \, B0S 1A0\, Canada
GEO:44.7410157;-65.5109883
X-APPLE-STRUCTURED-LOCATION;VALUE=URI;X-ADDRESS=Annapolis Royal Farmer’s Market St George St.  Annapolis Royal Nova Scotia  B0S 1A0 Canada;X-APPLE-RADIUS=500;X-TITLE=St George St.:geo:-65.5109883,44.7410157
END:VEVENT
BEGIN:VEVENT
DTSTART;TZID=America/Halifax:20260411T103000
DTEND;TZID=America/Halifax:20260411T123000
DTSTAMP:20260420T051932
CREATED:20260410T115559Z
LAST-MODIFIED:20260410T115559Z
UID:10008656-1775903400-1775910600@annapolisroyal.com
SUMMARY:King’s Theatre: Auditions for King’s Shorts
DESCRIPTION:All welcome to try out. Contact Verilea at <verilea@yahoo.ca> for more information.\nSaturday\, April 11th: 11 am: Amphitheatre: Annapolis Royal Gardens clean up
URL:https://annapolisroyal.com/event/kings-theatre-auditions-for-kings-shorts/
LOCATION:King’s Theatre\, 209 St. George Street\, Annapolis Royal\, Nova Scotia\, B0S 1A0\, Canada
GEO:44.7453104;-65.5187667
X-APPLE-STRUCTURED-LOCATION;VALUE=URI;X-ADDRESS=King’s Theatre 209 St. George Street Annapolis Royal Nova Scotia B0S 1A0 Canada;X-APPLE-RADIUS=500;X-TITLE=209 St. George Street:geo:-65.5187667,44.7453104
END:VEVENT
BEGIN:VEVENT
DTSTART;TZID=America/Halifax:20260411T110000
DTEND;TZID=America/Halifax:20260411T110000
DTSTAMP:20260420T051932
CREATED:20260407T140302Z
LAST-MODIFIED:20260407T140302Z
UID:10008648-1775905200-1775905200@annapolisroyal.com
SUMMARY:Amphitheatre: Annapolis Royal Gardens clean up day with the Champlain Garden Club.
DESCRIPTION:Amphitheatre: Annapolis Royal Gardens clean up day with the Champlain Garden Club. Please come with your own labelled tools. Contact susiegnn@gmail.com for more information.
URL:https://annapolisroyal.com/event/amphitheatre-annapolis-royal-gardens-clean-up-day-with-the-champlain-garden-club/
END:VEVENT
BEGIN:VEVENT
DTSTART;TZID=America/Halifax:20260411T140000
DTEND;TZID=America/Halifax:20260411T170000
DTSTAMP:20260420T051932
CREATED:20260407T140334Z
LAST-MODIFIED:20260407T140334Z
UID:10008649-1775916000-1775926800@annapolisroyal.com
SUMMARY:Mad Hatter: Wonderfully Bonkers Tea Party.
DESCRIPTION:Mad Hatter: Wonderfully Bonkers Tea Party. $30. Reserve a spot at 902-532-2070. hollysanford@gmail.com
URL:https://annapolisroyal.com/event/mad-hatter-wonderfully-bonkers-tea-party/
END:VEVENT
BEGIN:VEVENT
DTSTART;TZID=America/Halifax:20260411T140000
DTEND;TZID=America/Halifax:20260411T170000
DTSTAMP:20260420T051932
CREATED:20260410T115638Z
LAST-MODIFIED:20260410T115638Z
UID:10008657-1775916000-1775926800@annapolisroyal.com
SUMMARY:ArtsPlace Studio: Making time with Basma Kavanagh
DESCRIPTION:Quiet\, creative Saturday afternoon. Bring a project to work on. All welcome
URL:https://annapolisroyal.com/event/artsplace-studio-making-time-with-basma-kavanagh/
END:VEVENT
BEGIN:VEVENT
DTSTART;TZID=America/Halifax:20260411T150000
DTEND;TZID=America/Halifax:20260411T150000
DTSTAMP:20260420T051932
CREATED:20260407T140401Z
LAST-MODIFIED:20260407T140401Z
UID:10008650-1775919600-1775919600@annapolisroyal.com
SUMMARY:King’s Theatre: film: Hoppers.
DESCRIPTION:
URL:https://annapolisroyal.com/event/kings-theatre-film-hoppers/
LOCATION:King’s Theatre\, 209 St. George Street\, Annapolis Royal\, Nova Scotia\, B0S 1A0\, Canada
GEO:44.7453104;-65.5187667
X-APPLE-STRUCTURED-LOCATION;VALUE=URI;X-ADDRESS=King’s Theatre 209 St. George Street Annapolis Royal Nova Scotia B0S 1A0 Canada;X-APPLE-RADIUS=500;X-TITLE=209 St. George Street:geo:-65.5187667,44.7453104
END:VEVENT
BEGIN:VEVENT
DTSTART;TZID=America/Halifax:20260412T150000
DTEND;TZID=America/Halifax:20260412T150000
DTSTAMP:20260420T051932
CREATED:20260407T140426Z
LAST-MODIFIED:20260407T140426Z
UID:10008651-1776006000-1776006000@annapolisroyal.com
SUMMARY:King’s Theatre: Stage to Screen : Othello
DESCRIPTION:
URL:https://annapolisroyal.com/event/kings-theatre-stage-to-screen-othello/
LOCATION:King’s Theatre\, 209 St. George Street\, Annapolis Royal\, Nova Scotia\, B0S 1A0\, Canada
GEO:44.7453104;-65.5187667
X-APPLE-STRUCTURED-LOCATION;VALUE=URI;X-ADDRESS=King’s Theatre 209 St. George Street Annapolis Royal Nova Scotia B0S 1A0 Canada;X-APPLE-RADIUS=500;X-TITLE=209 St. George Street:geo:-65.5187667,44.7453104
END:VEVENT
BEGIN:VEVENT
DTSTART;TZID=America/Halifax:20260412T173000
DTEND;TZID=America/Halifax:20260412T190000
DTSTAMP:20260420T051932
CREATED:20260410T115751Z
LAST-MODIFIED:20260410T115751Z
UID:10008658-1776015000-1776020400@annapolisroyal.com
SUMMARY:King’s Theatre: Mickey Hill at Risk: Phase 2: Progress\, Updates and Next Steps
DESCRIPTION:New information on the proposed clearcutting. All welcome. Free.
URL:https://annapolisroyal.com/event/kings-theatre-mickey-hill-at-risk-phase-2-progress-updates-and-next-steps/
LOCATION:King’s Theatre\, 209 St. George Street\, Annapolis Royal\, Nova Scotia\, B0S 1A0\, Canada
GEO:44.7453104;-65.5187667
X-APPLE-STRUCTURED-LOCATION;VALUE=URI;X-ADDRESS=King’s Theatre 209 St. George Street Annapolis Royal Nova Scotia B0S 1A0 Canada;X-APPLE-RADIUS=500;X-TITLE=209 St. George Street:geo:-65.5187667,44.7453104
END:VEVENT
BEGIN:VEVENT
DTSTART;TZID=America/Halifax:20260414T193000
DTEND;TZID=America/Halifax:20260414T193000
DTSTAMP:20260420T051932
CREATED:20260407T140457Z
LAST-MODIFIED:20260407T140457Z
UID:10008652-1776195000-1776195000@annapolisroyal.com
SUMMARY:King’s Theatre: Live music: Epic Eagles (Tribute)
DESCRIPTION:
URL:https://annapolisroyal.com/event/kings-theatre-live-music-epic-eagles-tribute/
LOCATION:King’s Theatre\, 209 St. George Street\, Annapolis Royal\, Nova Scotia\, B0S 1A0\, Canada
GEO:44.7453104;-65.5187667
X-APPLE-STRUCTURED-LOCATION;VALUE=URI;X-ADDRESS=King’s Theatre 209 St. George Street Annapolis Royal Nova Scotia B0S 1A0 Canada;X-APPLE-RADIUS=500;X-TITLE=209 St. George Street:geo:-65.5187667,44.7453104
END:VEVENT
BEGIN:VEVENT
DTSTART;TZID=America/Halifax:20260415T101500
DTEND;TZID=America/Halifax:20260415T210000
DTSTAMP:20260420T051932
CREATED:20260407T140548Z
LAST-MODIFIED:20260407T140548Z
UID:10008653-1776248100-1776286800@annapolisroyal.com
SUMMARY:King’s Theatre: FREE FILMS: National Canadian Film Day
DESCRIPTION:King’s Theatre: FREE FILMS: National Canadian Film Day. See King’s Theatre website for the list of films.
URL:https://annapolisroyal.com/event/kings-theatre-free-films-national-canadian-film-day/
LOCATION:King’s Theatre\, 209 St. George Street\, Annapolis Royal\, Nova Scotia\, B0S 1A0\, Canada
GEO:44.7453104;-65.5187667
X-APPLE-STRUCTURED-LOCATION;VALUE=URI;X-ADDRESS=King’s Theatre 209 St. George Street Annapolis Royal Nova Scotia B0S 1A0 Canada;X-APPLE-RADIUS=500;X-TITLE=209 St. George Street:geo:-65.5187667,44.7453104
END:VEVENT
BEGIN:VEVENT
DTSTART;TZID=America/Halifax:20260415T124500
DTEND;TZID=America/Halifax:20260415T144500
DTSTAMP:20260420T051932
CREATED:20260318T140234Z
LAST-MODIFIED:20260318T140234Z
UID:10008621-1776257100-1776264300@annapolisroyal.com
SUMMARY:King's Theatre Society presents Pachamama
DESCRIPTION:In celebration of National Canadian Film Day\, King’s Theatre Society presents a special FREE screening of Pachamama. \nTen-year-old Teplupai has always wanted to be a spiritual leader\, but nobody will take him seriously. When a tax collector takes away his village’s sacred treasure\, he sets off on a quest to find and reclaim it. However\, when he arrives in the big city\, his world is forever changed as he witnesses the first arrival of Europeans to the continent\, and the devastation that follows. \nGet your FREE tickets to see the Canadian film here: https://canfilmday.ca/film/pachamama/ \nKing’s Theatre\n209 St George Street\nAnnapolis Royal\, NS
URL:https://annapolisroyal.com/event/kings-theatre-society-presents-pachamama/
LOCATION:King’s Theatre\, 209 St. George Street\, Annapolis Royal\, Nova Scotia\, B0S 1A0\, Canada
ORGANIZER;CN="National Canadian Film Day":MAILTO:canfilmday@reelcanada.ca
GEO:44.7453104;-65.5187667
X-APPLE-STRUCTURED-LOCATION;VALUE=URI;X-ADDRESS=King’s Theatre 209 St. George Street Annapolis Royal Nova Scotia B0S 1A0 Canada;X-APPLE-RADIUS=500;X-TITLE=209 St. George Street:geo:-65.5187667,44.7453104
END:VEVENT
BEGIN:VEVENT
DTSTART;TZID=America/Halifax:20260415T140000
DTEND;TZID=America/Halifax:20260415T140000
DTSTAMP:20260420T051932
CREATED:20260407T140628Z
LAST-MODIFIED:20260407T140628Z
UID:10008654-1776261600-1776261600@annapolisroyal.com
SUMMARY:ARTsPLACE: FREE FILMS: National Canadian Film Day
DESCRIPTION:ARTsPLACE: FREE FILMS: National Canadian Film Day. 2 pm: Haida Modern (renaissance of Haida art); 4 pm: The Apprentice (biopic of Trump’s rise).
URL:https://annapolisroyal.com/event/artsplace-free-films-national-canadian-film-day/
END:VEVENT
END:VCALENDAR