BEGIN:VCALENDAR
VERSION:2.0
PRODID:-//Town of Annapolis Royal - ECPv6.15.20//NONSGML v1.0//EN
CALSCALE:GREGORIAN
METHOD:PUBLISH
X-WR-CALNAME:Town of Annapolis Royal
X-ORIGINAL-URL:https://annapolisroyal.com
X-WR-CALDESC:Events for Town of Annapolis Royal
REFRESH-INTERVAL;VALUE=DURATION:PT1H
X-Robots-Tag:noindex
X-PUBLISHED-TTL:PT1H
BEGIN:VTIMEZONE
TZID:America/Halifax
BEGIN:DAYLIGHT
TZOFFSETFROM:-0400
TZOFFSETTO:-0300
TZNAME:ADT
DTSTART:20250309T060000
END:DAYLIGHT
BEGIN:STANDARD
TZOFFSETFROM:-0300
TZOFFSETTO:-0400
TZNAME:AST
DTSTART:20251102T050000
END:STANDARD
BEGIN:DAYLIGHT
TZOFFSETFROM:-0400
TZOFFSETTO:-0300
TZNAME:ADT
DTSTART:20260308T060000
END:DAYLIGHT
BEGIN:STANDARD
TZOFFSETFROM:-0300
TZOFFSETTO:-0400
TZNAME:AST
DTSTART:20261101T050000
END:STANDARD
BEGIN:DAYLIGHT
TZOFFSETFROM:-0400
TZOFFSETTO:-0300
TZNAME:ADT
DTSTART:20270314T060000
END:DAYLIGHT
BEGIN:STANDARD
TZOFFSETFROM:-0300
TZOFFSETTO:-0400
TZNAME:AST
DTSTART:20271107T050000
END:STANDARD
END:VTIMEZONE
BEGIN:VEVENT
DTSTART;TZID=America/Halifax:20260502T100000
DTEND;TZID=America/Halifax:20260502T100000
DTSTAMP:20260421T171828
CREATED:20240604T112939Z
LAST-MODIFIED:20240920T173355Z
UID:10005115-1777716000-1777716000@annapolisroyal.com
SUMMARY:Town Crier proclamations
DESCRIPTION:Event proclamations by Annapolis Royal Town Crier\, Christine Igot 10 am and noon. Every Saturday at the Farmers and Traders’ market
URL:https://annapolisroyal.com/event/town-crier-proclamations/2026-05-02/
LOCATION:Annapolis Royal Farmer’s Market\, St George St. \, Annapolis Royal\, Nova Scotia \, B0S 1A0\, Canada
GEO:44.7410157;-65.5109883
X-APPLE-STRUCTURED-LOCATION;VALUE=URI;X-ADDRESS=Annapolis Royal Farmer’s Market St George St.  Annapolis Royal Nova Scotia  B0S 1A0 Canada;X-APPLE-RADIUS=500;X-TITLE=St George St.:geo:-65.5109883,44.7410157
END:VEVENT
BEGIN:VEVENT
DTSTART;TZID=America/Halifax:20260503T110000
DTEND;TZID=America/Halifax:20260503T110000
DTSTAMP:20260421T171828
CREATED:20260320T163345Z
LAST-MODIFIED:20260320T163345Z
UID:10008628-1777806000-1777806000@annapolisroyal.com
SUMMARY:Annapolis Royal Volunteer Firehall: MareGold Spring Auction
DESCRIPTION:MareGold Spring Auction\nSunday\, May 3rd\, 2026\nNot your typical auction.\nStep into a day of discovery — where every table holds something unexpected\, and every lot has a story.\nMareGold Auctions returns with over 200 carefully chosen pieces from more than 20 local consignors. From historical objects and fine art to clocks\, glass\, and small furniture\, this is a collection shaped by curiosity\, character\, and craftsmanship.\nWhether you’re a collector\, a browser\, or simply looking for a new kind of experience — you’re very welcome.\nEverything sells. No reserves.\n(And yes — there are always surprises.)\n📍 Annapolis Royal Volunteer Fire Hall\n5 Saint Anthony Street\, Annapolis Royal\, Nova Scotia\n🕰 Viewing from 11:00am\n🔨 Auction begins at 12:00 noon — sharp\nRegister online and skip the wait\nView items online before the auction at maregold.com — new items added daily\nCan’t make it in person? We’re happy to handle advance bids on your behalf.\n📧 russell@maregold.com\n🌐 maregold.com\nCome for the experience — leave with something you didn’t expect.
URL:https://annapolisroyal.com/event/annapolis-royal-volunteer-firehall-maregold-spring-auction/
LOCATION:Nova Scotia
END:VEVENT
BEGIN:VEVENT
DTSTART;TZID=America/Halifax:20260504T160000
DTEND;TZID=America/Halifax:20260504T170000
DTSTAMP:20260421T171828
CREATED:20170108T013239Z
LAST-MODIFIED:20260311T181150Z
UID:10005803-1777910400-1777914000@annapolisroyal.com
SUMMARY:Planning and Heritage Advisory Committee
DESCRIPTION:
URL:https://annapolisroyal.com/event/planning-heritage-advisory-committee-2024-07-01/2026-05-04/
LOCATION:Town Hall\, 285 St. George Street\, Annapolis Royal\, Nova Scotia\, B0S 1A0\, Canada
CATEGORIES:Town Council Meetings
GEO:44.7431041;-65.5191754
X-APPLE-STRUCTURED-LOCATION;VALUE=URI;X-ADDRESS=Town Hall 285 St. George Street Annapolis Royal Nova Scotia B0S 1A0 Canada;X-APPLE-RADIUS=500;X-TITLE=285 St. George Street:geo:-65.5191754,44.7431041
END:VEVENT
BEGIN:VEVENT
DTSTART;TZID=America/Halifax:20260505T150000
DTEND;TZID=America/Halifax:20260505T170000
DTSTAMP:20260421T171828
CREATED:20260112T125426Z
LAST-MODIFIED:20260112T125426Z
UID:10006939-1777993200-1778000400@annapolisroyal.com
SUMMARY:Local author's book launch
DESCRIPTION:Paul Rapsey will read selections from his sixth mystery novel\, “A Partriche in a Peer Tree” at the Mad Hatter Wine Bar\, on Tuesday\, May 5 2026\, from 3:00 to 5:00 p.m. The multi-layered mystery story takes place in a fictional town very like Annapolis Royal and its environs. The characters though flawed are mostly loveable.
URL:https://annapolisroyal.com/event/local-authors-book-launch/
LOCATION:Bainton’s\, 213 St. George Street\, Annapolis Royal\, Nova Scotia\, B0S 1A0\, Canada
ATTACH;FMTTYPE=image/jpeg:https://annapolisroyal.com/wp-content/uploads/2026/01/1000010416.jpg
ORGANIZER;CN="Mad Hatter Wine Bar and Book Store":MAILTO:paul.rapsey@gmail.com
GEO:44.7451611;-65.5193923
X-APPLE-STRUCTURED-LOCATION;VALUE=URI;X-ADDRESS=Bainton’s 213 St. George Street Annapolis Royal Nova Scotia B0S 1A0 Canada;X-APPLE-RADIUS=500;X-TITLE=213 St. George Street:geo:-65.5193923,44.7451611
END:VEVENT
BEGIN:VEVENT
DTSTART;TZID=America/Halifax:20260505T170000
DTEND;TZID=America/Halifax:20260505T170000
DTSTAMP:20260421T171828
CREATED:20260122T155401Z
LAST-MODIFIED:20260122T155401Z
UID:10008351-1778000400-1778000400@annapolisroyal.com
SUMMARY:Committee of the Whole Meeting
DESCRIPTION:
URL:https://annapolisroyal.com/event/committee-of-the-whole-meeting-2/2026-05-05/
LOCATION:Nova Scotia
END:VEVENT
BEGIN:VEVENT
DTSTART;TZID=America/Halifax:20260509T100000
DTEND;TZID=America/Halifax:20260509T100000
DTSTAMP:20260421T171828
CREATED:20240604T112939Z
LAST-MODIFIED:20240920T173355Z
UID:10005116-1778320800-1778320800@annapolisroyal.com
SUMMARY:Town Crier proclamations
DESCRIPTION:Event proclamations by Annapolis Royal Town Crier\, Christine Igot 10 am and noon. Every Saturday at the Farmers and Traders’ market
URL:https://annapolisroyal.com/event/town-crier-proclamations/2026-05-09/
LOCATION:Annapolis Royal Farmer’s Market\, St George St. \, Annapolis Royal\, Nova Scotia \, B0S 1A0\, Canada
GEO:44.7410157;-65.5109883
X-APPLE-STRUCTURED-LOCATION;VALUE=URI;X-ADDRESS=Annapolis Royal Farmer’s Market St George St.  Annapolis Royal Nova Scotia  B0S 1A0 Canada;X-APPLE-RADIUS=500;X-TITLE=St George St.:geo:-65.5109883,44.7410157
END:VEVENT
BEGIN:VEVENT
DTSTART;TZID=America/Halifax:20260513T150000
DTEND;TZID=America/Halifax:20260513T160000
DTSTAMP:20260421T171828
CREATED:20250602T132103Z
LAST-MODIFIED:20260306T135451Z
UID:10006339-1778684400-1778688000@annapolisroyal.com
SUMMARY:Environmental Advisory Committee
DESCRIPTION:
URL:https://annapolisroyal.com/event/environmental-advisory-committee-2-2-2-2-2/2026-05-13/
LOCATION:Nova Scotia
CATEGORIES:Town Council Meetings
END:VEVENT
BEGIN:VEVENT
DTSTART;TZID=America/Halifax:20260516T100000
DTEND;TZID=America/Halifax:20260516T100000
DTSTAMP:20260421T171828
CREATED:20240604T112939Z
LAST-MODIFIED:20240920T173355Z
UID:10005117-1778925600-1778925600@annapolisroyal.com
SUMMARY:Town Crier proclamations
DESCRIPTION:Event proclamations by Annapolis Royal Town Crier\, Christine Igot 10 am and noon. Every Saturday at the Farmers and Traders’ market
URL:https://annapolisroyal.com/event/town-crier-proclamations/2026-05-16/
LOCATION:Annapolis Royal Farmer’s Market\, St George St. \, Annapolis Royal\, Nova Scotia \, B0S 1A0\, Canada
GEO:44.7410157;-65.5109883
X-APPLE-STRUCTURED-LOCATION;VALUE=URI;X-ADDRESS=Annapolis Royal Farmer’s Market St George St.  Annapolis Royal Nova Scotia  B0S 1A0 Canada;X-APPLE-RADIUS=500;X-TITLE=St George St.:geo:-65.5109883,44.7410157
END:VEVENT
BEGIN:VEVENT
DTSTART;TZID=America/Halifax:20260520T180000
DTEND;TZID=America/Halifax:20260520T200000
DTSTAMP:20260421T171828
CREATED:20240307T171513Z
LAST-MODIFIED:20250829T165750Z
UID:10004794-1779300000-1779307200@annapolisroyal.com
SUMMARY:Council
DESCRIPTION:
URL:https://annapolisroyal.com/event/council-4-2-3-2-3/2026-05-20/
LOCATION:Town Hall\, 285 St. George Street\, Annapolis Royal\, Nova Scotia\, B0S 1A0\, Canada
CATEGORIES:Town Council Meetings
GEO:44.7431041;-65.5191754
X-APPLE-STRUCTURED-LOCATION;VALUE=URI;X-ADDRESS=Town Hall 285 St. George Street Annapolis Royal Nova Scotia B0S 1A0 Canada;X-APPLE-RADIUS=500;X-TITLE=285 St. George Street:geo:-65.5191754,44.7431041
END:VEVENT
BEGIN:VEVENT
DTSTART;TZID=America/Halifax:20260523T100000
DTEND;TZID=America/Halifax:20260523T100000
DTSTAMP:20260421T171828
CREATED:20240604T112939Z
LAST-MODIFIED:20240920T173355Z
UID:10005118-1779530400-1779530400@annapolisroyal.com
SUMMARY:Town Crier proclamations
DESCRIPTION:Event proclamations by Annapolis Royal Town Crier\, Christine Igot 10 am and noon. Every Saturday at the Farmers and Traders’ market
URL:https://annapolisroyal.com/event/town-crier-proclamations/2026-05-23/
LOCATION:Annapolis Royal Farmer’s Market\, St George St. \, Annapolis Royal\, Nova Scotia \, B0S 1A0\, Canada
GEO:44.7410157;-65.5109883
X-APPLE-STRUCTURED-LOCATION;VALUE=URI;X-ADDRESS=Annapolis Royal Farmer’s Market St George St.  Annapolis Royal Nova Scotia  B0S 1A0 Canada;X-APPLE-RADIUS=500;X-TITLE=St George St.:geo:-65.5109883,44.7410157
END:VEVENT
BEGIN:VEVENT
DTSTART;TZID=America/Halifax:20260530T100000
DTEND;TZID=America/Halifax:20260530T100000
DTSTAMP:20260421T171828
CREATED:20240604T112939Z
LAST-MODIFIED:20240920T173355Z
UID:10005119-1780135200-1780135200@annapolisroyal.com
SUMMARY:Town Crier proclamations
DESCRIPTION:Event proclamations by Annapolis Royal Town Crier\, Christine Igot 10 am and noon. Every Saturday at the Farmers and Traders’ market
URL:https://annapolisroyal.com/event/town-crier-proclamations/2026-05-30/
LOCATION:Annapolis Royal Farmer’s Market\, St George St. \, Annapolis Royal\, Nova Scotia \, B0S 1A0\, Canada
GEO:44.7410157;-65.5109883
X-APPLE-STRUCTURED-LOCATION;VALUE=URI;X-ADDRESS=Annapolis Royal Farmer’s Market St George St.  Annapolis Royal Nova Scotia  B0S 1A0 Canada;X-APPLE-RADIUS=500;X-TITLE=St George St.:geo:-65.5109883,44.7410157
END:VEVENT
END:VCALENDAR