BEGIN:VCALENDAR
VERSION:2.0
PRODID:-//Town of Annapolis Royal - ECPv6.15.20//NONSGML v1.0//EN
CALSCALE:GREGORIAN
METHOD:PUBLISH
X-WR-CALNAME:Town of Annapolis Royal
X-ORIGINAL-URL:https://annapolisroyal.com
X-WR-CALDESC:Events for Town of Annapolis Royal
REFRESH-INTERVAL;VALUE=DURATION:PT1H
X-Robots-Tag:noindex
X-PUBLISHED-TTL:PT1H
BEGIN:VTIMEZONE
TZID:America/Halifax
BEGIN:DAYLIGHT
TZOFFSETFROM:-0400
TZOFFSETTO:-0300
TZNAME:ADT
DTSTART:20260308T060000
END:DAYLIGHT
BEGIN:STANDARD
TZOFFSETFROM:-0300
TZOFFSETTO:-0400
TZNAME:AST
DTSTART:20261101T050000
END:STANDARD
BEGIN:DAYLIGHT
TZOFFSETFROM:-0400
TZOFFSETTO:-0300
TZNAME:ADT
DTSTART:20270314T060000
END:DAYLIGHT
BEGIN:STANDARD
TZOFFSETFROM:-0300
TZOFFSETTO:-0400
TZNAME:AST
DTSTART:20271107T050000
END:STANDARD
BEGIN:DAYLIGHT
TZOFFSETFROM:-0400
TZOFFSETTO:-0300
TZNAME:ADT
DTSTART:20280312T060000
END:DAYLIGHT
BEGIN:STANDARD
TZOFFSETFROM:-0300
TZOFFSETTO:-0400
TZNAME:AST
DTSTART:20281105T050000
END:STANDARD
END:VTIMEZONE
BEGIN:VEVENT
DTSTART;TZID=America/Halifax:20270102T100000
DTEND;TZID=America/Halifax:20270102T100000
DTSTAMP:20260425T073233
CREATED:20240604T112939Z
LAST-MODIFIED:20240920T173355Z
UID:10005150-1798884000-1798884000@annapolisroyal.com
SUMMARY:Town Crier proclamations
DESCRIPTION:Event proclamations by Annapolis Royal Town Crier\, Christine Igot 10 am and noon. Every Saturday at the Farmers and Traders’ market
URL:https://annapolisroyal.com/event/town-crier-proclamations/2027-01-02/
LOCATION:Annapolis Royal Farmer’s Market\, St George St. \, Annapolis Royal\, Nova Scotia \, B0S 1A0\, Canada
GEO:44.7410157;-65.5109883
X-APPLE-STRUCTURED-LOCATION;VALUE=URI;X-ADDRESS=Annapolis Royal Farmer’s Market St George St.  Annapolis Royal Nova Scotia  B0S 1A0 Canada;X-APPLE-RADIUS=500;X-TITLE=St George St.:geo:-65.5109883,44.7410157
END:VEVENT
BEGIN:VEVENT
DTSTART;TZID=America/Halifax:20270104T160000
DTEND;TZID=America/Halifax:20270104T170000
DTSTAMP:20260425T073233
CREATED:20170108T013239Z
LAST-MODIFIED:20260311T181150Z
UID:10005811-1799078400-1799082000@annapolisroyal.com
SUMMARY:Planning and Heritage Advisory Committee
DESCRIPTION:
URL:https://annapolisroyal.com/event/planning-heritage-advisory-committee-2024-07-01/2027-01-04/
LOCATION:Town Hall\, 285 St. George Street\, Annapolis Royal\, Nova Scotia\, B0S 1A0\, Canada
CATEGORIES:Town Council Meetings
GEO:44.7431041;-65.5191754
X-APPLE-STRUCTURED-LOCATION;VALUE=URI;X-ADDRESS=Town Hall 285 St. George Street Annapolis Royal Nova Scotia B0S 1A0 Canada;X-APPLE-RADIUS=500;X-TITLE=285 St. George Street:geo:-65.5191754,44.7431041
END:VEVENT
BEGIN:VEVENT
DTSTART;TZID=America/Halifax:20270105T170000
DTEND;TZID=America/Halifax:20270105T170000
DTSTAMP:20260425T073233
CREATED:20260122T155401Z
LAST-MODIFIED:20260122T155401Z
UID:10008359-1799168400-1799168400@annapolisroyal.com
SUMMARY:Committee of the Whole Meeting
DESCRIPTION:
URL:https://annapolisroyal.com/event/committee-of-the-whole-meeting-2/2027-01-05/
LOCATION:Nova Scotia
END:VEVENT
BEGIN:VEVENT
DTSTART;TZID=America/Halifax:20270109T100000
DTEND;TZID=America/Halifax:20270109T100000
DTSTAMP:20260425T073233
CREATED:20240604T112939Z
LAST-MODIFIED:20240920T173355Z
UID:10005151-1799488800-1799488800@annapolisroyal.com
SUMMARY:Town Crier proclamations
DESCRIPTION:Event proclamations by Annapolis Royal Town Crier\, Christine Igot 10 am and noon. Every Saturday at the Farmers and Traders’ market
URL:https://annapolisroyal.com/event/town-crier-proclamations/2027-01-09/
LOCATION:Annapolis Royal Farmer’s Market\, St George St. \, Annapolis Royal\, Nova Scotia \, B0S 1A0\, Canada
GEO:44.7410157;-65.5109883
X-APPLE-STRUCTURED-LOCATION;VALUE=URI;X-ADDRESS=Annapolis Royal Farmer’s Market St George St.  Annapolis Royal Nova Scotia  B0S 1A0 Canada;X-APPLE-RADIUS=500;X-TITLE=St George St.:geo:-65.5109883,44.7410157
END:VEVENT
BEGIN:VEVENT
DTSTART;TZID=America/Halifax:20270113T150000
DTEND;TZID=America/Halifax:20270113T160000
DTSTAMP:20260425T073233
CREATED:20250602T132103Z
LAST-MODIFIED:20260306T135451Z
UID:10006347-1799852400-1799856000@annapolisroyal.com
SUMMARY:Environmental Advisory Committee
DESCRIPTION:
URL:https://annapolisroyal.com/event/environmental-advisory-committee-2-2-2-2-2/2027-01-13/
LOCATION:Nova Scotia
CATEGORIES:Town Council Meetings
END:VEVENT
BEGIN:VEVENT
DTSTART;TZID=America/Halifax:20270116T100000
DTEND;TZID=America/Halifax:20270116T100000
DTSTAMP:20260425T073233
CREATED:20240604T112939Z
LAST-MODIFIED:20240920T173355Z
UID:10005152-1800093600-1800093600@annapolisroyal.com
SUMMARY:Town Crier proclamations
DESCRIPTION:Event proclamations by Annapolis Royal Town Crier\, Christine Igot 10 am and noon. Every Saturday at the Farmers and Traders’ market
URL:https://annapolisroyal.com/event/town-crier-proclamations/2027-01-16/
LOCATION:Annapolis Royal Farmer’s Market\, St George St. \, Annapolis Royal\, Nova Scotia \, B0S 1A0\, Canada
GEO:44.7410157;-65.5109883
X-APPLE-STRUCTURED-LOCATION;VALUE=URI;X-ADDRESS=Annapolis Royal Farmer’s Market St George St.  Annapolis Royal Nova Scotia  B0S 1A0 Canada;X-APPLE-RADIUS=500;X-TITLE=St George St.:geo:-65.5109883,44.7410157
END:VEVENT
BEGIN:VEVENT
DTSTART;TZID=America/Halifax:20270120T180000
DTEND;TZID=America/Halifax:20270120T200000
DTSTAMP:20260425T073233
CREATED:20240307T171513Z
LAST-MODIFIED:20250829T165750Z
UID:10004802-1800468000-1800475200@annapolisroyal.com
SUMMARY:Council
DESCRIPTION:
URL:https://annapolisroyal.com/event/council-4-2-3-2-3/2027-01-20/
LOCATION:Town Hall\, 285 St. George Street\, Annapolis Royal\, Nova Scotia\, B0S 1A0\, Canada
CATEGORIES:Town Council Meetings
GEO:44.7431041;-65.5191754
X-APPLE-STRUCTURED-LOCATION;VALUE=URI;X-ADDRESS=Town Hall 285 St. George Street Annapolis Royal Nova Scotia B0S 1A0 Canada;X-APPLE-RADIUS=500;X-TITLE=285 St. George Street:geo:-65.5191754,44.7431041
END:VEVENT
BEGIN:VEVENT
DTSTART;TZID=America/Halifax:20270123T100000
DTEND;TZID=America/Halifax:20270123T100000
DTSTAMP:20260425T073233
CREATED:20240604T112939Z
LAST-MODIFIED:20240920T173355Z
UID:10005153-1800698400-1800698400@annapolisroyal.com
SUMMARY:Town Crier proclamations
DESCRIPTION:Event proclamations by Annapolis Royal Town Crier\, Christine Igot 10 am and noon. Every Saturday at the Farmers and Traders’ market
URL:https://annapolisroyal.com/event/town-crier-proclamations/2027-01-23/
LOCATION:Annapolis Royal Farmer’s Market\, St George St. \, Annapolis Royal\, Nova Scotia \, B0S 1A0\, Canada
GEO:44.7410157;-65.5109883
X-APPLE-STRUCTURED-LOCATION;VALUE=URI;X-ADDRESS=Annapolis Royal Farmer’s Market St George St.  Annapolis Royal Nova Scotia  B0S 1A0 Canada;X-APPLE-RADIUS=500;X-TITLE=St George St.:geo:-65.5109883,44.7410157
END:VEVENT
BEGIN:VEVENT
DTSTART;TZID=America/Halifax:20270130T100000
DTEND;TZID=America/Halifax:20270130T100000
DTSTAMP:20260425T073233
CREATED:20240604T112939Z
LAST-MODIFIED:20240920T173355Z
UID:10005154-1801303200-1801303200@annapolisroyal.com
SUMMARY:Town Crier proclamations
DESCRIPTION:Event proclamations by Annapolis Royal Town Crier\, Christine Igot 10 am and noon. Every Saturday at the Farmers and Traders’ market
URL:https://annapolisroyal.com/event/town-crier-proclamations/2027-01-30/
LOCATION:Annapolis Royal Farmer’s Market\, St George St. \, Annapolis Royal\, Nova Scotia \, B0S 1A0\, Canada
GEO:44.7410157;-65.5109883
X-APPLE-STRUCTURED-LOCATION;VALUE=URI;X-ADDRESS=Annapolis Royal Farmer’s Market St George St.  Annapolis Royal Nova Scotia  B0S 1A0 Canada;X-APPLE-RADIUS=500;X-TITLE=St George St.:geo:-65.5109883,44.7410157
END:VEVENT
END:VCALENDAR