BEGIN:VCALENDAR
VERSION:2.0
PRODID:-//Town of Annapolis Royal - ECPv6.15.20//NONSGML v1.0//EN
CALSCALE:GREGORIAN
METHOD:PUBLISH
X-WR-CALNAME:Town of Annapolis Royal
X-ORIGINAL-URL:https://annapolisroyal.com
X-WR-CALDESC:Events for Town of Annapolis Royal
REFRESH-INTERVAL;VALUE=DURATION:PT1H
X-Robots-Tag:noindex
X-PUBLISHED-TTL:PT1H
BEGIN:VTIMEZONE
TZID:America/Halifax
BEGIN:DAYLIGHT
TZOFFSETFROM:-0400
TZOFFSETTO:-0300
TZNAME:ADT
DTSTART:20260308T060000
END:DAYLIGHT
BEGIN:STANDARD
TZOFFSETFROM:-0300
TZOFFSETTO:-0400
TZNAME:AST
DTSTART:20261101T050000
END:STANDARD
BEGIN:DAYLIGHT
TZOFFSETFROM:-0400
TZOFFSETTO:-0300
TZNAME:ADT
DTSTART:20270314T060000
END:DAYLIGHT
BEGIN:STANDARD
TZOFFSETFROM:-0300
TZOFFSETTO:-0400
TZNAME:AST
DTSTART:20271107T050000
END:STANDARD
BEGIN:DAYLIGHT
TZOFFSETFROM:-0400
TZOFFSETTO:-0300
TZNAME:ADT
DTSTART:20280312T060000
END:DAYLIGHT
BEGIN:STANDARD
TZOFFSETFROM:-0300
TZOFFSETTO:-0400
TZNAME:AST
DTSTART:20281105T050000
END:STANDARD
END:VTIMEZONE
BEGIN:VEVENT
DTSTART;TZID=America/Halifax:20270301T160000
DTEND;TZID=America/Halifax:20270301T170000
DTSTAMP:20260425T104140
CREATED:20170108T013239Z
LAST-MODIFIED:20260311T181150Z
UID:10005813-1803916800-1803920400@annapolisroyal.com
SUMMARY:Planning and Heritage Advisory Committee
DESCRIPTION:
URL:https://annapolisroyal.com/event/planning-heritage-advisory-committee-2024-07-01/2027-03-01/
LOCATION:Town Hall\, 285 St. George Street\, Annapolis Royal\, Nova Scotia\, B0S 1A0\, Canada
CATEGORIES:Town Council Meetings
GEO:44.7431041;-65.5191754
X-APPLE-STRUCTURED-LOCATION;VALUE=URI;X-ADDRESS=Town Hall 285 St. George Street Annapolis Royal Nova Scotia B0S 1A0 Canada;X-APPLE-RADIUS=500;X-TITLE=285 St. George Street:geo:-65.5191754,44.7431041
END:VEVENT
BEGIN:VEVENT
DTSTART;TZID=America/Halifax:20270302T170000
DTEND;TZID=America/Halifax:20270302T170000
DTSTAMP:20260425T104140
CREATED:20260122T155401Z
LAST-MODIFIED:20260122T155401Z
UID:10008361-1804006800-1804006800@annapolisroyal.com
SUMMARY:Committee of the Whole Meeting
DESCRIPTION:
URL:https://annapolisroyal.com/event/committee-of-the-whole-meeting-2/2027-03-02/
LOCATION:Nova Scotia
END:VEVENT
BEGIN:VEVENT
DTSTART;TZID=America/Halifax:20270306T100000
DTEND;TZID=America/Halifax:20270306T100000
DTSTAMP:20260425T104140
CREATED:20240604T112939Z
LAST-MODIFIED:20240920T173355Z
UID:10005159-1804327200-1804327200@annapolisroyal.com
SUMMARY:Town Crier proclamations
DESCRIPTION:Event proclamations by Annapolis Royal Town Crier\, Christine Igot 10 am and noon. Every Saturday at the Farmers and Traders’ market
URL:https://annapolisroyal.com/event/town-crier-proclamations/2027-03-06/
LOCATION:Annapolis Royal Farmer’s Market\, St George St. \, Annapolis Royal\, Nova Scotia \, B0S 1A0\, Canada
GEO:44.7410157;-65.5109883
X-APPLE-STRUCTURED-LOCATION;VALUE=URI;X-ADDRESS=Annapolis Royal Farmer’s Market St George St.  Annapolis Royal Nova Scotia  B0S 1A0 Canada;X-APPLE-RADIUS=500;X-TITLE=St George St.:geo:-65.5109883,44.7410157
END:VEVENT
BEGIN:VEVENT
DTSTART;TZID=America/Halifax:20270310T100000
DTEND;TZID=America/Halifax:20270310T120000
DTSTAMP:20260425T104140
CREATED:20240412T114932Z
LAST-MODIFIED:20260401T174144Z
UID:10004526-1804672800-1804680000@annapolisroyal.com
SUMMARY:Board of Police Commissioners Meeting
DESCRIPTION:
URL:https://annapolisroyal.com/event/board-of-police-commissioners-meeting-2024-01-10-2/2027-03-10/
LOCATION:Nova Scotia
CATEGORIES:Events and Attractions,Town Council Meetings
END:VEVENT
BEGIN:VEVENT
DTSTART;TZID=America/Halifax:20270310T150000
DTEND;TZID=America/Halifax:20270310T160000
DTSTAMP:20260425T104140
CREATED:20250602T132103Z
LAST-MODIFIED:20260306T135451Z
UID:10006349-1804690800-1804694400@annapolisroyal.com
SUMMARY:Environmental Advisory Committee
DESCRIPTION:
URL:https://annapolisroyal.com/event/environmental-advisory-committee-2-2-2-2-2/2027-03-10/
LOCATION:Nova Scotia
CATEGORIES:Town Council Meetings
END:VEVENT
BEGIN:VEVENT
DTSTART;TZID=America/Halifax:20270313T100000
DTEND;TZID=America/Halifax:20270313T100000
DTSTAMP:20260425T104140
CREATED:20240604T112939Z
LAST-MODIFIED:20240920T173355Z
UID:10005160-1804932000-1804932000@annapolisroyal.com
SUMMARY:Town Crier proclamations
DESCRIPTION:Event proclamations by Annapolis Royal Town Crier\, Christine Igot 10 am and noon. Every Saturday at the Farmers and Traders’ market
URL:https://annapolisroyal.com/event/town-crier-proclamations/2027-03-13/
LOCATION:Annapolis Royal Farmer’s Market\, St George St. \, Annapolis Royal\, Nova Scotia \, B0S 1A0\, Canada
GEO:44.7410157;-65.5109883
X-APPLE-STRUCTURED-LOCATION;VALUE=URI;X-ADDRESS=Annapolis Royal Farmer’s Market St George St.  Annapolis Royal Nova Scotia  B0S 1A0 Canada;X-APPLE-RADIUS=500;X-TITLE=St George St.:geo:-65.5109883,44.7410157
END:VEVENT
BEGIN:VEVENT
DTSTART;TZID=America/Halifax:20270317T180000
DTEND;TZID=America/Halifax:20270317T200000
DTSTAMP:20260425T104140
CREATED:20240307T171513Z
LAST-MODIFIED:20250829T165750Z
UID:10004804-1805306400-1805313600@annapolisroyal.com
SUMMARY:Council
DESCRIPTION:
URL:https://annapolisroyal.com/event/council-4-2-3-2-3/2027-03-17/
LOCATION:Town Hall\, 285 St. George Street\, Annapolis Royal\, Nova Scotia\, B0S 1A0\, Canada
CATEGORIES:Town Council Meetings
GEO:44.7431041;-65.5191754
X-APPLE-STRUCTURED-LOCATION;VALUE=URI;X-ADDRESS=Town Hall 285 St. George Street Annapolis Royal Nova Scotia B0S 1A0 Canada;X-APPLE-RADIUS=500;X-TITLE=285 St. George Street:geo:-65.5191754,44.7431041
END:VEVENT
BEGIN:VEVENT
DTSTART;TZID=America/Halifax:20270320T100000
DTEND;TZID=America/Halifax:20270320T100000
DTSTAMP:20260425T104140
CREATED:20240604T112939Z
LAST-MODIFIED:20240920T173355Z
UID:10005161-1805536800-1805536800@annapolisroyal.com
SUMMARY:Town Crier proclamations
DESCRIPTION:Event proclamations by Annapolis Royal Town Crier\, Christine Igot 10 am and noon. Every Saturday at the Farmers and Traders’ market
URL:https://annapolisroyal.com/event/town-crier-proclamations/2027-03-20/
LOCATION:Annapolis Royal Farmer’s Market\, St George St. \, Annapolis Royal\, Nova Scotia \, B0S 1A0\, Canada
GEO:44.7410157;-65.5109883
X-APPLE-STRUCTURED-LOCATION;VALUE=URI;X-ADDRESS=Annapolis Royal Farmer’s Market St George St.  Annapolis Royal Nova Scotia  B0S 1A0 Canada;X-APPLE-RADIUS=500;X-TITLE=St George St.:geo:-65.5109883,44.7410157
END:VEVENT
BEGIN:VEVENT
DTSTART;TZID=America/Halifax:20270327T100000
DTEND;TZID=America/Halifax:20270327T100000
DTSTAMP:20260425T104140
CREATED:20240604T112939Z
LAST-MODIFIED:20240920T173355Z
UID:10005162-1806141600-1806141600@annapolisroyal.com
SUMMARY:Town Crier proclamations
DESCRIPTION:Event proclamations by Annapolis Royal Town Crier\, Christine Igot 10 am and noon. Every Saturday at the Farmers and Traders’ market
URL:https://annapolisroyal.com/event/town-crier-proclamations/2027-03-27/
LOCATION:Annapolis Royal Farmer’s Market\, St George St. \, Annapolis Royal\, Nova Scotia \, B0S 1A0\, Canada
GEO:44.7410157;-65.5109883
X-APPLE-STRUCTURED-LOCATION;VALUE=URI;X-ADDRESS=Annapolis Royal Farmer’s Market St George St.  Annapolis Royal Nova Scotia  B0S 1A0 Canada;X-APPLE-RADIUS=500;X-TITLE=St George St.:geo:-65.5109883,44.7410157
END:VEVENT
END:VCALENDAR