BEGIN:VCALENDAR
VERSION:2.0
PRODID:-//Town of Annapolis Royal - ECPv6.15.20//NONSGML v1.0//EN
CALSCALE:GREGORIAN
METHOD:PUBLISH
X-WR-CALNAME:Town of Annapolis Royal
X-ORIGINAL-URL:https://annapolisroyal.com
X-WR-CALDESC:Events for Town of Annapolis Royal
REFRESH-INTERVAL;VALUE=DURATION:PT1H
X-Robots-Tag:noindex
X-PUBLISHED-TTL:PT1H
BEGIN:VTIMEZONE
TZID:America/Halifax
BEGIN:DAYLIGHT
TZOFFSETFROM:-0400
TZOFFSETTO:-0300
TZNAME:ADT
DTSTART:20250309T060000
END:DAYLIGHT
BEGIN:STANDARD
TZOFFSETFROM:-0300
TZOFFSETTO:-0400
TZNAME:AST
DTSTART:20251102T050000
END:STANDARD
BEGIN:DAYLIGHT
TZOFFSETFROM:-0400
TZOFFSETTO:-0300
TZNAME:ADT
DTSTART:20260308T060000
END:DAYLIGHT
BEGIN:STANDARD
TZOFFSETFROM:-0300
TZOFFSETTO:-0400
TZNAME:AST
DTSTART:20261101T050000
END:STANDARD
BEGIN:DAYLIGHT
TZOFFSETFROM:-0400
TZOFFSETTO:-0300
TZNAME:ADT
DTSTART:20270314T060000
END:DAYLIGHT
BEGIN:STANDARD
TZOFFSETFROM:-0300
TZOFFSETTO:-0400
TZNAME:AST
DTSTART:20271107T050000
END:STANDARD
END:VTIMEZONE
BEGIN:VEVENT
DTSTART;TZID=America/Halifax:20260425T193000
DTEND;TZID=America/Halifax:20260425T193000
DTSTAMP:20260421T084513
CREATED:20260420T122916Z
LAST-MODIFIED:20260420T122916Z
UID:10008670-1777145400-1777145400@annapolisroyal.com
SUMMARY:King’s Theatre: The Phoenix Showcase
DESCRIPTION:Annapolis District Drama Group. Family friendly. Skits\, dance and lots of laughs!
URL:https://annapolisroyal.com/event/kings-theatre-the-phoenix-showcase-3/2026-04-25/
LOCATION:King’s Theatre\, 209 St. George Street\, Annapolis Royal\, Nova Scotia\, B0S 1A0\, Canada
GEO:44.7453104;-65.5187667
X-APPLE-STRUCTURED-LOCATION;VALUE=URI;X-ADDRESS=King’s Theatre 209 St. George Street Annapolis Royal Nova Scotia B0S 1A0 Canada;X-APPLE-RADIUS=500;X-TITLE=209 St. George Street:geo:-65.5187667,44.7453104
END:VEVENT
BEGIN:VEVENT
DTSTART;TZID=America/Halifax:20260426T150000
DTEND;TZID=America/Halifax:20260426T150000
DTSTAMP:20260421T084513
CREATED:20260420T122916Z
LAST-MODIFIED:20260420T122916Z
UID:10008671-1777215600-1777215600@annapolisroyal.com
SUMMARY:King’s Theatre: The Phoenix Showcase
DESCRIPTION:Annapolis District Drama Group. Family friendly. Skits\, dance and lots of laughs!
URL:https://annapolisroyal.com/event/kings-theatre-the-phoenix-showcase-3/2026-04-26/
LOCATION:King’s Theatre\, 209 St. George Street\, Annapolis Royal\, Nova Scotia\, B0S 1A0\, Canada
GEO:44.7453104;-65.5187667
X-APPLE-STRUCTURED-LOCATION;VALUE=URI;X-ADDRESS=King’s Theatre 209 St. George Street Annapolis Royal Nova Scotia B0S 1A0 Canada;X-APPLE-RADIUS=500;X-TITLE=209 St. George Street:geo:-65.5187667,44.7453104
END:VEVENT
END:VCALENDAR