BEGIN:VCALENDAR
VERSION:2.0
PRODID:-//Town of Annapolis Royal - ECPv6.15.20//NONSGML v1.0//EN
CALSCALE:GREGORIAN
METHOD:PUBLISH
X-WR-CALNAME:Town of Annapolis Royal
X-ORIGINAL-URL:https://annapolisroyal.com
X-WR-CALDESC:Events for Town of Annapolis Royal
REFRESH-INTERVAL;VALUE=DURATION:PT1H
X-Robots-Tag:noindex
X-PUBLISHED-TTL:PT1H
BEGIN:VTIMEZONE
TZID:America/Halifax
BEGIN:DAYLIGHT
TZOFFSETFROM:-0400
TZOFFSETTO:-0300
TZNAME:ADT
DTSTART:20230312T060000
END:DAYLIGHT
BEGIN:STANDARD
TZOFFSETFROM:-0300
TZOFFSETTO:-0400
TZNAME:AST
DTSTART:20231105T050000
END:STANDARD
BEGIN:DAYLIGHT
TZOFFSETFROM:-0400
TZOFFSETTO:-0300
TZNAME:ADT
DTSTART:20240310T060000
END:DAYLIGHT
BEGIN:STANDARD
TZOFFSETFROM:-0300
TZOFFSETTO:-0400
TZNAME:AST
DTSTART:20241103T050000
END:STANDARD
BEGIN:DAYLIGHT
TZOFFSETFROM:-0400
TZOFFSETTO:-0300
TZNAME:ADT
DTSTART:20250309T060000
END:DAYLIGHT
BEGIN:STANDARD
TZOFFSETFROM:-0300
TZOFFSETTO:-0400
TZNAME:AST
DTSTART:20251102T050000
END:STANDARD
END:VTIMEZONE
BEGIN:VEVENT
DTSTART;TZID=America/Halifax:20240825T100000
DTEND;TZID=America/Halifax:20240825T140000
DTSTAMP:20260422T081249
CREATED:20240806T181251Z
LAST-MODIFIED:20240806T183643Z
UID:10005592-1724580000-1724594400@annapolisroyal.com
SUMMARY:8th Annual Forest Market
DESCRIPTION:Come support local businesses\, organizations and artisans! The Forest Market aims to showcase local talent\, traditions\, artists\, producers\, foragers\, and nature organizations around a diversity of values stemming from the woods. The aim of this market is to not only feature wonderful local vendors\, but also to increase awareness for non-timber forest products and value-added wood products. You can expect to find a wide variety of vendors at the 2024 Forest Market\, from talented local woodworkers\, maple syrup producers\, woven Ash baskets\, naturally dyed apparel\, prints\, jewelry\, art\, housewares\, and more!
URL:https://annapolisroyal.com/event/8th-annual-forest-market/
LOCATION:Annapolis Royal Farmer’s Market\, St George St. \, Annapolis Royal\, Nova Scotia \, B0S 1A0\, Canada
ATTACH;FMTTYPE=image/jpeg:https://annapolisroyal.com/wp-content/uploads/2024/08/Forest-Martket-WEB.green_-scaled.jpg
ORGANIZER;CN="Medway Community Forest Co-operative":MAILTO:info@medwaycommunityforest.com
GEO:44.7410157;-65.5109883
X-APPLE-STRUCTURED-LOCATION;VALUE=URI;X-ADDRESS=Annapolis Royal Farmer’s Market St George St.  Annapolis Royal Nova Scotia  B0S 1A0 Canada;X-APPLE-RADIUS=500;X-TITLE=St George St.:geo:-65.5109883,44.7410157
END:VEVENT
END:VCALENDAR