BEGIN:VCALENDAR
VERSION:2.0
PRODID:-//Town of Annapolis Royal - ECPv6.15.20//NONSGML v1.0//EN
CALSCALE:GREGORIAN
METHOD:PUBLISH
X-WR-CALNAME:Town of Annapolis Royal
X-ORIGINAL-URL:https://annapolisroyal.com
X-WR-CALDESC:Events for Town of Annapolis Royal
REFRESH-INTERVAL;VALUE=DURATION:PT1H
X-Robots-Tag:noindex
X-PUBLISHED-TTL:PT1H
BEGIN:VTIMEZONE
TZID:America/Halifax
BEGIN:DAYLIGHT
TZOFFSETFROM:-0400
TZOFFSETTO:-0300
TZNAME:ADT
DTSTART:20270314T060000
END:DAYLIGHT
BEGIN:STANDARD
TZOFFSETFROM:-0300
TZOFFSETTO:-0400
TZNAME:AST
DTSTART:20271107T050000
END:STANDARD
BEGIN:DAYLIGHT
TZOFFSETFROM:-0400
TZOFFSETTO:-0300
TZNAME:ADT
DTSTART:20280312T060000
END:DAYLIGHT
BEGIN:STANDARD
TZOFFSETFROM:-0300
TZOFFSETTO:-0400
TZNAME:AST
DTSTART:20281105T050000
END:STANDARD
BEGIN:DAYLIGHT
TZOFFSETFROM:-0400
TZOFFSETTO:-0300
TZNAME:ADT
DTSTART:20290311T060000
END:DAYLIGHT
BEGIN:STANDARD
TZOFFSETFROM:-0300
TZOFFSETTO:-0400
TZNAME:AST
DTSTART:20291104T050000
END:STANDARD
END:VTIMEZONE
BEGIN:VEVENT
DTSTART;TZID=America/Halifax:20280325T100000
DTEND;TZID=America/Halifax:20280325T100000
DTSTAMP:20260422T125035
CREATED:20240604T112939Z
LAST-MODIFIED:20240920T173355Z
UID:10005214-1837591200-1837591200@annapolisroyal.com
SUMMARY:Town Crier proclamations
DESCRIPTION:Event proclamations by Annapolis Royal Town Crier\, Christine Igot 10 am and noon. Every Saturday at the Farmers and Traders’ market
URL:https://annapolisroyal.com/event/town-crier-proclamations/2028-03-25/
LOCATION:Annapolis Royal Farmer’s Market\, St George St. \, Annapolis Royal\, Nova Scotia \, B0S 1A0\, Canada
GEO:44.7410157;-65.5109883
X-APPLE-STRUCTURED-LOCATION;VALUE=URI;X-ADDRESS=Annapolis Royal Farmer’s Market St George St.  Annapolis Royal Nova Scotia  B0S 1A0 Canada;X-APPLE-RADIUS=500;X-TITLE=St George St.:geo:-65.5109883,44.7410157
END:VEVENT
BEGIN:VEVENT
DTSTART;TZID=America/Halifax:20280401T100000
DTEND;TZID=America/Halifax:20280401T100000
DTSTAMP:20260422T125035
CREATED:20240604T112939Z
LAST-MODIFIED:20240920T173355Z
UID:10005215-1838196000-1838196000@annapolisroyal.com
SUMMARY:Town Crier proclamations
DESCRIPTION:Event proclamations by Annapolis Royal Town Crier\, Christine Igot 10 am and noon. Every Saturday at the Farmers and Traders’ market
URL:https://annapolisroyal.com/event/town-crier-proclamations/2028-04-01/
LOCATION:Annapolis Royal Farmer’s Market\, St George St. \, Annapolis Royal\, Nova Scotia \, B0S 1A0\, Canada
GEO:44.7410157;-65.5109883
X-APPLE-STRUCTURED-LOCATION;VALUE=URI;X-ADDRESS=Annapolis Royal Farmer’s Market St George St.  Annapolis Royal Nova Scotia  B0S 1A0 Canada;X-APPLE-RADIUS=500;X-TITLE=St George St.:geo:-65.5109883,44.7410157
END:VEVENT
BEGIN:VEVENT
DTSTART;TZID=America/Halifax:20280408T100000
DTEND;TZID=America/Halifax:20280408T100000
DTSTAMP:20260422T125035
CREATED:20240604T112939Z
LAST-MODIFIED:20240920T173355Z
UID:10005216-1838800800-1838800800@annapolisroyal.com
SUMMARY:Town Crier proclamations
DESCRIPTION:Event proclamations by Annapolis Royal Town Crier\, Christine Igot 10 am and noon. Every Saturday at the Farmers and Traders’ market
URL:https://annapolisroyal.com/event/town-crier-proclamations/2028-04-08/
LOCATION:Annapolis Royal Farmer’s Market\, St George St. \, Annapolis Royal\, Nova Scotia \, B0S 1A0\, Canada
GEO:44.7410157;-65.5109883
X-APPLE-STRUCTURED-LOCATION;VALUE=URI;X-ADDRESS=Annapolis Royal Farmer’s Market St George St.  Annapolis Royal Nova Scotia  B0S 1A0 Canada;X-APPLE-RADIUS=500;X-TITLE=St George St.:geo:-65.5109883,44.7410157
END:VEVENT
BEGIN:VEVENT
DTSTART;TZID=America/Halifax:20280415T100000
DTEND;TZID=America/Halifax:20280415T100000
DTSTAMP:20260422T125035
CREATED:20240604T112939Z
LAST-MODIFIED:20240920T173355Z
UID:10005217-1839405600-1839405600@annapolisroyal.com
SUMMARY:Town Crier proclamations
DESCRIPTION:Event proclamations by Annapolis Royal Town Crier\, Christine Igot 10 am and noon. Every Saturday at the Farmers and Traders’ market
URL:https://annapolisroyal.com/event/town-crier-proclamations/2028-04-15/
LOCATION:Annapolis Royal Farmer’s Market\, St George St. \, Annapolis Royal\, Nova Scotia \, B0S 1A0\, Canada
GEO:44.7410157;-65.5109883
X-APPLE-STRUCTURED-LOCATION;VALUE=URI;X-ADDRESS=Annapolis Royal Farmer’s Market St George St.  Annapolis Royal Nova Scotia  B0S 1A0 Canada;X-APPLE-RADIUS=500;X-TITLE=St George St.:geo:-65.5109883,44.7410157
END:VEVENT
BEGIN:VEVENT
DTSTART;TZID=America/Halifax:20280422T100000
DTEND;TZID=America/Halifax:20280422T100000
DTSTAMP:20260422T125035
CREATED:20240604T112939Z
LAST-MODIFIED:20240920T173355Z
UID:10005218-1840010400-1840010400@annapolisroyal.com
SUMMARY:Town Crier proclamations
DESCRIPTION:Event proclamations by Annapolis Royal Town Crier\, Christine Igot 10 am and noon. Every Saturday at the Farmers and Traders’ market
URL:https://annapolisroyal.com/event/town-crier-proclamations/2028-04-22/
LOCATION:Annapolis Royal Farmer’s Market\, St George St. \, Annapolis Royal\, Nova Scotia \, B0S 1A0\, Canada
GEO:44.7410157;-65.5109883
X-APPLE-STRUCTURED-LOCATION;VALUE=URI;X-ADDRESS=Annapolis Royal Farmer’s Market St George St.  Annapolis Royal Nova Scotia  B0S 1A0 Canada;X-APPLE-RADIUS=500;X-TITLE=St George St.:geo:-65.5109883,44.7410157
END:VEVENT
BEGIN:VEVENT
DTSTART;TZID=America/Halifax:20280429T100000
DTEND;TZID=America/Halifax:20280429T100000
DTSTAMP:20260422T125035
CREATED:20240604T112939Z
LAST-MODIFIED:20240920T173355Z
UID:10005219-1840615200-1840615200@annapolisroyal.com
SUMMARY:Town Crier proclamations
DESCRIPTION:Event proclamations by Annapolis Royal Town Crier\, Christine Igot 10 am and noon. Every Saturday at the Farmers and Traders’ market
URL:https://annapolisroyal.com/event/town-crier-proclamations/2028-04-29/
LOCATION:Annapolis Royal Farmer’s Market\, St George St. \, Annapolis Royal\, Nova Scotia \, B0S 1A0\, Canada
GEO:44.7410157;-65.5109883
X-APPLE-STRUCTURED-LOCATION;VALUE=URI;X-ADDRESS=Annapolis Royal Farmer’s Market St George St.  Annapolis Royal Nova Scotia  B0S 1A0 Canada;X-APPLE-RADIUS=500;X-TITLE=St George St.:geo:-65.5109883,44.7410157
END:VEVENT
BEGIN:VEVENT
DTSTART;TZID=America/Halifax:20280506T100000
DTEND;TZID=America/Halifax:20280506T100000
DTSTAMP:20260422T125035
CREATED:20240604T112939Z
LAST-MODIFIED:20240920T173355Z
UID:10005220-1841220000-1841220000@annapolisroyal.com
SUMMARY:Town Crier proclamations
DESCRIPTION:Event proclamations by Annapolis Royal Town Crier\, Christine Igot 10 am and noon. Every Saturday at the Farmers and Traders’ market
URL:https://annapolisroyal.com/event/town-crier-proclamations/2028-05-06/
LOCATION:Annapolis Royal Farmer’s Market\, St George St. \, Annapolis Royal\, Nova Scotia \, B0S 1A0\, Canada
GEO:44.7410157;-65.5109883
X-APPLE-STRUCTURED-LOCATION;VALUE=URI;X-ADDRESS=Annapolis Royal Farmer’s Market St George St.  Annapolis Royal Nova Scotia  B0S 1A0 Canada;X-APPLE-RADIUS=500;X-TITLE=St George St.:geo:-65.5109883,44.7410157
END:VEVENT
BEGIN:VEVENT
DTSTART;TZID=America/Halifax:20280513T100000
DTEND;TZID=America/Halifax:20280513T100000
DTSTAMP:20260422T125035
CREATED:20240604T112939Z
LAST-MODIFIED:20240920T173355Z
UID:10005221-1841824800-1841824800@annapolisroyal.com
SUMMARY:Town Crier proclamations
DESCRIPTION:Event proclamations by Annapolis Royal Town Crier\, Christine Igot 10 am and noon. Every Saturday at the Farmers and Traders’ market
URL:https://annapolisroyal.com/event/town-crier-proclamations/2028-05-13/
LOCATION:Annapolis Royal Farmer’s Market\, St George St. \, Annapolis Royal\, Nova Scotia \, B0S 1A0\, Canada
GEO:44.7410157;-65.5109883
X-APPLE-STRUCTURED-LOCATION;VALUE=URI;X-ADDRESS=Annapolis Royal Farmer’s Market St George St.  Annapolis Royal Nova Scotia  B0S 1A0 Canada;X-APPLE-RADIUS=500;X-TITLE=St George St.:geo:-65.5109883,44.7410157
END:VEVENT
BEGIN:VEVENT
DTSTART;TZID=America/Halifax:20280520T100000
DTEND;TZID=America/Halifax:20280520T100000
DTSTAMP:20260422T125035
CREATED:20240604T112939Z
LAST-MODIFIED:20240920T173355Z
UID:10005222-1842429600-1842429600@annapolisroyal.com
SUMMARY:Town Crier proclamations
DESCRIPTION:Event proclamations by Annapolis Royal Town Crier\, Christine Igot 10 am and noon. Every Saturday at the Farmers and Traders’ market
URL:https://annapolisroyal.com/event/town-crier-proclamations/2028-05-20/
LOCATION:Annapolis Royal Farmer’s Market\, St George St. \, Annapolis Royal\, Nova Scotia \, B0S 1A0\, Canada
GEO:44.7410157;-65.5109883
X-APPLE-STRUCTURED-LOCATION;VALUE=URI;X-ADDRESS=Annapolis Royal Farmer’s Market St George St.  Annapolis Royal Nova Scotia  B0S 1A0 Canada;X-APPLE-RADIUS=500;X-TITLE=St George St.:geo:-65.5109883,44.7410157
END:VEVENT
BEGIN:VEVENT
DTSTART;TZID=America/Halifax:20280527T100000
DTEND;TZID=America/Halifax:20280527T100000
DTSTAMP:20260422T125035
CREATED:20240604T112939Z
LAST-MODIFIED:20240920T173355Z
UID:10005223-1843034400-1843034400@annapolisroyal.com
SUMMARY:Town Crier proclamations
DESCRIPTION:Event proclamations by Annapolis Royal Town Crier\, Christine Igot 10 am and noon. Every Saturday at the Farmers and Traders’ market
URL:https://annapolisroyal.com/event/town-crier-proclamations/2028-05-27/
LOCATION:Annapolis Royal Farmer’s Market\, St George St. \, Annapolis Royal\, Nova Scotia \, B0S 1A0\, Canada
GEO:44.7410157;-65.5109883
X-APPLE-STRUCTURED-LOCATION;VALUE=URI;X-ADDRESS=Annapolis Royal Farmer’s Market St George St.  Annapolis Royal Nova Scotia  B0S 1A0 Canada;X-APPLE-RADIUS=500;X-TITLE=St George St.:geo:-65.5109883,44.7410157
END:VEVENT
BEGIN:VEVENT
DTSTART;TZID=America/Halifax:20280603T100000
DTEND;TZID=America/Halifax:20280603T100000
DTSTAMP:20260422T125035
CREATED:20240604T112939Z
LAST-MODIFIED:20240920T173355Z
UID:10005224-1843639200-1843639200@annapolisroyal.com
SUMMARY:Town Crier proclamations
DESCRIPTION:Event proclamations by Annapolis Royal Town Crier\, Christine Igot 10 am and noon. Every Saturday at the Farmers and Traders’ market
URL:https://annapolisroyal.com/event/town-crier-proclamations/2028-06-03/
LOCATION:Annapolis Royal Farmer’s Market\, St George St. \, Annapolis Royal\, Nova Scotia \, B0S 1A0\, Canada
GEO:44.7410157;-65.5109883
X-APPLE-STRUCTURED-LOCATION;VALUE=URI;X-ADDRESS=Annapolis Royal Farmer’s Market St George St.  Annapolis Royal Nova Scotia  B0S 1A0 Canada;X-APPLE-RADIUS=500;X-TITLE=St George St.:geo:-65.5109883,44.7410157
END:VEVENT
BEGIN:VEVENT
DTSTART;TZID=America/Halifax:20280610T100000
DTEND;TZID=America/Halifax:20280610T100000
DTSTAMP:20260422T125035
CREATED:20240604T112939Z
LAST-MODIFIED:20240920T173355Z
UID:10005225-1844244000-1844244000@annapolisroyal.com
SUMMARY:Town Crier proclamations
DESCRIPTION:Event proclamations by Annapolis Royal Town Crier\, Christine Igot 10 am and noon. Every Saturday at the Farmers and Traders’ market
URL:https://annapolisroyal.com/event/town-crier-proclamations/2028-06-10/
LOCATION:Annapolis Royal Farmer’s Market\, St George St. \, Annapolis Royal\, Nova Scotia \, B0S 1A0\, Canada
GEO:44.7410157;-65.5109883
X-APPLE-STRUCTURED-LOCATION;VALUE=URI;X-ADDRESS=Annapolis Royal Farmer’s Market St George St.  Annapolis Royal Nova Scotia  B0S 1A0 Canada;X-APPLE-RADIUS=500;X-TITLE=St George St.:geo:-65.5109883,44.7410157
END:VEVENT
BEGIN:VEVENT
DTSTART;TZID=America/Halifax:20280617T100000
DTEND;TZID=America/Halifax:20280617T100000
DTSTAMP:20260422T125035
CREATED:20240604T112939Z
LAST-MODIFIED:20240920T173355Z
UID:10005226-1844848800-1844848800@annapolisroyal.com
SUMMARY:Town Crier proclamations
DESCRIPTION:Event proclamations by Annapolis Royal Town Crier\, Christine Igot 10 am and noon. Every Saturday at the Farmers and Traders’ market
URL:https://annapolisroyal.com/event/town-crier-proclamations/2028-06-17/
LOCATION:Annapolis Royal Farmer’s Market\, St George St. \, Annapolis Royal\, Nova Scotia \, B0S 1A0\, Canada
GEO:44.7410157;-65.5109883
X-APPLE-STRUCTURED-LOCATION;VALUE=URI;X-ADDRESS=Annapolis Royal Farmer’s Market St George St.  Annapolis Royal Nova Scotia  B0S 1A0 Canada;X-APPLE-RADIUS=500;X-TITLE=St George St.:geo:-65.5109883,44.7410157
END:VEVENT
BEGIN:VEVENT
DTSTART;TZID=America/Halifax:20280624T100000
DTEND;TZID=America/Halifax:20280624T100000
DTSTAMP:20260422T125035
CREATED:20240604T112939Z
LAST-MODIFIED:20240920T173355Z
UID:10005227-1845453600-1845453600@annapolisroyal.com
SUMMARY:Town Crier proclamations
DESCRIPTION:Event proclamations by Annapolis Royal Town Crier\, Christine Igot 10 am and noon. Every Saturday at the Farmers and Traders’ market
URL:https://annapolisroyal.com/event/town-crier-proclamations/2028-06-24/
LOCATION:Annapolis Royal Farmer’s Market\, St George St. \, Annapolis Royal\, Nova Scotia \, B0S 1A0\, Canada
GEO:44.7410157;-65.5109883
X-APPLE-STRUCTURED-LOCATION;VALUE=URI;X-ADDRESS=Annapolis Royal Farmer’s Market St George St.  Annapolis Royal Nova Scotia  B0S 1A0 Canada;X-APPLE-RADIUS=500;X-TITLE=St George St.:geo:-65.5109883,44.7410157
END:VEVENT
BEGIN:VEVENT
DTSTART;TZID=America/Halifax:20280701T100000
DTEND;TZID=America/Halifax:20280701T100000
DTSTAMP:20260422T125035
CREATED:20240604T112939Z
LAST-MODIFIED:20240920T173355Z
UID:10005228-1846058400-1846058400@annapolisroyal.com
SUMMARY:Town Crier proclamations
DESCRIPTION:Event proclamations by Annapolis Royal Town Crier\, Christine Igot 10 am and noon. Every Saturday at the Farmers and Traders’ market
URL:https://annapolisroyal.com/event/town-crier-proclamations/2028-07-01/
LOCATION:Annapolis Royal Farmer’s Market\, St George St. \, Annapolis Royal\, Nova Scotia \, B0S 1A0\, Canada
GEO:44.7410157;-65.5109883
X-APPLE-STRUCTURED-LOCATION;VALUE=URI;X-ADDRESS=Annapolis Royal Farmer’s Market St George St.  Annapolis Royal Nova Scotia  B0S 1A0 Canada;X-APPLE-RADIUS=500;X-TITLE=St George St.:geo:-65.5109883,44.7410157
END:VEVENT
BEGIN:VEVENT
DTSTART;TZID=America/Halifax:20280708T100000
DTEND;TZID=America/Halifax:20280708T100000
DTSTAMP:20260422T125035
CREATED:20240604T112939Z
LAST-MODIFIED:20240920T173355Z
UID:10005229-1846663200-1846663200@annapolisroyal.com
SUMMARY:Town Crier proclamations
DESCRIPTION:Event proclamations by Annapolis Royal Town Crier\, Christine Igot 10 am and noon. Every Saturday at the Farmers and Traders’ market
URL:https://annapolisroyal.com/event/town-crier-proclamations/2028-07-08/
LOCATION:Annapolis Royal Farmer’s Market\, St George St. \, Annapolis Royal\, Nova Scotia \, B0S 1A0\, Canada
GEO:44.7410157;-65.5109883
X-APPLE-STRUCTURED-LOCATION;VALUE=URI;X-ADDRESS=Annapolis Royal Farmer’s Market St George St.  Annapolis Royal Nova Scotia  B0S 1A0 Canada;X-APPLE-RADIUS=500;X-TITLE=St George St.:geo:-65.5109883,44.7410157
END:VEVENT
BEGIN:VEVENT
DTSTART;TZID=America/Halifax:20280715T100000
DTEND;TZID=America/Halifax:20280715T100000
DTSTAMP:20260422T125035
CREATED:20240604T112939Z
LAST-MODIFIED:20240920T173355Z
UID:10005230-1847268000-1847268000@annapolisroyal.com
SUMMARY:Town Crier proclamations
DESCRIPTION:Event proclamations by Annapolis Royal Town Crier\, Christine Igot 10 am and noon. Every Saturday at the Farmers and Traders’ market
URL:https://annapolisroyal.com/event/town-crier-proclamations/2028-07-15/
LOCATION:Annapolis Royal Farmer’s Market\, St George St. \, Annapolis Royal\, Nova Scotia \, B0S 1A0\, Canada
GEO:44.7410157;-65.5109883
X-APPLE-STRUCTURED-LOCATION;VALUE=URI;X-ADDRESS=Annapolis Royal Farmer’s Market St George St.  Annapolis Royal Nova Scotia  B0S 1A0 Canada;X-APPLE-RADIUS=500;X-TITLE=St George St.:geo:-65.5109883,44.7410157
END:VEVENT
BEGIN:VEVENT
DTSTART;TZID=America/Halifax:20280722T100000
DTEND;TZID=America/Halifax:20280722T100000
DTSTAMP:20260422T125035
CREATED:20240604T112939Z
LAST-MODIFIED:20240920T173355Z
UID:10005231-1847872800-1847872800@annapolisroyal.com
SUMMARY:Town Crier proclamations
DESCRIPTION:Event proclamations by Annapolis Royal Town Crier\, Christine Igot 10 am and noon. Every Saturday at the Farmers and Traders’ market
URL:https://annapolisroyal.com/event/town-crier-proclamations/2028-07-22/
LOCATION:Annapolis Royal Farmer’s Market\, St George St. \, Annapolis Royal\, Nova Scotia \, B0S 1A0\, Canada
GEO:44.7410157;-65.5109883
X-APPLE-STRUCTURED-LOCATION;VALUE=URI;X-ADDRESS=Annapolis Royal Farmer’s Market St George St.  Annapolis Royal Nova Scotia  B0S 1A0 Canada;X-APPLE-RADIUS=500;X-TITLE=St George St.:geo:-65.5109883,44.7410157
END:VEVENT
BEGIN:VEVENT
DTSTART;TZID=America/Halifax:20280729T100000
DTEND;TZID=America/Halifax:20280729T100000
DTSTAMP:20260422T125035
CREATED:20240604T112939Z
LAST-MODIFIED:20240920T173355Z
UID:10005232-1848477600-1848477600@annapolisroyal.com
SUMMARY:Town Crier proclamations
DESCRIPTION:Event proclamations by Annapolis Royal Town Crier\, Christine Igot 10 am and noon. Every Saturday at the Farmers and Traders’ market
URL:https://annapolisroyal.com/event/town-crier-proclamations/2028-07-29/
LOCATION:Annapolis Royal Farmer’s Market\, St George St. \, Annapolis Royal\, Nova Scotia \, B0S 1A0\, Canada
GEO:44.7410157;-65.5109883
X-APPLE-STRUCTURED-LOCATION;VALUE=URI;X-ADDRESS=Annapolis Royal Farmer’s Market St George St.  Annapolis Royal Nova Scotia  B0S 1A0 Canada;X-APPLE-RADIUS=500;X-TITLE=St George St.:geo:-65.5109883,44.7410157
END:VEVENT
BEGIN:VEVENT
DTSTART;TZID=America/Halifax:20280805T100000
DTEND;TZID=America/Halifax:20280805T100000
DTSTAMP:20260422T125035
CREATED:20240604T112939Z
LAST-MODIFIED:20240920T173355Z
UID:10005233-1849082400-1849082400@annapolisroyal.com
SUMMARY:Town Crier proclamations
DESCRIPTION:Event proclamations by Annapolis Royal Town Crier\, Christine Igot 10 am and noon. Every Saturday at the Farmers and Traders’ market
URL:https://annapolisroyal.com/event/town-crier-proclamations/2028-08-05/
LOCATION:Annapolis Royal Farmer’s Market\, St George St. \, Annapolis Royal\, Nova Scotia \, B0S 1A0\, Canada
GEO:44.7410157;-65.5109883
X-APPLE-STRUCTURED-LOCATION;VALUE=URI;X-ADDRESS=Annapolis Royal Farmer’s Market St George St.  Annapolis Royal Nova Scotia  B0S 1A0 Canada;X-APPLE-RADIUS=500;X-TITLE=St George St.:geo:-65.5109883,44.7410157
END:VEVENT
BEGIN:VEVENT
DTSTART;TZID=America/Halifax:20280812T100000
DTEND;TZID=America/Halifax:20280812T100000
DTSTAMP:20260422T125035
CREATED:20240604T112939Z
LAST-MODIFIED:20240920T173355Z
UID:10005234-1849687200-1849687200@annapolisroyal.com
SUMMARY:Town Crier proclamations
DESCRIPTION:Event proclamations by Annapolis Royal Town Crier\, Christine Igot 10 am and noon. Every Saturday at the Farmers and Traders’ market
URL:https://annapolisroyal.com/event/town-crier-proclamations/2028-08-12/
LOCATION:Annapolis Royal Farmer’s Market\, St George St. \, Annapolis Royal\, Nova Scotia \, B0S 1A0\, Canada
GEO:44.7410157;-65.5109883
X-APPLE-STRUCTURED-LOCATION;VALUE=URI;X-ADDRESS=Annapolis Royal Farmer’s Market St George St.  Annapolis Royal Nova Scotia  B0S 1A0 Canada;X-APPLE-RADIUS=500;X-TITLE=St George St.:geo:-65.5109883,44.7410157
END:VEVENT
BEGIN:VEVENT
DTSTART;TZID=America/Halifax:20280819T100000
DTEND;TZID=America/Halifax:20280819T100000
DTSTAMP:20260422T125035
CREATED:20240604T112939Z
LAST-MODIFIED:20240920T173355Z
UID:10005235-1850292000-1850292000@annapolisroyal.com
SUMMARY:Town Crier proclamations
DESCRIPTION:Event proclamations by Annapolis Royal Town Crier\, Christine Igot 10 am and noon. Every Saturday at the Farmers and Traders’ market
URL:https://annapolisroyal.com/event/town-crier-proclamations/2028-08-19/
LOCATION:Annapolis Royal Farmer’s Market\, St George St. \, Annapolis Royal\, Nova Scotia \, B0S 1A0\, Canada
GEO:44.7410157;-65.5109883
X-APPLE-STRUCTURED-LOCATION;VALUE=URI;X-ADDRESS=Annapolis Royal Farmer’s Market St George St.  Annapolis Royal Nova Scotia  B0S 1A0 Canada;X-APPLE-RADIUS=500;X-TITLE=St George St.:geo:-65.5109883,44.7410157
END:VEVENT
BEGIN:VEVENT
DTSTART;TZID=America/Halifax:20280826T100000
DTEND;TZID=America/Halifax:20280826T100000
DTSTAMP:20260422T125035
CREATED:20240604T112939Z
LAST-MODIFIED:20240920T173355Z
UID:10005236-1850896800-1850896800@annapolisroyal.com
SUMMARY:Town Crier proclamations
DESCRIPTION:Event proclamations by Annapolis Royal Town Crier\, Christine Igot 10 am and noon. Every Saturday at the Farmers and Traders’ market
URL:https://annapolisroyal.com/event/town-crier-proclamations/2028-08-26/
LOCATION:Annapolis Royal Farmer’s Market\, St George St. \, Annapolis Royal\, Nova Scotia \, B0S 1A0\, Canada
GEO:44.7410157;-65.5109883
X-APPLE-STRUCTURED-LOCATION;VALUE=URI;X-ADDRESS=Annapolis Royal Farmer’s Market St George St.  Annapolis Royal Nova Scotia  B0S 1A0 Canada;X-APPLE-RADIUS=500;X-TITLE=St George St.:geo:-65.5109883,44.7410157
END:VEVENT
BEGIN:VEVENT
DTSTART;TZID=America/Halifax:20280902T100000
DTEND;TZID=America/Halifax:20280902T100000
DTSTAMP:20260422T125035
CREATED:20240604T112939Z
LAST-MODIFIED:20240920T173355Z
UID:10005237-1851501600-1851501600@annapolisroyal.com
SUMMARY:Town Crier proclamations
DESCRIPTION:Event proclamations by Annapolis Royal Town Crier\, Christine Igot 10 am and noon. Every Saturday at the Farmers and Traders’ market
URL:https://annapolisroyal.com/event/town-crier-proclamations/2028-09-02/
LOCATION:Annapolis Royal Farmer’s Market\, St George St. \, Annapolis Royal\, Nova Scotia \, B0S 1A0\, Canada
GEO:44.7410157;-65.5109883
X-APPLE-STRUCTURED-LOCATION;VALUE=URI;X-ADDRESS=Annapolis Royal Farmer’s Market St George St.  Annapolis Royal Nova Scotia  B0S 1A0 Canada;X-APPLE-RADIUS=500;X-TITLE=St George St.:geo:-65.5109883,44.7410157
END:VEVENT
BEGIN:VEVENT
DTSTART;TZID=America/Halifax:20280909T100000
DTEND;TZID=America/Halifax:20280909T100000
DTSTAMP:20260422T125035
CREATED:20240604T112939Z
LAST-MODIFIED:20240920T173355Z
UID:10005238-1852106400-1852106400@annapolisroyal.com
SUMMARY:Town Crier proclamations
DESCRIPTION:Event proclamations by Annapolis Royal Town Crier\, Christine Igot 10 am and noon. Every Saturday at the Farmers and Traders’ market
URL:https://annapolisroyal.com/event/town-crier-proclamations/2028-09-09/
LOCATION:Annapolis Royal Farmer’s Market\, St George St. \, Annapolis Royal\, Nova Scotia \, B0S 1A0\, Canada
GEO:44.7410157;-65.5109883
X-APPLE-STRUCTURED-LOCATION;VALUE=URI;X-ADDRESS=Annapolis Royal Farmer’s Market St George St.  Annapolis Royal Nova Scotia  B0S 1A0 Canada;X-APPLE-RADIUS=500;X-TITLE=St George St.:geo:-65.5109883,44.7410157
END:VEVENT
BEGIN:VEVENT
DTSTART;TZID=America/Halifax:20280916T100000
DTEND;TZID=America/Halifax:20280916T100000
DTSTAMP:20260422T125035
CREATED:20240604T112939Z
LAST-MODIFIED:20240920T173355Z
UID:10005239-1852711200-1852711200@annapolisroyal.com
SUMMARY:Town Crier proclamations
DESCRIPTION:Event proclamations by Annapolis Royal Town Crier\, Christine Igot 10 am and noon. Every Saturday at the Farmers and Traders’ market
URL:https://annapolisroyal.com/event/town-crier-proclamations/2028-09-16/
LOCATION:Annapolis Royal Farmer’s Market\, St George St. \, Annapolis Royal\, Nova Scotia \, B0S 1A0\, Canada
GEO:44.7410157;-65.5109883
X-APPLE-STRUCTURED-LOCATION;VALUE=URI;X-ADDRESS=Annapolis Royal Farmer’s Market St George St.  Annapolis Royal Nova Scotia  B0S 1A0 Canada;X-APPLE-RADIUS=500;X-TITLE=St George St.:geo:-65.5109883,44.7410157
END:VEVENT
BEGIN:VEVENT
DTSTART;TZID=America/Halifax:20280923T100000
DTEND;TZID=America/Halifax:20280923T100000
DTSTAMP:20260422T125035
CREATED:20240604T112939Z
LAST-MODIFIED:20240920T173355Z
UID:10005240-1853316000-1853316000@annapolisroyal.com
SUMMARY:Town Crier proclamations
DESCRIPTION:Event proclamations by Annapolis Royal Town Crier\, Christine Igot 10 am and noon. Every Saturday at the Farmers and Traders’ market
URL:https://annapolisroyal.com/event/town-crier-proclamations/2028-09-23/
LOCATION:Annapolis Royal Farmer’s Market\, St George St. \, Annapolis Royal\, Nova Scotia \, B0S 1A0\, Canada
GEO:44.7410157;-65.5109883
X-APPLE-STRUCTURED-LOCATION;VALUE=URI;X-ADDRESS=Annapolis Royal Farmer’s Market St George St.  Annapolis Royal Nova Scotia  B0S 1A0 Canada;X-APPLE-RADIUS=500;X-TITLE=St George St.:geo:-65.5109883,44.7410157
END:VEVENT
BEGIN:VEVENT
DTSTART;TZID=America/Halifax:20280930T100000
DTEND;TZID=America/Halifax:20280930T100000
DTSTAMP:20260422T125035
CREATED:20240604T112939Z
LAST-MODIFIED:20240920T173355Z
UID:10005241-1853920800-1853920800@annapolisroyal.com
SUMMARY:Town Crier proclamations
DESCRIPTION:Event proclamations by Annapolis Royal Town Crier\, Christine Igot 10 am and noon. Every Saturday at the Farmers and Traders’ market
URL:https://annapolisroyal.com/event/town-crier-proclamations/2028-09-30/
LOCATION:Annapolis Royal Farmer’s Market\, St George St. \, Annapolis Royal\, Nova Scotia \, B0S 1A0\, Canada
GEO:44.7410157;-65.5109883
X-APPLE-STRUCTURED-LOCATION;VALUE=URI;X-ADDRESS=Annapolis Royal Farmer’s Market St George St.  Annapolis Royal Nova Scotia  B0S 1A0 Canada;X-APPLE-RADIUS=500;X-TITLE=St George St.:geo:-65.5109883,44.7410157
END:VEVENT
BEGIN:VEVENT
DTSTART;TZID=America/Halifax:20281007T100000
DTEND;TZID=America/Halifax:20281007T100000
DTSTAMP:20260422T125035
CREATED:20240604T112939Z
LAST-MODIFIED:20240920T173355Z
UID:10005242-1854525600-1854525600@annapolisroyal.com
SUMMARY:Town Crier proclamations
DESCRIPTION:Event proclamations by Annapolis Royal Town Crier\, Christine Igot 10 am and noon. Every Saturday at the Farmers and Traders’ market
URL:https://annapolisroyal.com/event/town-crier-proclamations/2028-10-07/
LOCATION:Annapolis Royal Farmer’s Market\, St George St. \, Annapolis Royal\, Nova Scotia \, B0S 1A0\, Canada
GEO:44.7410157;-65.5109883
X-APPLE-STRUCTURED-LOCATION;VALUE=URI;X-ADDRESS=Annapolis Royal Farmer’s Market St George St.  Annapolis Royal Nova Scotia  B0S 1A0 Canada;X-APPLE-RADIUS=500;X-TITLE=St George St.:geo:-65.5109883,44.7410157
END:VEVENT
BEGIN:VEVENT
DTSTART;TZID=America/Halifax:20281014T100000
DTEND;TZID=America/Halifax:20281014T100000
DTSTAMP:20260422T125035
CREATED:20240604T112939Z
LAST-MODIFIED:20240920T173355Z
UID:10005243-1855130400-1855130400@annapolisroyal.com
SUMMARY:Town Crier proclamations
DESCRIPTION:Event proclamations by Annapolis Royal Town Crier\, Christine Igot 10 am and noon. Every Saturday at the Farmers and Traders’ market
URL:https://annapolisroyal.com/event/town-crier-proclamations/2028-10-14/
LOCATION:Annapolis Royal Farmer’s Market\, St George St. \, Annapolis Royal\, Nova Scotia \, B0S 1A0\, Canada
GEO:44.7410157;-65.5109883
X-APPLE-STRUCTURED-LOCATION;VALUE=URI;X-ADDRESS=Annapolis Royal Farmer’s Market St George St.  Annapolis Royal Nova Scotia  B0S 1A0 Canada;X-APPLE-RADIUS=500;X-TITLE=St George St.:geo:-65.5109883,44.7410157
END:VEVENT
END:VCALENDAR