BEGIN:VCALENDAR
VERSION:2.0
PRODID:-//Town of Annapolis Royal - ECPv6.15.20//NONSGML v1.0//EN
CALSCALE:GREGORIAN
METHOD:PUBLISH
X-WR-CALNAME:Town of Annapolis Royal
X-ORIGINAL-URL:https://annapolisroyal.com
X-WR-CALDESC:Events for Town of Annapolis Royal
REFRESH-INTERVAL;VALUE=DURATION:PT1H
X-Robots-Tag:noindex
X-PUBLISHED-TTL:PT1H
BEGIN:VTIMEZONE
TZID:America/Halifax
BEGIN:DAYLIGHT
TZOFFSETFROM:-0400
TZOFFSETTO:-0300
TZNAME:ADT
DTSTART:20250309T060000
END:DAYLIGHT
BEGIN:STANDARD
TZOFFSETFROM:-0300
TZOFFSETTO:-0400
TZNAME:AST
DTSTART:20251102T050000
END:STANDARD
BEGIN:DAYLIGHT
TZOFFSETFROM:-0400
TZOFFSETTO:-0300
TZNAME:ADT
DTSTART:20260308T060000
END:DAYLIGHT
BEGIN:STANDARD
TZOFFSETFROM:-0300
TZOFFSETTO:-0400
TZNAME:AST
DTSTART:20261101T050000
END:STANDARD
BEGIN:DAYLIGHT
TZOFFSETFROM:-0400
TZOFFSETTO:-0300
TZNAME:ADT
DTSTART:20270314T060000
END:DAYLIGHT
BEGIN:STANDARD
TZOFFSETFROM:-0300
TZOFFSETTO:-0400
TZNAME:AST
DTSTART:20271107T050000
END:STANDARD
BEGIN:DAYLIGHT
TZOFFSETFROM:-0400
TZOFFSETTO:-0300
TZNAME:ADT
DTSTART:20280312T060000
END:DAYLIGHT
BEGIN:STANDARD
TZOFFSETFROM:-0300
TZOFFSETTO:-0400
TZNAME:AST
DTSTART:20281105T050000
END:STANDARD
END:VTIMEZONE
BEGIN:VEVENT
DTSTART;TZID=America/Halifax:20260704T100000
DTEND;TZID=America/Halifax:20260704T100000
DTSTAMP:20260421T223511
CREATED:20240604T112939Z
LAST-MODIFIED:20240920T173355Z
UID:10005124-1783159200-1783159200@annapolisroyal.com
SUMMARY:Town Crier proclamations
DESCRIPTION:Event proclamations by Annapolis Royal Town Crier\, Christine Igot 10 am and noon. Every Saturday at the Farmers and Traders’ market
URL:https://annapolisroyal.com/event/town-crier-proclamations/2026-07-04/
LOCATION:Annapolis Royal Farmer’s Market\, St George St. \, Annapolis Royal\, Nova Scotia \, B0S 1A0\, Canada
GEO:44.7410157;-65.5109883
X-APPLE-STRUCTURED-LOCATION;VALUE=URI;X-ADDRESS=Annapolis Royal Farmer’s Market St George St.  Annapolis Royal Nova Scotia  B0S 1A0 Canada;X-APPLE-RADIUS=500;X-TITLE=St George St.:geo:-65.5109883,44.7410157
END:VEVENT
BEGIN:VEVENT
DTSTART;TZID=America/Halifax:20260711T100000
DTEND;TZID=America/Halifax:20260711T100000
DTSTAMP:20260421T223511
CREATED:20240604T112939Z
LAST-MODIFIED:20240920T173355Z
UID:10005125-1783764000-1783764000@annapolisroyal.com
SUMMARY:Town Crier proclamations
DESCRIPTION:Event proclamations by Annapolis Royal Town Crier\, Christine Igot 10 am and noon. Every Saturday at the Farmers and Traders’ market
URL:https://annapolisroyal.com/event/town-crier-proclamations/2026-07-11/
LOCATION:Annapolis Royal Farmer’s Market\, St George St. \, Annapolis Royal\, Nova Scotia \, B0S 1A0\, Canada
GEO:44.7410157;-65.5109883
X-APPLE-STRUCTURED-LOCATION;VALUE=URI;X-ADDRESS=Annapolis Royal Farmer’s Market St George St.  Annapolis Royal Nova Scotia  B0S 1A0 Canada;X-APPLE-RADIUS=500;X-TITLE=St George St.:geo:-65.5109883,44.7410157
END:VEVENT
BEGIN:VEVENT
DTSTART;TZID=America/Halifax:20260718T100000
DTEND;TZID=America/Halifax:20260718T100000
DTSTAMP:20260421T223511
CREATED:20240604T112939Z
LAST-MODIFIED:20240920T173355Z
UID:10005126-1784368800-1784368800@annapolisroyal.com
SUMMARY:Town Crier proclamations
DESCRIPTION:Event proclamations by Annapolis Royal Town Crier\, Christine Igot 10 am and noon. Every Saturday at the Farmers and Traders’ market
URL:https://annapolisroyal.com/event/town-crier-proclamations/2026-07-18/
LOCATION:Annapolis Royal Farmer’s Market\, St George St. \, Annapolis Royal\, Nova Scotia \, B0S 1A0\, Canada
GEO:44.7410157;-65.5109883
X-APPLE-STRUCTURED-LOCATION;VALUE=URI;X-ADDRESS=Annapolis Royal Farmer’s Market St George St.  Annapolis Royal Nova Scotia  B0S 1A0 Canada;X-APPLE-RADIUS=500;X-TITLE=St George St.:geo:-65.5109883,44.7410157
END:VEVENT
BEGIN:VEVENT
DTSTART;TZID=America/Halifax:20260725T100000
DTEND;TZID=America/Halifax:20260725T100000
DTSTAMP:20260421T223511
CREATED:20240604T112939Z
LAST-MODIFIED:20240920T173355Z
UID:10005127-1784973600-1784973600@annapolisroyal.com
SUMMARY:Town Crier proclamations
DESCRIPTION:Event proclamations by Annapolis Royal Town Crier\, Christine Igot 10 am and noon. Every Saturday at the Farmers and Traders’ market
URL:https://annapolisroyal.com/event/town-crier-proclamations/2026-07-25/
LOCATION:Annapolis Royal Farmer’s Market\, St George St. \, Annapolis Royal\, Nova Scotia \, B0S 1A0\, Canada
GEO:44.7410157;-65.5109883
X-APPLE-STRUCTURED-LOCATION;VALUE=URI;X-ADDRESS=Annapolis Royal Farmer’s Market St George St.  Annapolis Royal Nova Scotia  B0S 1A0 Canada;X-APPLE-RADIUS=500;X-TITLE=St George St.:geo:-65.5109883,44.7410157
END:VEVENT
BEGIN:VEVENT
DTSTART;TZID=America/Halifax:20260801T100000
DTEND;TZID=America/Halifax:20260801T100000
DTSTAMP:20260421T223511
CREATED:20240604T112939Z
LAST-MODIFIED:20240920T173355Z
UID:10005128-1785578400-1785578400@annapolisroyal.com
SUMMARY:Town Crier proclamations
DESCRIPTION:Event proclamations by Annapolis Royal Town Crier\, Christine Igot 10 am and noon. Every Saturday at the Farmers and Traders’ market
URL:https://annapolisroyal.com/event/town-crier-proclamations/2026-08-01/
LOCATION:Annapolis Royal Farmer’s Market\, St George St. \, Annapolis Royal\, Nova Scotia \, B0S 1A0\, Canada
GEO:44.7410157;-65.5109883
X-APPLE-STRUCTURED-LOCATION;VALUE=URI;X-ADDRESS=Annapolis Royal Farmer’s Market St George St.  Annapolis Royal Nova Scotia  B0S 1A0 Canada;X-APPLE-RADIUS=500;X-TITLE=St George St.:geo:-65.5109883,44.7410157
END:VEVENT
BEGIN:VEVENT
DTSTART;TZID=America/Halifax:20260808T100000
DTEND;TZID=America/Halifax:20260808T100000
DTSTAMP:20260421T223511
CREATED:20240604T112939Z
LAST-MODIFIED:20240920T173355Z
UID:10005129-1786183200-1786183200@annapolisroyal.com
SUMMARY:Town Crier proclamations
DESCRIPTION:Event proclamations by Annapolis Royal Town Crier\, Christine Igot 10 am and noon. Every Saturday at the Farmers and Traders’ market
URL:https://annapolisroyal.com/event/town-crier-proclamations/2026-08-08/
LOCATION:Annapolis Royal Farmer’s Market\, St George St. \, Annapolis Royal\, Nova Scotia \, B0S 1A0\, Canada
GEO:44.7410157;-65.5109883
X-APPLE-STRUCTURED-LOCATION;VALUE=URI;X-ADDRESS=Annapolis Royal Farmer’s Market St George St.  Annapolis Royal Nova Scotia  B0S 1A0 Canada;X-APPLE-RADIUS=500;X-TITLE=St George St.:geo:-65.5109883,44.7410157
END:VEVENT
BEGIN:VEVENT
DTSTART;TZID=America/Halifax:20260815T100000
DTEND;TZID=America/Halifax:20260815T100000
DTSTAMP:20260421T223511
CREATED:20240604T112939Z
LAST-MODIFIED:20240920T173355Z
UID:10005130-1786788000-1786788000@annapolisroyal.com
SUMMARY:Town Crier proclamations
DESCRIPTION:Event proclamations by Annapolis Royal Town Crier\, Christine Igot 10 am and noon. Every Saturday at the Farmers and Traders’ market
URL:https://annapolisroyal.com/event/town-crier-proclamations/2026-08-15/
LOCATION:Annapolis Royal Farmer’s Market\, St George St. \, Annapolis Royal\, Nova Scotia \, B0S 1A0\, Canada
GEO:44.7410157;-65.5109883
X-APPLE-STRUCTURED-LOCATION;VALUE=URI;X-ADDRESS=Annapolis Royal Farmer’s Market St George St.  Annapolis Royal Nova Scotia  B0S 1A0 Canada;X-APPLE-RADIUS=500;X-TITLE=St George St.:geo:-65.5109883,44.7410157
END:VEVENT
BEGIN:VEVENT
DTSTART;TZID=America/Halifax:20260822T100000
DTEND;TZID=America/Halifax:20260822T100000
DTSTAMP:20260421T223511
CREATED:20240604T112939Z
LAST-MODIFIED:20240920T173355Z
UID:10005131-1787392800-1787392800@annapolisroyal.com
SUMMARY:Town Crier proclamations
DESCRIPTION:Event proclamations by Annapolis Royal Town Crier\, Christine Igot 10 am and noon. Every Saturday at the Farmers and Traders’ market
URL:https://annapolisroyal.com/event/town-crier-proclamations/2026-08-22/
LOCATION:Annapolis Royal Farmer’s Market\, St George St. \, Annapolis Royal\, Nova Scotia \, B0S 1A0\, Canada
GEO:44.7410157;-65.5109883
X-APPLE-STRUCTURED-LOCATION;VALUE=URI;X-ADDRESS=Annapolis Royal Farmer’s Market St George St.  Annapolis Royal Nova Scotia  B0S 1A0 Canada;X-APPLE-RADIUS=500;X-TITLE=St George St.:geo:-65.5109883,44.7410157
END:VEVENT
BEGIN:VEVENT
DTSTART;TZID=America/Halifax:20260829T100000
DTEND;TZID=America/Halifax:20260829T100000
DTSTAMP:20260421T223511
CREATED:20240604T112939Z
LAST-MODIFIED:20240920T173355Z
UID:10005132-1787997600-1787997600@annapolisroyal.com
SUMMARY:Town Crier proclamations
DESCRIPTION:Event proclamations by Annapolis Royal Town Crier\, Christine Igot 10 am and noon. Every Saturday at the Farmers and Traders’ market
URL:https://annapolisroyal.com/event/town-crier-proclamations/2026-08-29/
LOCATION:Annapolis Royal Farmer’s Market\, St George St. \, Annapolis Royal\, Nova Scotia \, B0S 1A0\, Canada
GEO:44.7410157;-65.5109883
X-APPLE-STRUCTURED-LOCATION;VALUE=URI;X-ADDRESS=Annapolis Royal Farmer’s Market St George St.  Annapolis Royal Nova Scotia  B0S 1A0 Canada;X-APPLE-RADIUS=500;X-TITLE=St George St.:geo:-65.5109883,44.7410157
END:VEVENT
BEGIN:VEVENT
DTSTART;TZID=America/Halifax:20260905T100000
DTEND;TZID=America/Halifax:20260905T100000
DTSTAMP:20260421T223511
CREATED:20240604T112939Z
LAST-MODIFIED:20240920T173355Z
UID:10005133-1788602400-1788602400@annapolisroyal.com
SUMMARY:Town Crier proclamations
DESCRIPTION:Event proclamations by Annapolis Royal Town Crier\, Christine Igot 10 am and noon. Every Saturday at the Farmers and Traders’ market
URL:https://annapolisroyal.com/event/town-crier-proclamations/2026-09-05/
LOCATION:Annapolis Royal Farmer’s Market\, St George St. \, Annapolis Royal\, Nova Scotia \, B0S 1A0\, Canada
GEO:44.7410157;-65.5109883
X-APPLE-STRUCTURED-LOCATION;VALUE=URI;X-ADDRESS=Annapolis Royal Farmer’s Market St George St.  Annapolis Royal Nova Scotia  B0S 1A0 Canada;X-APPLE-RADIUS=500;X-TITLE=St George St.:geo:-65.5109883,44.7410157
END:VEVENT
BEGIN:VEVENT
DTSTART;TZID=America/Halifax:20260912T100000
DTEND;TZID=America/Halifax:20260912T100000
DTSTAMP:20260421T223511
CREATED:20240604T112939Z
LAST-MODIFIED:20240920T173355Z
UID:10005134-1789207200-1789207200@annapolisroyal.com
SUMMARY:Town Crier proclamations
DESCRIPTION:Event proclamations by Annapolis Royal Town Crier\, Christine Igot 10 am and noon. Every Saturday at the Farmers and Traders’ market
URL:https://annapolisroyal.com/event/town-crier-proclamations/2026-09-12/
LOCATION:Annapolis Royal Farmer’s Market\, St George St. \, Annapolis Royal\, Nova Scotia \, B0S 1A0\, Canada
GEO:44.7410157;-65.5109883
X-APPLE-STRUCTURED-LOCATION;VALUE=URI;X-ADDRESS=Annapolis Royal Farmer’s Market St George St.  Annapolis Royal Nova Scotia  B0S 1A0 Canada;X-APPLE-RADIUS=500;X-TITLE=St George St.:geo:-65.5109883,44.7410157
END:VEVENT
BEGIN:VEVENT
DTSTART;TZID=America/Halifax:20260919T100000
DTEND;TZID=America/Halifax:20260919T100000
DTSTAMP:20260421T223511
CREATED:20240604T112939Z
LAST-MODIFIED:20240920T173355Z
UID:10005135-1789812000-1789812000@annapolisroyal.com
SUMMARY:Town Crier proclamations
DESCRIPTION:Event proclamations by Annapolis Royal Town Crier\, Christine Igot 10 am and noon. Every Saturday at the Farmers and Traders’ market
URL:https://annapolisroyal.com/event/town-crier-proclamations/2026-09-19/
LOCATION:Annapolis Royal Farmer’s Market\, St George St. \, Annapolis Royal\, Nova Scotia \, B0S 1A0\, Canada
GEO:44.7410157;-65.5109883
X-APPLE-STRUCTURED-LOCATION;VALUE=URI;X-ADDRESS=Annapolis Royal Farmer’s Market St George St.  Annapolis Royal Nova Scotia  B0S 1A0 Canada;X-APPLE-RADIUS=500;X-TITLE=St George St.:geo:-65.5109883,44.7410157
END:VEVENT
BEGIN:VEVENT
DTSTART;TZID=America/Halifax:20260926T100000
DTEND;TZID=America/Halifax:20260926T100000
DTSTAMP:20260421T223511
CREATED:20240604T112939Z
LAST-MODIFIED:20240920T173355Z
UID:10005136-1790416800-1790416800@annapolisroyal.com
SUMMARY:Town Crier proclamations
DESCRIPTION:Event proclamations by Annapolis Royal Town Crier\, Christine Igot 10 am and noon. Every Saturday at the Farmers and Traders’ market
URL:https://annapolisroyal.com/event/town-crier-proclamations/2026-09-26/
LOCATION:Annapolis Royal Farmer’s Market\, St George St. \, Annapolis Royal\, Nova Scotia \, B0S 1A0\, Canada
GEO:44.7410157;-65.5109883
X-APPLE-STRUCTURED-LOCATION;VALUE=URI;X-ADDRESS=Annapolis Royal Farmer’s Market St George St.  Annapolis Royal Nova Scotia  B0S 1A0 Canada;X-APPLE-RADIUS=500;X-TITLE=St George St.:geo:-65.5109883,44.7410157
END:VEVENT
BEGIN:VEVENT
DTSTART;TZID=America/Halifax:20261003T100000
DTEND;TZID=America/Halifax:20261003T100000
DTSTAMP:20260421T223511
CREATED:20240604T112939Z
LAST-MODIFIED:20240920T173355Z
UID:10005137-1791021600-1791021600@annapolisroyal.com
SUMMARY:Town Crier proclamations
DESCRIPTION:Event proclamations by Annapolis Royal Town Crier\, Christine Igot 10 am and noon. Every Saturday at the Farmers and Traders’ market
URL:https://annapolisroyal.com/event/town-crier-proclamations/2026-10-03/
LOCATION:Annapolis Royal Farmer’s Market\, St George St. \, Annapolis Royal\, Nova Scotia \, B0S 1A0\, Canada
GEO:44.7410157;-65.5109883
X-APPLE-STRUCTURED-LOCATION;VALUE=URI;X-ADDRESS=Annapolis Royal Farmer’s Market St George St.  Annapolis Royal Nova Scotia  B0S 1A0 Canada;X-APPLE-RADIUS=500;X-TITLE=St George St.:geo:-65.5109883,44.7410157
END:VEVENT
BEGIN:VEVENT
DTSTART;TZID=America/Halifax:20261010T100000
DTEND;TZID=America/Halifax:20261010T100000
DTSTAMP:20260421T223511
CREATED:20240604T112939Z
LAST-MODIFIED:20240920T173355Z
UID:10005138-1791626400-1791626400@annapolisroyal.com
SUMMARY:Town Crier proclamations
DESCRIPTION:Event proclamations by Annapolis Royal Town Crier\, Christine Igot 10 am and noon. Every Saturday at the Farmers and Traders’ market
URL:https://annapolisroyal.com/event/town-crier-proclamations/2026-10-10/
LOCATION:Annapolis Royal Farmer’s Market\, St George St. \, Annapolis Royal\, Nova Scotia \, B0S 1A0\, Canada
GEO:44.7410157;-65.5109883
X-APPLE-STRUCTURED-LOCATION;VALUE=URI;X-ADDRESS=Annapolis Royal Farmer’s Market St George St.  Annapolis Royal Nova Scotia  B0S 1A0 Canada;X-APPLE-RADIUS=500;X-TITLE=St George St.:geo:-65.5109883,44.7410157
END:VEVENT
BEGIN:VEVENT
DTSTART;TZID=America/Halifax:20261017T100000
DTEND;TZID=America/Halifax:20261017T100000
DTSTAMP:20260421T223511
CREATED:20240604T112939Z
LAST-MODIFIED:20240920T173355Z
UID:10005139-1792231200-1792231200@annapolisroyal.com
SUMMARY:Town Crier proclamations
DESCRIPTION:Event proclamations by Annapolis Royal Town Crier\, Christine Igot 10 am and noon. Every Saturday at the Farmers and Traders’ market
URL:https://annapolisroyal.com/event/town-crier-proclamations/2026-10-17/
LOCATION:Annapolis Royal Farmer’s Market\, St George St. \, Annapolis Royal\, Nova Scotia \, B0S 1A0\, Canada
GEO:44.7410157;-65.5109883
X-APPLE-STRUCTURED-LOCATION;VALUE=URI;X-ADDRESS=Annapolis Royal Farmer’s Market St George St.  Annapolis Royal Nova Scotia  B0S 1A0 Canada;X-APPLE-RADIUS=500;X-TITLE=St George St.:geo:-65.5109883,44.7410157
END:VEVENT
BEGIN:VEVENT
DTSTART;TZID=America/Halifax:20261024T100000
DTEND;TZID=America/Halifax:20261024T100000
DTSTAMP:20260421T223511
CREATED:20240604T112939Z
LAST-MODIFIED:20240920T173355Z
UID:10005140-1792836000-1792836000@annapolisroyal.com
SUMMARY:Town Crier proclamations
DESCRIPTION:Event proclamations by Annapolis Royal Town Crier\, Christine Igot 10 am and noon. Every Saturday at the Farmers and Traders’ market
URL:https://annapolisroyal.com/event/town-crier-proclamations/2026-10-24/
LOCATION:Annapolis Royal Farmer’s Market\, St George St. \, Annapolis Royal\, Nova Scotia \, B0S 1A0\, Canada
GEO:44.7410157;-65.5109883
X-APPLE-STRUCTURED-LOCATION;VALUE=URI;X-ADDRESS=Annapolis Royal Farmer’s Market St George St.  Annapolis Royal Nova Scotia  B0S 1A0 Canada;X-APPLE-RADIUS=500;X-TITLE=St George St.:geo:-65.5109883,44.7410157
END:VEVENT
BEGIN:VEVENT
DTSTART;TZID=America/Halifax:20261031T100000
DTEND;TZID=America/Halifax:20261031T100000
DTSTAMP:20260421T223511
CREATED:20240604T112939Z
LAST-MODIFIED:20240920T173355Z
UID:10005141-1793440800-1793440800@annapolisroyal.com
SUMMARY:Town Crier proclamations
DESCRIPTION:Event proclamations by Annapolis Royal Town Crier\, Christine Igot 10 am and noon. Every Saturday at the Farmers and Traders’ market
URL:https://annapolisroyal.com/event/town-crier-proclamations/2026-10-31/
LOCATION:Annapolis Royal Farmer’s Market\, St George St. \, Annapolis Royal\, Nova Scotia \, B0S 1A0\, Canada
GEO:44.7410157;-65.5109883
X-APPLE-STRUCTURED-LOCATION;VALUE=URI;X-ADDRESS=Annapolis Royal Farmer’s Market St George St.  Annapolis Royal Nova Scotia  B0S 1A0 Canada;X-APPLE-RADIUS=500;X-TITLE=St George St.:geo:-65.5109883,44.7410157
END:VEVENT
BEGIN:VEVENT
DTSTART;TZID=America/Halifax:20261107T100000
DTEND;TZID=America/Halifax:20261107T100000
DTSTAMP:20260421T223511
CREATED:20240604T112939Z
LAST-MODIFIED:20240920T173355Z
UID:10005142-1794045600-1794045600@annapolisroyal.com
SUMMARY:Town Crier proclamations
DESCRIPTION:Event proclamations by Annapolis Royal Town Crier\, Christine Igot 10 am and noon. Every Saturday at the Farmers and Traders’ market
URL:https://annapolisroyal.com/event/town-crier-proclamations/2026-11-07/
LOCATION:Annapolis Royal Farmer’s Market\, St George St. \, Annapolis Royal\, Nova Scotia \, B0S 1A0\, Canada
GEO:44.7410157;-65.5109883
X-APPLE-STRUCTURED-LOCATION;VALUE=URI;X-ADDRESS=Annapolis Royal Farmer’s Market St George St.  Annapolis Royal Nova Scotia  B0S 1A0 Canada;X-APPLE-RADIUS=500;X-TITLE=St George St.:geo:-65.5109883,44.7410157
END:VEVENT
BEGIN:VEVENT
DTSTART;TZID=America/Halifax:20261114T100000
DTEND;TZID=America/Halifax:20261114T100000
DTSTAMP:20260421T223511
CREATED:20240604T112939Z
LAST-MODIFIED:20240920T173355Z
UID:10005143-1794650400-1794650400@annapolisroyal.com
SUMMARY:Town Crier proclamations
DESCRIPTION:Event proclamations by Annapolis Royal Town Crier\, Christine Igot 10 am and noon. Every Saturday at the Farmers and Traders’ market
URL:https://annapolisroyal.com/event/town-crier-proclamations/2026-11-14/
LOCATION:Annapolis Royal Farmer’s Market\, St George St. \, Annapolis Royal\, Nova Scotia \, B0S 1A0\, Canada
GEO:44.7410157;-65.5109883
X-APPLE-STRUCTURED-LOCATION;VALUE=URI;X-ADDRESS=Annapolis Royal Farmer’s Market St George St.  Annapolis Royal Nova Scotia  B0S 1A0 Canada;X-APPLE-RADIUS=500;X-TITLE=St George St.:geo:-65.5109883,44.7410157
END:VEVENT
BEGIN:VEVENT
DTSTART;TZID=America/Halifax:20261121T100000
DTEND;TZID=America/Halifax:20261121T100000
DTSTAMP:20260421T223511
CREATED:20240604T112939Z
LAST-MODIFIED:20240920T173355Z
UID:10005144-1795255200-1795255200@annapolisroyal.com
SUMMARY:Town Crier proclamations
DESCRIPTION:Event proclamations by Annapolis Royal Town Crier\, Christine Igot 10 am and noon. Every Saturday at the Farmers and Traders’ market
URL:https://annapolisroyal.com/event/town-crier-proclamations/2026-11-21/
LOCATION:Annapolis Royal Farmer’s Market\, St George St. \, Annapolis Royal\, Nova Scotia \, B0S 1A0\, Canada
GEO:44.7410157;-65.5109883
X-APPLE-STRUCTURED-LOCATION;VALUE=URI;X-ADDRESS=Annapolis Royal Farmer’s Market St George St.  Annapolis Royal Nova Scotia  B0S 1A0 Canada;X-APPLE-RADIUS=500;X-TITLE=St George St.:geo:-65.5109883,44.7410157
END:VEVENT
BEGIN:VEVENT
DTSTART;TZID=America/Halifax:20261128T100000
DTEND;TZID=America/Halifax:20261128T100000
DTSTAMP:20260421T223511
CREATED:20240604T112939Z
LAST-MODIFIED:20240920T173355Z
UID:10005145-1795860000-1795860000@annapolisroyal.com
SUMMARY:Town Crier proclamations
DESCRIPTION:Event proclamations by Annapolis Royal Town Crier\, Christine Igot 10 am and noon. Every Saturday at the Farmers and Traders’ market
URL:https://annapolisroyal.com/event/town-crier-proclamations/2026-11-28/
LOCATION:Annapolis Royal Farmer’s Market\, St George St. \, Annapolis Royal\, Nova Scotia \, B0S 1A0\, Canada
GEO:44.7410157;-65.5109883
X-APPLE-STRUCTURED-LOCATION;VALUE=URI;X-ADDRESS=Annapolis Royal Farmer’s Market St George St.  Annapolis Royal Nova Scotia  B0S 1A0 Canada;X-APPLE-RADIUS=500;X-TITLE=St George St.:geo:-65.5109883,44.7410157
END:VEVENT
BEGIN:VEVENT
DTSTART;TZID=America/Halifax:20261205T100000
DTEND;TZID=America/Halifax:20261205T100000
DTSTAMP:20260421T223511
CREATED:20240604T112939Z
LAST-MODIFIED:20240920T173355Z
UID:10005146-1796464800-1796464800@annapolisroyal.com
SUMMARY:Town Crier proclamations
DESCRIPTION:Event proclamations by Annapolis Royal Town Crier\, Christine Igot 10 am and noon. Every Saturday at the Farmers and Traders’ market
URL:https://annapolisroyal.com/event/town-crier-proclamations/2026-12-05/
LOCATION:Annapolis Royal Farmer’s Market\, St George St. \, Annapolis Royal\, Nova Scotia \, B0S 1A0\, Canada
GEO:44.7410157;-65.5109883
X-APPLE-STRUCTURED-LOCATION;VALUE=URI;X-ADDRESS=Annapolis Royal Farmer’s Market St George St.  Annapolis Royal Nova Scotia  B0S 1A0 Canada;X-APPLE-RADIUS=500;X-TITLE=St George St.:geo:-65.5109883,44.7410157
END:VEVENT
BEGIN:VEVENT
DTSTART;TZID=America/Halifax:20261212T100000
DTEND;TZID=America/Halifax:20261212T100000
DTSTAMP:20260421T223511
CREATED:20240604T112939Z
LAST-MODIFIED:20240920T173355Z
UID:10005147-1797069600-1797069600@annapolisroyal.com
SUMMARY:Town Crier proclamations
DESCRIPTION:Event proclamations by Annapolis Royal Town Crier\, Christine Igot 10 am and noon. Every Saturday at the Farmers and Traders’ market
URL:https://annapolisroyal.com/event/town-crier-proclamations/2026-12-12/
LOCATION:Annapolis Royal Farmer’s Market\, St George St. \, Annapolis Royal\, Nova Scotia \, B0S 1A0\, Canada
GEO:44.7410157;-65.5109883
X-APPLE-STRUCTURED-LOCATION;VALUE=URI;X-ADDRESS=Annapolis Royal Farmer’s Market St George St.  Annapolis Royal Nova Scotia  B0S 1A0 Canada;X-APPLE-RADIUS=500;X-TITLE=St George St.:geo:-65.5109883,44.7410157
END:VEVENT
BEGIN:VEVENT
DTSTART;TZID=America/Halifax:20261219T100000
DTEND;TZID=America/Halifax:20261219T100000
DTSTAMP:20260421T223511
CREATED:20240604T112939Z
LAST-MODIFIED:20240920T173355Z
UID:10005148-1797674400-1797674400@annapolisroyal.com
SUMMARY:Town Crier proclamations
DESCRIPTION:Event proclamations by Annapolis Royal Town Crier\, Christine Igot 10 am and noon. Every Saturday at the Farmers and Traders’ market
URL:https://annapolisroyal.com/event/town-crier-proclamations/2026-12-19/
LOCATION:Annapolis Royal Farmer’s Market\, St George St. \, Annapolis Royal\, Nova Scotia \, B0S 1A0\, Canada
GEO:44.7410157;-65.5109883
X-APPLE-STRUCTURED-LOCATION;VALUE=URI;X-ADDRESS=Annapolis Royal Farmer’s Market St George St.  Annapolis Royal Nova Scotia  B0S 1A0 Canada;X-APPLE-RADIUS=500;X-TITLE=St George St.:geo:-65.5109883,44.7410157
END:VEVENT
BEGIN:VEVENT
DTSTART;TZID=America/Halifax:20261226T100000
DTEND;TZID=America/Halifax:20261226T100000
DTSTAMP:20260421T223511
CREATED:20240604T112939Z
LAST-MODIFIED:20240920T173355Z
UID:10005149-1798279200-1798279200@annapolisroyal.com
SUMMARY:Town Crier proclamations
DESCRIPTION:Event proclamations by Annapolis Royal Town Crier\, Christine Igot 10 am and noon. Every Saturday at the Farmers and Traders’ market
URL:https://annapolisroyal.com/event/town-crier-proclamations/2026-12-26/
LOCATION:Annapolis Royal Farmer’s Market\, St George St. \, Annapolis Royal\, Nova Scotia \, B0S 1A0\, Canada
GEO:44.7410157;-65.5109883
X-APPLE-STRUCTURED-LOCATION;VALUE=URI;X-ADDRESS=Annapolis Royal Farmer’s Market St George St.  Annapolis Royal Nova Scotia  B0S 1A0 Canada;X-APPLE-RADIUS=500;X-TITLE=St George St.:geo:-65.5109883,44.7410157
END:VEVENT
BEGIN:VEVENT
DTSTART;TZID=America/Halifax:20270102T100000
DTEND;TZID=America/Halifax:20270102T100000
DTSTAMP:20260421T223511
CREATED:20240604T112939Z
LAST-MODIFIED:20240920T173355Z
UID:10005150-1798884000-1798884000@annapolisroyal.com
SUMMARY:Town Crier proclamations
DESCRIPTION:Event proclamations by Annapolis Royal Town Crier\, Christine Igot 10 am and noon. Every Saturday at the Farmers and Traders’ market
URL:https://annapolisroyal.com/event/town-crier-proclamations/2027-01-02/
LOCATION:Annapolis Royal Farmer’s Market\, St George St. \, Annapolis Royal\, Nova Scotia \, B0S 1A0\, Canada
GEO:44.7410157;-65.5109883
X-APPLE-STRUCTURED-LOCATION;VALUE=URI;X-ADDRESS=Annapolis Royal Farmer’s Market St George St.  Annapolis Royal Nova Scotia  B0S 1A0 Canada;X-APPLE-RADIUS=500;X-TITLE=St George St.:geo:-65.5109883,44.7410157
END:VEVENT
BEGIN:VEVENT
DTSTART;TZID=America/Halifax:20270109T100000
DTEND;TZID=America/Halifax:20270109T100000
DTSTAMP:20260421T223511
CREATED:20240604T112939Z
LAST-MODIFIED:20240920T173355Z
UID:10005151-1799488800-1799488800@annapolisroyal.com
SUMMARY:Town Crier proclamations
DESCRIPTION:Event proclamations by Annapolis Royal Town Crier\, Christine Igot 10 am and noon. Every Saturday at the Farmers and Traders’ market
URL:https://annapolisroyal.com/event/town-crier-proclamations/2027-01-09/
LOCATION:Annapolis Royal Farmer’s Market\, St George St. \, Annapolis Royal\, Nova Scotia \, B0S 1A0\, Canada
GEO:44.7410157;-65.5109883
X-APPLE-STRUCTURED-LOCATION;VALUE=URI;X-ADDRESS=Annapolis Royal Farmer’s Market St George St.  Annapolis Royal Nova Scotia  B0S 1A0 Canada;X-APPLE-RADIUS=500;X-TITLE=St George St.:geo:-65.5109883,44.7410157
END:VEVENT
BEGIN:VEVENT
DTSTART;TZID=America/Halifax:20270116T100000
DTEND;TZID=America/Halifax:20270116T100000
DTSTAMP:20260421T223511
CREATED:20240604T112939Z
LAST-MODIFIED:20240920T173355Z
UID:10005152-1800093600-1800093600@annapolisroyal.com
SUMMARY:Town Crier proclamations
DESCRIPTION:Event proclamations by Annapolis Royal Town Crier\, Christine Igot 10 am and noon. Every Saturday at the Farmers and Traders’ market
URL:https://annapolisroyal.com/event/town-crier-proclamations/2027-01-16/
LOCATION:Annapolis Royal Farmer’s Market\, St George St. \, Annapolis Royal\, Nova Scotia \, B0S 1A0\, Canada
GEO:44.7410157;-65.5109883
X-APPLE-STRUCTURED-LOCATION;VALUE=URI;X-ADDRESS=Annapolis Royal Farmer’s Market St George St.  Annapolis Royal Nova Scotia  B0S 1A0 Canada;X-APPLE-RADIUS=500;X-TITLE=St George St.:geo:-65.5109883,44.7410157
END:VEVENT
BEGIN:VEVENT
DTSTART;TZID=America/Halifax:20270123T100000
DTEND;TZID=America/Halifax:20270123T100000
DTSTAMP:20260421T223511
CREATED:20240604T112939Z
LAST-MODIFIED:20240920T173355Z
UID:10005153-1800698400-1800698400@annapolisroyal.com
SUMMARY:Town Crier proclamations
DESCRIPTION:Event proclamations by Annapolis Royal Town Crier\, Christine Igot 10 am and noon. Every Saturday at the Farmers and Traders’ market
URL:https://annapolisroyal.com/event/town-crier-proclamations/2027-01-23/
LOCATION:Annapolis Royal Farmer’s Market\, St George St. \, Annapolis Royal\, Nova Scotia \, B0S 1A0\, Canada
GEO:44.7410157;-65.5109883
X-APPLE-STRUCTURED-LOCATION;VALUE=URI;X-ADDRESS=Annapolis Royal Farmer’s Market St George St.  Annapolis Royal Nova Scotia  B0S 1A0 Canada;X-APPLE-RADIUS=500;X-TITLE=St George St.:geo:-65.5109883,44.7410157
END:VEVENT
END:VCALENDAR