BEGIN:VCALENDAR
VERSION:2.0
PRODID:-//Town of Annapolis Royal - ECPv6.15.20//NONSGML v1.0//EN
CALSCALE:GREGORIAN
METHOD:PUBLISH
X-ORIGINAL-URL:https://annapolisroyal.com
X-WR-CALDESC:Events for Town of Annapolis Royal
REFRESH-INTERVAL;VALUE=DURATION:PT1H
X-Robots-Tag:noindex
X-PUBLISHED-TTL:PT1H
BEGIN:VTIMEZONE
TZID:America/Halifax
BEGIN:DAYLIGHT
TZOFFSETFROM:-0400
TZOFFSETTO:-0300
TZNAME:ADT
DTSTART:20260308T060000
END:DAYLIGHT
BEGIN:STANDARD
TZOFFSETFROM:-0300
TZOFFSETTO:-0400
TZNAME:AST
DTSTART:20261101T050000
END:STANDARD
BEGIN:DAYLIGHT
TZOFFSETFROM:-0400
TZOFFSETTO:-0300
TZNAME:ADT
DTSTART:20270314T060000
END:DAYLIGHT
BEGIN:STANDARD
TZOFFSETFROM:-0300
TZOFFSETTO:-0400
TZNAME:AST
DTSTART:20271107T050000
END:STANDARD
BEGIN:DAYLIGHT
TZOFFSETFROM:-0400
TZOFFSETTO:-0300
TZNAME:ADT
DTSTART:20280312T060000
END:DAYLIGHT
BEGIN:STANDARD
TZOFFSETFROM:-0300
TZOFFSETTO:-0400
TZNAME:AST
DTSTART:20281105T050000
END:STANDARD
BEGIN:DAYLIGHT
TZOFFSETFROM:-0400
TZOFFSETTO:-0300
TZNAME:ADT
DTSTART:20290311T060000
END:DAYLIGHT
BEGIN:STANDARD
TZOFFSETFROM:-0300
TZOFFSETTO:-0400
TZNAME:AST
DTSTART:20291104T050000
END:STANDARD
END:VTIMEZONE
BEGIN:VEVENT
DTSTART;TZID=America/Halifax:20270828T100000
DTEND;TZID=America/Halifax:20270828T100000
DTSTAMP:20260422T083804
CREATED:20240604T112939Z
LAST-MODIFIED:20240920T173355Z
UID:10005184-1819447200-1819447200@annapolisroyal.com
SUMMARY:Town Crier proclamations
DESCRIPTION:Event proclamations by Annapolis Royal Town Crier\, Christine Igot 10 am and noon. Every Saturday at the Farmers and Traders’ market
URL:https://annapolisroyal.com/event/town-crier-proclamations/2027-08-28/
LOCATION:Annapolis Royal Farmer’s Market\, St George St. \, Annapolis Royal\, Nova Scotia \, B0S 1A0\, Canada
GEO:44.7410157;-65.5109883
X-APPLE-STRUCTURED-LOCATION;VALUE=URI;X-ADDRESS=Annapolis Royal Farmer’s Market St George St.  Annapolis Royal Nova Scotia  B0S 1A0 Canada;X-APPLE-RADIUS=500;X-TITLE=St George St.:geo:-65.5109883,44.7410157
END:VEVENT
BEGIN:VEVENT
DTSTART;TZID=America/Halifax:20270904T100000
DTEND;TZID=America/Halifax:20270904T100000
DTSTAMP:20260422T083804
CREATED:20240604T112939Z
LAST-MODIFIED:20240920T173355Z
UID:10005185-1820052000-1820052000@annapolisroyal.com
SUMMARY:Town Crier proclamations
DESCRIPTION:Event proclamations by Annapolis Royal Town Crier\, Christine Igot 10 am and noon. Every Saturday at the Farmers and Traders’ market
URL:https://annapolisroyal.com/event/town-crier-proclamations/2027-09-04/
LOCATION:Annapolis Royal Farmer’s Market\, St George St. \, Annapolis Royal\, Nova Scotia \, B0S 1A0\, Canada
GEO:44.7410157;-65.5109883
X-APPLE-STRUCTURED-LOCATION;VALUE=URI;X-ADDRESS=Annapolis Royal Farmer’s Market St George St.  Annapolis Royal Nova Scotia  B0S 1A0 Canada;X-APPLE-RADIUS=500;X-TITLE=St George St.:geo:-65.5109883,44.7410157
END:VEVENT
BEGIN:VEVENT
DTSTART;TZID=America/Halifax:20270911T100000
DTEND;TZID=America/Halifax:20270911T100000
DTSTAMP:20260422T083804
CREATED:20240604T112939Z
LAST-MODIFIED:20240920T173355Z
UID:10005186-1820656800-1820656800@annapolisroyal.com
SUMMARY:Town Crier proclamations
DESCRIPTION:Event proclamations by Annapolis Royal Town Crier\, Christine Igot 10 am and noon. Every Saturday at the Farmers and Traders’ market
URL:https://annapolisroyal.com/event/town-crier-proclamations/2027-09-11/
LOCATION:Annapolis Royal Farmer’s Market\, St George St. \, Annapolis Royal\, Nova Scotia \, B0S 1A0\, Canada
GEO:44.7410157;-65.5109883
X-APPLE-STRUCTURED-LOCATION;VALUE=URI;X-ADDRESS=Annapolis Royal Farmer’s Market St George St.  Annapolis Royal Nova Scotia  B0S 1A0 Canada;X-APPLE-RADIUS=500;X-TITLE=St George St.:geo:-65.5109883,44.7410157
END:VEVENT
BEGIN:VEVENT
DTSTART;TZID=America/Halifax:20270918T100000
DTEND;TZID=America/Halifax:20270918T100000
DTSTAMP:20260422T083804
CREATED:20240604T112939Z
LAST-MODIFIED:20240920T173355Z
UID:10005187-1821261600-1821261600@annapolisroyal.com
SUMMARY:Town Crier proclamations
DESCRIPTION:Event proclamations by Annapolis Royal Town Crier\, Christine Igot 10 am and noon. Every Saturday at the Farmers and Traders’ market
URL:https://annapolisroyal.com/event/town-crier-proclamations/2027-09-18/
LOCATION:Annapolis Royal Farmer’s Market\, St George St. \, Annapolis Royal\, Nova Scotia \, B0S 1A0\, Canada
GEO:44.7410157;-65.5109883
X-APPLE-STRUCTURED-LOCATION;VALUE=URI;X-ADDRESS=Annapolis Royal Farmer’s Market St George St.  Annapolis Royal Nova Scotia  B0S 1A0 Canada;X-APPLE-RADIUS=500;X-TITLE=St George St.:geo:-65.5109883,44.7410157
END:VEVENT
BEGIN:VEVENT
DTSTART;TZID=America/Halifax:20270925T100000
DTEND;TZID=America/Halifax:20270925T100000
DTSTAMP:20260422T083804
CREATED:20240604T112939Z
LAST-MODIFIED:20240920T173355Z
UID:10005188-1821866400-1821866400@annapolisroyal.com
SUMMARY:Town Crier proclamations
DESCRIPTION:Event proclamations by Annapolis Royal Town Crier\, Christine Igot 10 am and noon. Every Saturday at the Farmers and Traders’ market
URL:https://annapolisroyal.com/event/town-crier-proclamations/2027-09-25/
LOCATION:Annapolis Royal Farmer’s Market\, St George St. \, Annapolis Royal\, Nova Scotia \, B0S 1A0\, Canada
GEO:44.7410157;-65.5109883
X-APPLE-STRUCTURED-LOCATION;VALUE=URI;X-ADDRESS=Annapolis Royal Farmer’s Market St George St.  Annapolis Royal Nova Scotia  B0S 1A0 Canada;X-APPLE-RADIUS=500;X-TITLE=St George St.:geo:-65.5109883,44.7410157
END:VEVENT
BEGIN:VEVENT
DTSTART;TZID=America/Halifax:20271002T100000
DTEND;TZID=America/Halifax:20271002T100000
DTSTAMP:20260422T083804
CREATED:20240604T112939Z
LAST-MODIFIED:20240920T173355Z
UID:10005189-1822471200-1822471200@annapolisroyal.com
SUMMARY:Town Crier proclamations
DESCRIPTION:Event proclamations by Annapolis Royal Town Crier\, Christine Igot 10 am and noon. Every Saturday at the Farmers and Traders’ market
URL:https://annapolisroyal.com/event/town-crier-proclamations/2027-10-02/
LOCATION:Annapolis Royal Farmer’s Market\, St George St. \, Annapolis Royal\, Nova Scotia \, B0S 1A0\, Canada
GEO:44.7410157;-65.5109883
X-APPLE-STRUCTURED-LOCATION;VALUE=URI;X-ADDRESS=Annapolis Royal Farmer’s Market St George St.  Annapolis Royal Nova Scotia  B0S 1A0 Canada;X-APPLE-RADIUS=500;X-TITLE=St George St.:geo:-65.5109883,44.7410157
END:VEVENT
BEGIN:VEVENT
DTSTART;TZID=America/Halifax:20271009T100000
DTEND;TZID=America/Halifax:20271009T100000
DTSTAMP:20260422T083804
CREATED:20240604T112939Z
LAST-MODIFIED:20240920T173355Z
UID:10005190-1823076000-1823076000@annapolisroyal.com
SUMMARY:Town Crier proclamations
DESCRIPTION:Event proclamations by Annapolis Royal Town Crier\, Christine Igot 10 am and noon. Every Saturday at the Farmers and Traders’ market
URL:https://annapolisroyal.com/event/town-crier-proclamations/2027-10-09/
LOCATION:Annapolis Royal Farmer’s Market\, St George St. \, Annapolis Royal\, Nova Scotia \, B0S 1A0\, Canada
GEO:44.7410157;-65.5109883
X-APPLE-STRUCTURED-LOCATION;VALUE=URI;X-ADDRESS=Annapolis Royal Farmer’s Market St George St.  Annapolis Royal Nova Scotia  B0S 1A0 Canada;X-APPLE-RADIUS=500;X-TITLE=St George St.:geo:-65.5109883,44.7410157
END:VEVENT
BEGIN:VEVENT
DTSTART;TZID=America/Halifax:20271016T100000
DTEND;TZID=America/Halifax:20271016T100000
DTSTAMP:20260422T083804
CREATED:20240604T112939Z
LAST-MODIFIED:20240920T173355Z
UID:10005191-1823680800-1823680800@annapolisroyal.com
SUMMARY:Town Crier proclamations
DESCRIPTION:Event proclamations by Annapolis Royal Town Crier\, Christine Igot 10 am and noon. Every Saturday at the Farmers and Traders’ market
URL:https://annapolisroyal.com/event/town-crier-proclamations/2027-10-16/
LOCATION:Annapolis Royal Farmer’s Market\, St George St. \, Annapolis Royal\, Nova Scotia \, B0S 1A0\, Canada
GEO:44.7410157;-65.5109883
X-APPLE-STRUCTURED-LOCATION;VALUE=URI;X-ADDRESS=Annapolis Royal Farmer’s Market St George St.  Annapolis Royal Nova Scotia  B0S 1A0 Canada;X-APPLE-RADIUS=500;X-TITLE=St George St.:geo:-65.5109883,44.7410157
END:VEVENT
BEGIN:VEVENT
DTSTART;TZID=America/Halifax:20271023T100000
DTEND;TZID=America/Halifax:20271023T100000
DTSTAMP:20260422T083804
CREATED:20240604T112939Z
LAST-MODIFIED:20240920T173355Z
UID:10005192-1824285600-1824285600@annapolisroyal.com
SUMMARY:Town Crier proclamations
DESCRIPTION:Event proclamations by Annapolis Royal Town Crier\, Christine Igot 10 am and noon. Every Saturday at the Farmers and Traders’ market
URL:https://annapolisroyal.com/event/town-crier-proclamations/2027-10-23/
LOCATION:Annapolis Royal Farmer’s Market\, St George St. \, Annapolis Royal\, Nova Scotia \, B0S 1A0\, Canada
GEO:44.7410157;-65.5109883
X-APPLE-STRUCTURED-LOCATION;VALUE=URI;X-ADDRESS=Annapolis Royal Farmer’s Market St George St.  Annapolis Royal Nova Scotia  B0S 1A0 Canada;X-APPLE-RADIUS=500;X-TITLE=St George St.:geo:-65.5109883,44.7410157
END:VEVENT
BEGIN:VEVENT
DTSTART;TZID=America/Halifax:20271030T100000
DTEND;TZID=America/Halifax:20271030T100000
DTSTAMP:20260422T083804
CREATED:20240604T112939Z
LAST-MODIFIED:20240920T173355Z
UID:10005193-1824890400-1824890400@annapolisroyal.com
SUMMARY:Town Crier proclamations
DESCRIPTION:Event proclamations by Annapolis Royal Town Crier\, Christine Igot 10 am and noon. Every Saturday at the Farmers and Traders’ market
URL:https://annapolisroyal.com/event/town-crier-proclamations/2027-10-30/
LOCATION:Annapolis Royal Farmer’s Market\, St George St. \, Annapolis Royal\, Nova Scotia \, B0S 1A0\, Canada
GEO:44.7410157;-65.5109883
X-APPLE-STRUCTURED-LOCATION;VALUE=URI;X-ADDRESS=Annapolis Royal Farmer’s Market St George St.  Annapolis Royal Nova Scotia  B0S 1A0 Canada;X-APPLE-RADIUS=500;X-TITLE=St George St.:geo:-65.5109883,44.7410157
END:VEVENT
BEGIN:VEVENT
DTSTART;TZID=America/Halifax:20271106T100000
DTEND;TZID=America/Halifax:20271106T100000
DTSTAMP:20260422T083804
CREATED:20240604T112939Z
LAST-MODIFIED:20240920T173355Z
UID:10005194-1825495200-1825495200@annapolisroyal.com
SUMMARY:Town Crier proclamations
DESCRIPTION:Event proclamations by Annapolis Royal Town Crier\, Christine Igot 10 am and noon. Every Saturday at the Farmers and Traders’ market
URL:https://annapolisroyal.com/event/town-crier-proclamations/2027-11-06/
LOCATION:Annapolis Royal Farmer’s Market\, St George St. \, Annapolis Royal\, Nova Scotia \, B0S 1A0\, Canada
GEO:44.7410157;-65.5109883
X-APPLE-STRUCTURED-LOCATION;VALUE=URI;X-ADDRESS=Annapolis Royal Farmer’s Market St George St.  Annapolis Royal Nova Scotia  B0S 1A0 Canada;X-APPLE-RADIUS=500;X-TITLE=St George St.:geo:-65.5109883,44.7410157
END:VEVENT
BEGIN:VEVENT
DTSTART;TZID=America/Halifax:20271113T100000
DTEND;TZID=America/Halifax:20271113T100000
DTSTAMP:20260422T083804
CREATED:20240604T112939Z
LAST-MODIFIED:20240920T173355Z
UID:10005195-1826100000-1826100000@annapolisroyal.com
SUMMARY:Town Crier proclamations
DESCRIPTION:Event proclamations by Annapolis Royal Town Crier\, Christine Igot 10 am and noon. Every Saturday at the Farmers and Traders’ market
URL:https://annapolisroyal.com/event/town-crier-proclamations/2027-11-13/
LOCATION:Annapolis Royal Farmer’s Market\, St George St. \, Annapolis Royal\, Nova Scotia \, B0S 1A0\, Canada
GEO:44.7410157;-65.5109883
X-APPLE-STRUCTURED-LOCATION;VALUE=URI;X-ADDRESS=Annapolis Royal Farmer’s Market St George St.  Annapolis Royal Nova Scotia  B0S 1A0 Canada;X-APPLE-RADIUS=500;X-TITLE=St George St.:geo:-65.5109883,44.7410157
END:VEVENT
BEGIN:VEVENT
DTSTART;TZID=America/Halifax:20271120T100000
DTEND;TZID=America/Halifax:20271120T100000
DTSTAMP:20260422T083804
CREATED:20240604T112939Z
LAST-MODIFIED:20240920T173355Z
UID:10005196-1826704800-1826704800@annapolisroyal.com
SUMMARY:Town Crier proclamations
DESCRIPTION:Event proclamations by Annapolis Royal Town Crier\, Christine Igot 10 am and noon. Every Saturday at the Farmers and Traders’ market
URL:https://annapolisroyal.com/event/town-crier-proclamations/2027-11-20/
LOCATION:Annapolis Royal Farmer’s Market\, St George St. \, Annapolis Royal\, Nova Scotia \, B0S 1A0\, Canada
GEO:44.7410157;-65.5109883
X-APPLE-STRUCTURED-LOCATION;VALUE=URI;X-ADDRESS=Annapolis Royal Farmer’s Market St George St.  Annapolis Royal Nova Scotia  B0S 1A0 Canada;X-APPLE-RADIUS=500;X-TITLE=St George St.:geo:-65.5109883,44.7410157
END:VEVENT
BEGIN:VEVENT
DTSTART;TZID=America/Halifax:20271127T100000
DTEND;TZID=America/Halifax:20271127T100000
DTSTAMP:20260422T083804
CREATED:20240604T112939Z
LAST-MODIFIED:20240920T173355Z
UID:10005197-1827309600-1827309600@annapolisroyal.com
SUMMARY:Town Crier proclamations
DESCRIPTION:Event proclamations by Annapolis Royal Town Crier\, Christine Igot 10 am and noon. Every Saturday at the Farmers and Traders’ market
URL:https://annapolisroyal.com/event/town-crier-proclamations/2027-11-27/
LOCATION:Annapolis Royal Farmer’s Market\, St George St. \, Annapolis Royal\, Nova Scotia \, B0S 1A0\, Canada
GEO:44.7410157;-65.5109883
X-APPLE-STRUCTURED-LOCATION;VALUE=URI;X-ADDRESS=Annapolis Royal Farmer’s Market St George St.  Annapolis Royal Nova Scotia  B0S 1A0 Canada;X-APPLE-RADIUS=500;X-TITLE=St George St.:geo:-65.5109883,44.7410157
END:VEVENT
BEGIN:VEVENT
DTSTART;TZID=America/Halifax:20271204T100000
DTEND;TZID=America/Halifax:20271204T100000
DTSTAMP:20260422T083804
CREATED:20240604T112939Z
LAST-MODIFIED:20240920T173355Z
UID:10005198-1827914400-1827914400@annapolisroyal.com
SUMMARY:Town Crier proclamations
DESCRIPTION:Event proclamations by Annapolis Royal Town Crier\, Christine Igot 10 am and noon. Every Saturday at the Farmers and Traders’ market
URL:https://annapolisroyal.com/event/town-crier-proclamations/2027-12-04/
LOCATION:Annapolis Royal Farmer’s Market\, St George St. \, Annapolis Royal\, Nova Scotia \, B0S 1A0\, Canada
GEO:44.7410157;-65.5109883
X-APPLE-STRUCTURED-LOCATION;VALUE=URI;X-ADDRESS=Annapolis Royal Farmer’s Market St George St.  Annapolis Royal Nova Scotia  B0S 1A0 Canada;X-APPLE-RADIUS=500;X-TITLE=St George St.:geo:-65.5109883,44.7410157
END:VEVENT
BEGIN:VEVENT
DTSTART;TZID=America/Halifax:20271211T100000
DTEND;TZID=America/Halifax:20271211T100000
DTSTAMP:20260422T083804
CREATED:20240604T112939Z
LAST-MODIFIED:20240920T173355Z
UID:10005199-1828519200-1828519200@annapolisroyal.com
SUMMARY:Town Crier proclamations
DESCRIPTION:Event proclamations by Annapolis Royal Town Crier\, Christine Igot 10 am and noon. Every Saturday at the Farmers and Traders’ market
URL:https://annapolisroyal.com/event/town-crier-proclamations/2027-12-11/
LOCATION:Annapolis Royal Farmer’s Market\, St George St. \, Annapolis Royal\, Nova Scotia \, B0S 1A0\, Canada
GEO:44.7410157;-65.5109883
X-APPLE-STRUCTURED-LOCATION;VALUE=URI;X-ADDRESS=Annapolis Royal Farmer’s Market St George St.  Annapolis Royal Nova Scotia  B0S 1A0 Canada;X-APPLE-RADIUS=500;X-TITLE=St George St.:geo:-65.5109883,44.7410157
END:VEVENT
BEGIN:VEVENT
DTSTART;TZID=America/Halifax:20271218T100000
DTEND;TZID=America/Halifax:20271218T100000
DTSTAMP:20260422T083804
CREATED:20240604T112939Z
LAST-MODIFIED:20240920T173355Z
UID:10005200-1829124000-1829124000@annapolisroyal.com
SUMMARY:Town Crier proclamations
DESCRIPTION:Event proclamations by Annapolis Royal Town Crier\, Christine Igot 10 am and noon. Every Saturday at the Farmers and Traders’ market
URL:https://annapolisroyal.com/event/town-crier-proclamations/2027-12-18/
LOCATION:Annapolis Royal Farmer’s Market\, St George St. \, Annapolis Royal\, Nova Scotia \, B0S 1A0\, Canada
GEO:44.7410157;-65.5109883
X-APPLE-STRUCTURED-LOCATION;VALUE=URI;X-ADDRESS=Annapolis Royal Farmer’s Market St George St.  Annapolis Royal Nova Scotia  B0S 1A0 Canada;X-APPLE-RADIUS=500;X-TITLE=St George St.:geo:-65.5109883,44.7410157
END:VEVENT
BEGIN:VEVENT
DTSTART;TZID=America/Halifax:20271225T100000
DTEND;TZID=America/Halifax:20271225T100000
DTSTAMP:20260422T083804
CREATED:20240604T112939Z
LAST-MODIFIED:20240920T173355Z
UID:10005201-1829728800-1829728800@annapolisroyal.com
SUMMARY:Town Crier proclamations
DESCRIPTION:Event proclamations by Annapolis Royal Town Crier\, Christine Igot 10 am and noon. Every Saturday at the Farmers and Traders’ market
URL:https://annapolisroyal.com/event/town-crier-proclamations/2027-12-25/
LOCATION:Annapolis Royal Farmer’s Market\, St George St. \, Annapolis Royal\, Nova Scotia \, B0S 1A0\, Canada
GEO:44.7410157;-65.5109883
X-APPLE-STRUCTURED-LOCATION;VALUE=URI;X-ADDRESS=Annapolis Royal Farmer’s Market St George St.  Annapolis Royal Nova Scotia  B0S 1A0 Canada;X-APPLE-RADIUS=500;X-TITLE=St George St.:geo:-65.5109883,44.7410157
END:VEVENT
BEGIN:VEVENT
DTSTART;TZID=America/Halifax:20280101T100000
DTEND;TZID=America/Halifax:20280101T100000
DTSTAMP:20260422T083804
CREATED:20240604T112939Z
LAST-MODIFIED:20240920T173355Z
UID:10005202-1830333600-1830333600@annapolisroyal.com
SUMMARY:Town Crier proclamations
DESCRIPTION:Event proclamations by Annapolis Royal Town Crier\, Christine Igot 10 am and noon. Every Saturday at the Farmers and Traders’ market
URL:https://annapolisroyal.com/event/town-crier-proclamations/2028-01-01/
LOCATION:Annapolis Royal Farmer’s Market\, St George St. \, Annapolis Royal\, Nova Scotia \, B0S 1A0\, Canada
GEO:44.7410157;-65.5109883
X-APPLE-STRUCTURED-LOCATION;VALUE=URI;X-ADDRESS=Annapolis Royal Farmer’s Market St George St.  Annapolis Royal Nova Scotia  B0S 1A0 Canada;X-APPLE-RADIUS=500;X-TITLE=St George St.:geo:-65.5109883,44.7410157
END:VEVENT
BEGIN:VEVENT
DTSTART;TZID=America/Halifax:20280108T100000
DTEND;TZID=America/Halifax:20280108T100000
DTSTAMP:20260422T083804
CREATED:20240604T112939Z
LAST-MODIFIED:20240920T173355Z
UID:10005203-1830938400-1830938400@annapolisroyal.com
SUMMARY:Town Crier proclamations
DESCRIPTION:Event proclamations by Annapolis Royal Town Crier\, Christine Igot 10 am and noon. Every Saturday at the Farmers and Traders’ market
URL:https://annapolisroyal.com/event/town-crier-proclamations/2028-01-08/
LOCATION:Annapolis Royal Farmer’s Market\, St George St. \, Annapolis Royal\, Nova Scotia \, B0S 1A0\, Canada
GEO:44.7410157;-65.5109883
X-APPLE-STRUCTURED-LOCATION;VALUE=URI;X-ADDRESS=Annapolis Royal Farmer’s Market St George St.  Annapolis Royal Nova Scotia  B0S 1A0 Canada;X-APPLE-RADIUS=500;X-TITLE=St George St.:geo:-65.5109883,44.7410157
END:VEVENT
BEGIN:VEVENT
DTSTART;TZID=America/Halifax:20280115T100000
DTEND;TZID=America/Halifax:20280115T100000
DTSTAMP:20260422T083804
CREATED:20240604T112939Z
LAST-MODIFIED:20240920T173355Z
UID:10005204-1831543200-1831543200@annapolisroyal.com
SUMMARY:Town Crier proclamations
DESCRIPTION:Event proclamations by Annapolis Royal Town Crier\, Christine Igot 10 am and noon. Every Saturday at the Farmers and Traders’ market
URL:https://annapolisroyal.com/event/town-crier-proclamations/2028-01-15/
LOCATION:Annapolis Royal Farmer’s Market\, St George St. \, Annapolis Royal\, Nova Scotia \, B0S 1A0\, Canada
GEO:44.7410157;-65.5109883
X-APPLE-STRUCTURED-LOCATION;VALUE=URI;X-ADDRESS=Annapolis Royal Farmer’s Market St George St.  Annapolis Royal Nova Scotia  B0S 1A0 Canada;X-APPLE-RADIUS=500;X-TITLE=St George St.:geo:-65.5109883,44.7410157
END:VEVENT
BEGIN:VEVENT
DTSTART;TZID=America/Halifax:20280122T100000
DTEND;TZID=America/Halifax:20280122T100000
DTSTAMP:20260422T083804
CREATED:20240604T112939Z
LAST-MODIFIED:20240920T173355Z
UID:10005205-1832148000-1832148000@annapolisroyal.com
SUMMARY:Town Crier proclamations
DESCRIPTION:Event proclamations by Annapolis Royal Town Crier\, Christine Igot 10 am and noon. Every Saturday at the Farmers and Traders’ market
URL:https://annapolisroyal.com/event/town-crier-proclamations/2028-01-22/
LOCATION:Annapolis Royal Farmer’s Market\, St George St. \, Annapolis Royal\, Nova Scotia \, B0S 1A0\, Canada
GEO:44.7410157;-65.5109883
X-APPLE-STRUCTURED-LOCATION;VALUE=URI;X-ADDRESS=Annapolis Royal Farmer’s Market St George St.  Annapolis Royal Nova Scotia  B0S 1A0 Canada;X-APPLE-RADIUS=500;X-TITLE=St George St.:geo:-65.5109883,44.7410157
END:VEVENT
BEGIN:VEVENT
DTSTART;TZID=America/Halifax:20280129T100000
DTEND;TZID=America/Halifax:20280129T100000
DTSTAMP:20260422T083804
CREATED:20240604T112939Z
LAST-MODIFIED:20240920T173355Z
UID:10005206-1832752800-1832752800@annapolisroyal.com
SUMMARY:Town Crier proclamations
DESCRIPTION:Event proclamations by Annapolis Royal Town Crier\, Christine Igot 10 am and noon. Every Saturday at the Farmers and Traders’ market
URL:https://annapolisroyal.com/event/town-crier-proclamations/2028-01-29/
LOCATION:Annapolis Royal Farmer’s Market\, St George St. \, Annapolis Royal\, Nova Scotia \, B0S 1A0\, Canada
GEO:44.7410157;-65.5109883
X-APPLE-STRUCTURED-LOCATION;VALUE=URI;X-ADDRESS=Annapolis Royal Farmer’s Market St George St.  Annapolis Royal Nova Scotia  B0S 1A0 Canada;X-APPLE-RADIUS=500;X-TITLE=St George St.:geo:-65.5109883,44.7410157
END:VEVENT
BEGIN:VEVENT
DTSTART;TZID=America/Halifax:20280205T100000
DTEND;TZID=America/Halifax:20280205T100000
DTSTAMP:20260422T083804
CREATED:20240604T112939Z
LAST-MODIFIED:20240920T173355Z
UID:10005207-1833357600-1833357600@annapolisroyal.com
SUMMARY:Town Crier proclamations
DESCRIPTION:Event proclamations by Annapolis Royal Town Crier\, Christine Igot 10 am and noon. Every Saturday at the Farmers and Traders’ market
URL:https://annapolisroyal.com/event/town-crier-proclamations/2028-02-05/
LOCATION:Annapolis Royal Farmer’s Market\, St George St. \, Annapolis Royal\, Nova Scotia \, B0S 1A0\, Canada
GEO:44.7410157;-65.5109883
X-APPLE-STRUCTURED-LOCATION;VALUE=URI;X-ADDRESS=Annapolis Royal Farmer’s Market St George St.  Annapolis Royal Nova Scotia  B0S 1A0 Canada;X-APPLE-RADIUS=500;X-TITLE=St George St.:geo:-65.5109883,44.7410157
END:VEVENT
BEGIN:VEVENT
DTSTART;TZID=America/Halifax:20280212T100000
DTEND;TZID=America/Halifax:20280212T100000
DTSTAMP:20260422T083804
CREATED:20240604T112939Z
LAST-MODIFIED:20240920T173355Z
UID:10005208-1833962400-1833962400@annapolisroyal.com
SUMMARY:Town Crier proclamations
DESCRIPTION:Event proclamations by Annapolis Royal Town Crier\, Christine Igot 10 am and noon. Every Saturday at the Farmers and Traders’ market
URL:https://annapolisroyal.com/event/town-crier-proclamations/2028-02-12/
LOCATION:Annapolis Royal Farmer’s Market\, St George St. \, Annapolis Royal\, Nova Scotia \, B0S 1A0\, Canada
GEO:44.7410157;-65.5109883
X-APPLE-STRUCTURED-LOCATION;VALUE=URI;X-ADDRESS=Annapolis Royal Farmer’s Market St George St.  Annapolis Royal Nova Scotia  B0S 1A0 Canada;X-APPLE-RADIUS=500;X-TITLE=St George St.:geo:-65.5109883,44.7410157
END:VEVENT
BEGIN:VEVENT
DTSTART;TZID=America/Halifax:20280219T100000
DTEND;TZID=America/Halifax:20280219T100000
DTSTAMP:20260422T083804
CREATED:20240604T112939Z
LAST-MODIFIED:20240920T173355Z
UID:10005209-1834567200-1834567200@annapolisroyal.com
SUMMARY:Town Crier proclamations
DESCRIPTION:Event proclamations by Annapolis Royal Town Crier\, Christine Igot 10 am and noon. Every Saturday at the Farmers and Traders’ market
URL:https://annapolisroyal.com/event/town-crier-proclamations/2028-02-19/
LOCATION:Annapolis Royal Farmer’s Market\, St George St. \, Annapolis Royal\, Nova Scotia \, B0S 1A0\, Canada
GEO:44.7410157;-65.5109883
X-APPLE-STRUCTURED-LOCATION;VALUE=URI;X-ADDRESS=Annapolis Royal Farmer’s Market St George St.  Annapolis Royal Nova Scotia  B0S 1A0 Canada;X-APPLE-RADIUS=500;X-TITLE=St George St.:geo:-65.5109883,44.7410157
END:VEVENT
BEGIN:VEVENT
DTSTART;TZID=America/Halifax:20280226T100000
DTEND;TZID=America/Halifax:20280226T100000
DTSTAMP:20260422T083804
CREATED:20240604T112939Z
LAST-MODIFIED:20240920T173355Z
UID:10005210-1835172000-1835172000@annapolisroyal.com
SUMMARY:Town Crier proclamations
DESCRIPTION:Event proclamations by Annapolis Royal Town Crier\, Christine Igot 10 am and noon. Every Saturday at the Farmers and Traders’ market
URL:https://annapolisroyal.com/event/town-crier-proclamations/2028-02-26/
LOCATION:Annapolis Royal Farmer’s Market\, St George St. \, Annapolis Royal\, Nova Scotia \, B0S 1A0\, Canada
GEO:44.7410157;-65.5109883
X-APPLE-STRUCTURED-LOCATION;VALUE=URI;X-ADDRESS=Annapolis Royal Farmer’s Market St George St.  Annapolis Royal Nova Scotia  B0S 1A0 Canada;X-APPLE-RADIUS=500;X-TITLE=St George St.:geo:-65.5109883,44.7410157
END:VEVENT
BEGIN:VEVENT
DTSTART;TZID=America/Halifax:20280304T100000
DTEND;TZID=America/Halifax:20280304T100000
DTSTAMP:20260422T083804
CREATED:20240604T112939Z
LAST-MODIFIED:20240920T173355Z
UID:10005211-1835776800-1835776800@annapolisroyal.com
SUMMARY:Town Crier proclamations
DESCRIPTION:Event proclamations by Annapolis Royal Town Crier\, Christine Igot 10 am and noon. Every Saturday at the Farmers and Traders’ market
URL:https://annapolisroyal.com/event/town-crier-proclamations/2028-03-04/
LOCATION:Annapolis Royal Farmer’s Market\, St George St. \, Annapolis Royal\, Nova Scotia \, B0S 1A0\, Canada
GEO:44.7410157;-65.5109883
X-APPLE-STRUCTURED-LOCATION;VALUE=URI;X-ADDRESS=Annapolis Royal Farmer’s Market St George St.  Annapolis Royal Nova Scotia  B0S 1A0 Canada;X-APPLE-RADIUS=500;X-TITLE=St George St.:geo:-65.5109883,44.7410157
END:VEVENT
BEGIN:VEVENT
DTSTART;TZID=America/Halifax:20280311T100000
DTEND;TZID=America/Halifax:20280311T100000
DTSTAMP:20260422T083804
CREATED:20240604T112939Z
LAST-MODIFIED:20240920T173355Z
UID:10005212-1836381600-1836381600@annapolisroyal.com
SUMMARY:Town Crier proclamations
DESCRIPTION:Event proclamations by Annapolis Royal Town Crier\, Christine Igot 10 am and noon. Every Saturday at the Farmers and Traders’ market
URL:https://annapolisroyal.com/event/town-crier-proclamations/2028-03-11/
LOCATION:Annapolis Royal Farmer’s Market\, St George St. \, Annapolis Royal\, Nova Scotia \, B0S 1A0\, Canada
GEO:44.7410157;-65.5109883
X-APPLE-STRUCTURED-LOCATION;VALUE=URI;X-ADDRESS=Annapolis Royal Farmer’s Market St George St.  Annapolis Royal Nova Scotia  B0S 1A0 Canada;X-APPLE-RADIUS=500;X-TITLE=St George St.:geo:-65.5109883,44.7410157
END:VEVENT
BEGIN:VEVENT
DTSTART;TZID=America/Halifax:20280318T100000
DTEND;TZID=America/Halifax:20280318T100000
DTSTAMP:20260422T083804
CREATED:20240604T112939Z
LAST-MODIFIED:20240920T173355Z
UID:10005213-1836986400-1836986400@annapolisroyal.com
SUMMARY:Town Crier proclamations
DESCRIPTION:Event proclamations by Annapolis Royal Town Crier\, Christine Igot 10 am and noon. Every Saturday at the Farmers and Traders’ market
URL:https://annapolisroyal.com/event/town-crier-proclamations/2028-03-18/
LOCATION:Annapolis Royal Farmer’s Market\, St George St. \, Annapolis Royal\, Nova Scotia \, B0S 1A0\, Canada
GEO:44.7410157;-65.5109883
X-APPLE-STRUCTURED-LOCATION;VALUE=URI;X-ADDRESS=Annapolis Royal Farmer’s Market St George St.  Annapolis Royal Nova Scotia  B0S 1A0 Canada;X-APPLE-RADIUS=500;X-TITLE=St George St.:geo:-65.5109883,44.7410157
END:VEVENT
END:VCALENDAR