BEGIN:VCALENDAR
VERSION:2.0
PRODID:-//Town of Annapolis Royal - ECPv6.15.20//NONSGML v1.0//EN
CALSCALE:GREGORIAN
METHOD:PUBLISH
X-WR-CALNAME:Town of Annapolis Royal
X-ORIGINAL-URL:https://annapolisroyal.com
X-WR-CALDESC:Events for Town of Annapolis Royal
REFRESH-INTERVAL;VALUE=DURATION:PT1H
X-Robots-Tag:noindex
X-PUBLISHED-TTL:PT1H
BEGIN:VTIMEZONE
TZID:America/Halifax
BEGIN:DAYLIGHT
TZOFFSETFROM:-0400
TZOFFSETTO:-0300
TZNAME:ADT
DTSTART:20240310T060000
END:DAYLIGHT
BEGIN:STANDARD
TZOFFSETFROM:-0300
TZOFFSETTO:-0400
TZNAME:AST
DTSTART:20241103T050000
END:STANDARD
BEGIN:DAYLIGHT
TZOFFSETFROM:-0400
TZOFFSETTO:-0300
TZNAME:ADT
DTSTART:20250309T060000
END:DAYLIGHT
BEGIN:STANDARD
TZOFFSETFROM:-0300
TZOFFSETTO:-0400
TZNAME:AST
DTSTART:20251102T050000
END:STANDARD
BEGIN:DAYLIGHT
TZOFFSETFROM:-0400
TZOFFSETTO:-0300
TZNAME:ADT
DTSTART:20260308T060000
END:DAYLIGHT
BEGIN:STANDARD
TZOFFSETFROM:-0300
TZOFFSETTO:-0400
TZNAME:AST
DTSTART:20261101T050000
END:STANDARD
END:VTIMEZONE
BEGIN:VEVENT
DTSTART;TZID=America/Halifax:20251003T190000
DTEND;TZID=America/Halifax:20251003T210000
DTSTAMP:20260422T150439
CREATED:20251003T150308Z
LAST-MODIFIED:20251003T150308Z
UID:10006728-1759518000-1759525200@annapolisroyal.com
SUMMARY:Annapolis Royal Legion: Karaoke Fundraiser for Natal Day 2026
DESCRIPTION:
URL:https://annapolisroyal.com/event/annapolis-royal-legion-karaoke-fundraiser-for-natal-day-2026/
LOCATION:Port Royal Legion Branch #21\, 66 Victoria St\, Annapolis Royal\, Nova Scotia\, B0S 1A0\, Canada
GEO:44.7432838;-65.5172655
X-APPLE-STRUCTURED-LOCATION;VALUE=URI;X-ADDRESS=Port Royal Legion Branch #21 66 Victoria St Annapolis Royal Nova Scotia B0S 1A0 Canada;X-APPLE-RADIUS=500;X-TITLE=66 Victoria St:geo:-65.5172655,44.7432838
END:VEVENT
BEGIN:VEVENT
DTSTART;TZID=America/Halifax:20251003T190000
DTEND;TZID=America/Halifax:20251003T210000
DTSTAMP:20260422T150439
CREATED:20250926T160848Z
LAST-MODIFIED:20250926T160848Z
UID:10006721-1759518000-1759525200@annapolisroyal.com
SUMMARY:Mad Hatter Wine Bar: Live music with Damian Brennan
DESCRIPTION:
URL:https://annapolisroyal.com/event/mad-hatter-wine-bar-live-music-with-damian-brennan-2/
LOCATION:Port Royal Legion Branch #21\, 66 Victoria St\, Annapolis Royal\, Nova Scotia\, B0S 1A0\, Canada
GEO:44.7432838;-65.5172655
X-APPLE-STRUCTURED-LOCATION;VALUE=URI;X-ADDRESS=Port Royal Legion Branch #21 66 Victoria St Annapolis Royal Nova Scotia B0S 1A0 Canada;X-APPLE-RADIUS=500;X-TITLE=66 Victoria St:geo:-65.5172655,44.7432838
END:VEVENT
BEGIN:VEVENT
DTSTART;TZID=America/Halifax:20250926T190000
DTEND;TZID=America/Halifax:20250926T210000
DTSTAMP:20260422T150439
CREATED:20250926T160648Z
LAST-MODIFIED:20250926T160648Z
UID:10006718-1758913200-1758920400@annapolisroyal.com
SUMMARY:Annapolis Royal Legion: Live music with the Res-O-Matics.
DESCRIPTION:
URL:https://annapolisroyal.com/event/annapolis-royal-legion-live-music-with-the-res-o-matics/
LOCATION:Port Royal Legion Branch #21\, 66 Victoria St\, Annapolis Royal\, Nova Scotia\, B0S 1A0\, Canada
GEO:44.7432838;-65.5172655
X-APPLE-STRUCTURED-LOCATION;VALUE=URI;X-ADDRESS=Port Royal Legion Branch #21 66 Victoria St Annapolis Royal Nova Scotia B0S 1A0 Canada;X-APPLE-RADIUS=500;X-TITLE=66 Victoria St:geo:-65.5172655,44.7432838
END:VEVENT
BEGIN:VEVENT
DTSTART;TZID=America/Halifax:20250919T190000
DTEND;TZID=America/Halifax:20250919T210000
DTSTAMP:20260422T150439
CREATED:20250919T114558Z
LAST-MODIFIED:20250919T114558Z
UID:10006709-1758308400-1758315600@annapolisroyal.com
SUMMARY:Annapolis Royal Legion: Live music
DESCRIPTION:
URL:https://annapolisroyal.com/event/annapolis-royal-legion-live-music-2/
LOCATION:Port Royal Legion Branch #21\, 66 Victoria St\, Annapolis Royal\, Nova Scotia\, B0S 1A0\, Canada
GEO:44.7432838;-65.5172655
X-APPLE-STRUCTURED-LOCATION;VALUE=URI;X-ADDRESS=Port Royal Legion Branch #21 66 Victoria St Annapolis Royal Nova Scotia B0S 1A0 Canada;X-APPLE-RADIUS=500;X-TITLE=66 Victoria St:geo:-65.5172655,44.7432838
END:VEVENT
BEGIN:VEVENT
DTSTART;TZID=America/Halifax:20250912T190000
DTEND;TZID=America/Halifax:20250912T210000
DTSTAMP:20260422T150439
CREATED:20250911T165316Z
LAST-MODIFIED:20250911T165316Z
UID:10006699-1757703600-1757710800@annapolisroyal.com
SUMMARY:Annapolis Royal Legion: Live music with Theresa Porter
DESCRIPTION:
URL:https://annapolisroyal.com/event/annapolis-royal-legion-live-music-with-theresa-porter/
LOCATION:Port Royal Legion Branch #21\, 66 Victoria St\, Annapolis Royal\, Nova Scotia\, B0S 1A0\, Canada
GEO:44.7432838;-65.5172655
X-APPLE-STRUCTURED-LOCATION;VALUE=URI;X-ADDRESS=Port Royal Legion Branch #21 66 Victoria St Annapolis Royal Nova Scotia B0S 1A0 Canada;X-APPLE-RADIUS=500;X-TITLE=66 Victoria St:geo:-65.5172655,44.7432838
END:VEVENT
BEGIN:VEVENT
DTSTART;TZID=America/Halifax:20250912T190000
DTEND;TZID=America/Halifax:20250912T210000
DTSTAMP:20260422T150439
CREATED:20250905T170324Z
LAST-MODIFIED:20250905T170324Z
UID:10006686-1757703600-1757710800@annapolisroyal.com
SUMMARY:Annapolis Royal Legion: Live music
DESCRIPTION:
URL:https://annapolisroyal.com/event/annapolis-royal-legion-live-music/
LOCATION:Port Royal Legion Branch #21\, 66 Victoria St\, Annapolis Royal\, Nova Scotia\, B0S 1A0\, Canada
GEO:44.7432838;-65.5172655
X-APPLE-STRUCTURED-LOCATION;VALUE=URI;X-ADDRESS=Port Royal Legion Branch #21 66 Victoria St Annapolis Royal Nova Scotia B0S 1A0 Canada;X-APPLE-RADIUS=500;X-TITLE=66 Victoria St:geo:-65.5172655,44.7432838
END:VEVENT
BEGIN:VEVENT
DTSTART;TZID=America/Halifax:20250905T190000
DTEND;TZID=America/Halifax:20250905T210000
DTSTAMP:20260422T150439
CREATED:20250905T165555Z
LAST-MODIFIED:20250905T165555Z
UID:10006678-1757098800-1757106000@annapolisroyal.com
SUMMARY:Annapolis Royal Legion: Live music with Soulmates Duo
DESCRIPTION:
URL:https://annapolisroyal.com/event/annapolis-royal-legion-live-music-with-soulmates-duo-2/
LOCATION:Port Royal Legion Branch #21\, 66 Victoria St\, Annapolis Royal\, Nova Scotia\, B0S 1A0\, Canada
GEO:44.7432838;-65.5172655
X-APPLE-STRUCTURED-LOCATION;VALUE=URI;X-ADDRESS=Port Royal Legion Branch #21 66 Victoria St Annapolis Royal Nova Scotia B0S 1A0 Canada;X-APPLE-RADIUS=500;X-TITLE=66 Victoria St:geo:-65.5172655,44.7432838
END:VEVENT
BEGIN:VEVENT
DTSTART;TZID=America/Halifax:20250829T190000
DTEND;TZID=America/Halifax:20250829T210000
DTSTAMP:20260422T150439
CREATED:20250829T115540Z
LAST-MODIFIED:20250829T115540Z
UID:10006667-1756494000-1756501200@annapolisroyal.com
SUMMARY:Annapolis Royal Legion: Live music with Soulmates Duo
DESCRIPTION:
URL:https://annapolisroyal.com/event/annapolis-royal-legion-live-music-with-soulmates-duo/
LOCATION:Port Royal Legion Branch #21\, 66 Victoria St\, Annapolis Royal\, Nova Scotia\, B0S 1A0\, Canada
GEO:44.7432838;-65.5172655
X-APPLE-STRUCTURED-LOCATION;VALUE=URI;X-ADDRESS=Port Royal Legion Branch #21 66 Victoria St Annapolis Royal Nova Scotia B0S 1A0 Canada;X-APPLE-RADIUS=500;X-TITLE=66 Victoria St:geo:-65.5172655,44.7432838
END:VEVENT
BEGIN:VEVENT
DTSTART;TZID=America/Halifax:20250817T133000
DTEND;TZID=America/Halifax:20250817T150000
DTSTAMP:20260422T150439
CREATED:20250723T173542Z
LAST-MODIFIED:20250723T173542Z
UID:10006603-1755437400-1755442800@annapolisroyal.com
SUMMARY:Paint the Town Symposium: Cultural Values: Art\, Creativity and Economic Activity
DESCRIPTION:2025 Paint the Town Symposium: Panel 4 \nCreative communities are an asset\, which fuel activity and attract attention. Just as entrepreneurial skill can nourish an enduring artistic career\, businesses can benefit from the power of creativity and culture. Join us for this discussion on how regional development can be catalyzed by the mutual interests of local artists and businesses. \nModerator:Christopher Webb (Herring Cove) – Artist/Owner\, Pavia Gallery – Espresso Bar & Café \nPanelists:Wade Cleveland (Yarmouth) – Musician / Radio Host / Podcast / Communications Coordinator\, Western Regional Enterprise Network / Town Councillor\n| Dawn Oman (Bridgetown) – Artist / Dawn Oman Art Gallery | Erin Welch (Bear River) – Owner\, Sissiboo Coffee Roasters Gallery & Jon Welch (Bear River)\n– Owner\, Sissiboo Coffee Roasters Gallery / Councillor\, County of Annapolis \nRegistration is required. Visit www.arcac.ca/paintthetown for more information and to register.
URL:https://annapolisroyal.com/event/paint-the-town-symposium-cultural-values-art-creativity-and-economic-activity/
LOCATION:Port Royal Legion Branch #21\, 66 Victoria St\, Annapolis Royal\, Nova Scotia\, B0S 1A0\, Canada
GEO:44.7432838;-65.5172655
X-APPLE-STRUCTURED-LOCATION;VALUE=URI;X-ADDRESS=Port Royal Legion Branch #21 66 Victoria St Annapolis Royal Nova Scotia B0S 1A0 Canada;X-APPLE-RADIUS=500;X-TITLE=66 Victoria St:geo:-65.5172655,44.7432838
END:VEVENT
BEGIN:VEVENT
DTSTART;TZID=America/Halifax:20250817T103000
DTEND;TZID=America/Halifax:20250817T120000
DTSTAMP:20260422T150439
CREATED:20250723T173557Z
LAST-MODIFIED:20250723T173557Z
UID:10006602-1755426600-1755432000@annapolisroyal.com
SUMMARY:Paint the Town Symposium: "Could we ever know each other... without the arts?"
DESCRIPTION:2025 Paint the Town Symposium: Panel 3 \nAuthor Gabrielle Roy’s quote appeared in tiny print on our $20 bill for many years—a profound question for anyone engaged in building enduring communities. Living in proximity makes us neighbours. Shared experiences make us a community. Join us for this discussion on the contributions of rural artists and cultural institutions to stimulate social development. \nModerator: ​Dr. Tracy Summerville (Centrelea) – Political Scientist\, Retired / Actor\, Stage Manager / Chair\, King’s Theatre \nPanelists:\nKen Flett (Bear River) – Artist / Oakdene Community Centre | Sally O’Grady (Annapolis Royal) – Artist\, Bonnet House Art Gallery / Geomatician\, retired | Chris O’Neill (Ross Creek) – Actor / Playwright / Executive Director\, Ross Creek Centre for the Arts \nProceeded by a welcome address from Ted Lind\, ARCAC Vice Chair and Diane LeBlance\, Warden of the County of Annapolis. \nRegistration is required. Visit www.arcac.ca/paintthetown for more information and to register.
URL:https://annapolisroyal.com/event/paint-the-town-symposium-could-we-ever-know-each-other-without-the-arts/
LOCATION:Port Royal Legion Branch #21\, 66 Victoria St\, Annapolis Royal\, Nova Scotia\, B0S 1A0\, Canada
GEO:44.7432838;-65.5172655
X-APPLE-STRUCTURED-LOCATION;VALUE=URI;X-ADDRESS=Port Royal Legion Branch #21 66 Victoria St Annapolis Royal Nova Scotia B0S 1A0 Canada;X-APPLE-RADIUS=500;X-TITLE=66 Victoria St:geo:-65.5172655,44.7432838
END:VEVENT
BEGIN:VEVENT
DTSTART;TZID=America/Halifax:20250816T133000
DTEND;TZID=America/Halifax:20250816T150000
DTSTAMP:20260422T150439
CREATED:20250723T173618Z
LAST-MODIFIED:20250723T173618Z
UID:10006601-1755351000-1755356400@annapolisroyal.com
SUMMARY:Paint the Town Symposium: Virtual Rurality: Life and Work of the Rural Artist in a Digital World
DESCRIPTION:2025 Paint the Town Symposium: Panel 2 \nDistance and density have always defined the differences between rural and urban life. As the online world evolves\, our horizons simultaneously expand and shrink. How are these powerful new tools and opportunities affecting the lives and choices of rural artists?​ \nModerator:​​Ashlee Conery (Vancouver) – Founder\, Cube Commons \nPanelists:Bonnie Baker (Annapolis Royal) – Artist\, Elephant Grass Printmaking Society | Adam McNamara (New Germany) – Artist\, Adam Mack Wood Art | Andrew Tolson (Annapolis Royal) -Writer\, Photographer\, Filmmaker \nRegistration is required. Visit www.arcac.ca/paintthetown for more information and to register.
URL:https://annapolisroyal.com/event/paint-the-town-symposium-virtual-rurality-life-and-work-of-the-rural-artist-in-a-digital-world/
LOCATION:Port Royal Legion Branch #21\, 66 Victoria St\, Annapolis Royal\, Nova Scotia\, B0S 1A0\, Canada
GEO:44.7432838;-65.5172655
X-APPLE-STRUCTURED-LOCATION;VALUE=URI;X-ADDRESS=Port Royal Legion Branch #21 66 Victoria St Annapolis Royal Nova Scotia B0S 1A0 Canada;X-APPLE-RADIUS=500;X-TITLE=66 Victoria St:geo:-65.5172655,44.7432838
END:VEVENT
BEGIN:VEVENT
DTSTART;TZID=America/Halifax:20250816T103000
DTEND;TZID=America/Halifax:20250816T120000
DTSTAMP:20260422T150439
CREATED:20250723T173636Z
LAST-MODIFIED:20250723T173636Z
UID:10006600-1755340200-1755345600@annapolisroyal.com
SUMMARY:Paint the Town Symposium: Small Town\, Big Ideas: Surviving and Thriving as a Rural Artist​
DESCRIPTION:2025 Paint the Town Symposium: Panel 1 \nHeading to the country for inspiration is one thing. Making your life here\, year in year out\, is quite another. Four artists bare their rural roots in an honest discussion of the rewards and challenges of grounding their practice in smaller communities. \nModerator:Therese Cruz (Shelburne) – Executive Director\, Visual Arts NS / Councillor\, Town of Shelburne \nPanelists: Brandt Eisner (Truro) – Multimedia artist\, Curator | Rebecca Fisk (Mahone Bay)​ – Artist\, High School Art Teacher | Debra Kuzyk (Annapolis Royal) – ​Artist\, Lucky Rabbit Pottery \nProceeded by a welcome address from Ted Lind\, ARCAC Vice Chair and Amery Boyer\, Mayor of the Town of Annapolis (10:00am) \nRegistration is required. Visit www.arcac.ca/paintthetown for more information and to register.
URL:https://annapolisroyal.com/event/paint-the-town-symposium-small-town-big-ideas-surviving-and-thriving-as-a-rural-artist/
LOCATION:Port Royal Legion Branch #21\, 66 Victoria St\, Annapolis Royal\, Nova Scotia\, B0S 1A0\, Canada
GEO:44.7432838;-65.5172655
X-APPLE-STRUCTURED-LOCATION;VALUE=URI;X-ADDRESS=Port Royal Legion Branch #21 66 Victoria St Annapolis Royal Nova Scotia B0S 1A0 Canada;X-APPLE-RADIUS=500;X-TITLE=66 Victoria St:geo:-65.5172655,44.7432838
END:VEVENT
BEGIN:VEVENT
DTSTART;TZID=America/Halifax:20250808T190000
DTEND;TZID=America/Halifax:20250808T210000
DTSTAMP:20260422T150439
CREATED:20250808T161634Z
LAST-MODIFIED:20250808T161634Z
UID:10006628-1754679600-1754686800@annapolisroyal.com
SUMMARY:Annapolis Royal Legion: Live music with Permanent Resonance
DESCRIPTION:
URL:https://annapolisroyal.com/event/annapolis-royal-legion-live-music-with-permanent-resonance-2/
LOCATION:Port Royal Legion Branch #21\, 66 Victoria St\, Annapolis Royal\, Nova Scotia\, B0S 1A0\, Canada
GEO:44.7432838;-65.5172655
X-APPLE-STRUCTURED-LOCATION;VALUE=URI;X-ADDRESS=Port Royal Legion Branch #21 66 Victoria St Annapolis Royal Nova Scotia B0S 1A0 Canada;X-APPLE-RADIUS=500;X-TITLE=66 Victoria St:geo:-65.5172655,44.7432838
END:VEVENT
BEGIN:VEVENT
DTSTART;TZID=America/Halifax:20250725T190000
DTEND;TZID=America/Halifax:20250725T210000
DTSTAMP:20260422T150439
CREATED:20250721T173544Z
LAST-MODIFIED:20250721T175500Z
UID:10006589-1753470000-1753477200@annapolisroyal.com
SUMMARY:Legion. Live music
DESCRIPTION:
URL:https://annapolisroyal.com/event/legion-live-music-2/
LOCATION:Port Royal Legion Branch #21\, 66 Victoria St\, Annapolis Royal\, Nova Scotia\, B0S 1A0\, Canada
GEO:44.7432838;-65.5172655
X-APPLE-STRUCTURED-LOCATION;VALUE=URI;X-ADDRESS=Port Royal Legion Branch #21 66 Victoria St Annapolis Royal Nova Scotia B0S 1A0 Canada;X-APPLE-RADIUS=500;X-TITLE=66 Victoria St:geo:-65.5172655,44.7432838
END:VEVENT
BEGIN:VEVENT
DTSTART;TZID=America/Halifax:20250722T180000
DTEND;TZID=America/Halifax:20250722T180000
DTSTAMP:20260422T150439
CREATED:20250721T170823Z
LAST-MODIFIED:20250721T170823Z
UID:10006585-1753207200-1753207200@annapolisroyal.com
SUMMARY:Shoreline restoration public meeting
DESCRIPTION:Shoreline restoration public meeting. First public engagement session to learn more about the Living Shoreline Restoration Project. All welcome. Free. Light refreshments.
URL:https://annapolisroyal.com/event/shoreline-restoration-public-meeting/
LOCATION:Port Royal Legion Branch #21\, 66 Victoria St\, Annapolis Royal\, Nova Scotia\, B0S 1A0\, Canada
GEO:44.7432838;-65.5172655
X-APPLE-STRUCTURED-LOCATION;VALUE=URI;X-ADDRESS=Port Royal Legion Branch #21 66 Victoria St Annapolis Royal Nova Scotia B0S 1A0 Canada;X-APPLE-RADIUS=500;X-TITLE=66 Victoria St:geo:-65.5172655,44.7432838
END:VEVENT
BEGIN:VEVENT
DTSTART;TZID=America/Halifax:20250711T200000
DTEND;TZID=America/Halifax:20250711T230000
DTSTAMP:20260422T150439
CREATED:20250704T122618Z
LAST-MODIFIED:20250704T122618Z
UID:10006562-1752264000-1752274800@annapolisroyal.com
SUMMARY:Legion. Karaoke Night with Theresa Porter
DESCRIPTION:$3 cover
URL:https://annapolisroyal.com/event/legion-karaoke-night-with-theresa-porter-3/
LOCATION:Port Royal Legion Branch #21\, 66 Victoria St\, Annapolis Royal\, Nova Scotia\, B0S 1A0\, Canada
GEO:44.7432838;-65.5172655
X-APPLE-STRUCTURED-LOCATION;VALUE=URI;X-ADDRESS=Port Royal Legion Branch #21 66 Victoria St Annapolis Royal Nova Scotia B0S 1A0 Canada;X-APPLE-RADIUS=500;X-TITLE=66 Victoria St:geo:-65.5172655,44.7432838
END:VEVENT
BEGIN:VEVENT
DTSTART;TZID=America/Halifax:20250704T200000
DTEND;TZID=America/Halifax:20250704T230000
DTSTAMP:20260422T150439
CREATED:20250704T121920Z
LAST-MODIFIED:20250704T121920Z
UID:10006553-1751659200-1751670000@annapolisroyal.com
SUMMARY:Legion. Karaoke Night with Theresa Porter.
DESCRIPTION:$3 cover
URL:https://annapolisroyal.com/event/legion-karaoke-night-with-theresa-porter-2/
LOCATION:Port Royal Legion Branch #21\, 66 Victoria St\, Annapolis Royal\, Nova Scotia\, B0S 1A0\, Canada
GEO:44.7432838;-65.5172655
X-APPLE-STRUCTURED-LOCATION;VALUE=URI;X-ADDRESS=Port Royal Legion Branch #21 66 Victoria St Annapolis Royal Nova Scotia B0S 1A0 Canada;X-APPLE-RADIUS=500;X-TITLE=66 Victoria St:geo:-65.5172655,44.7432838
END:VEVENT
BEGIN:VEVENT
DTSTART;TZID=America/Halifax:20250627T190000
DTEND;TZID=America/Halifax:20250627T210000
DTSTAMP:20260422T150439
CREATED:20250627T125404Z
LAST-MODIFIED:20250627T125404Z
UID:10006526-1751050800-1751058000@annapolisroyal.com
SUMMARY:Legion. Live music with The Res-O-Matics
DESCRIPTION:
URL:https://annapolisroyal.com/event/legion-live-music-with-the-res-o-matics-3/
LOCATION:Port Royal Legion Branch #21\, 66 Victoria St\, Annapolis Royal\, Nova Scotia\, B0S 1A0\, Canada
GEO:44.7432838;-65.5172655
X-APPLE-STRUCTURED-LOCATION;VALUE=URI;X-ADDRESS=Port Royal Legion Branch #21 66 Victoria St Annapolis Royal Nova Scotia B0S 1A0 Canada;X-APPLE-RADIUS=500;X-TITLE=66 Victoria St:geo:-65.5172655,44.7432838
END:VEVENT
BEGIN:VEVENT
DTSTART;TZID=America/Halifax:20250626T170000
DTEND;TZID=America/Halifax:20250626T200000
DTSTAMP:20260422T150439
CREATED:20250619T172733Z
LAST-MODIFIED:20250619T172733Z
UID:10006520-1750957200-1750968000@annapolisroyal.com
SUMMARY:Legion: Summer in Paris: French cuisine supper.
DESCRIPTION:Legion: Summer in Paris: French cuisine supper. Chef Sonya Rich. Dine in only. Reserve seating. Tickets $45. Call 902-532-5196 to reserve.
URL:https://annapolisroyal.com/event/legion-summer-in-paris-french-cuisine-supper/
LOCATION:Port Royal Legion Branch #21\, 66 Victoria St\, Annapolis Royal\, Nova Scotia\, B0S 1A0\, Canada
GEO:44.7432838;-65.5172655
X-APPLE-STRUCTURED-LOCATION;VALUE=URI;X-ADDRESS=Port Royal Legion Branch #21 66 Victoria St Annapolis Royal Nova Scotia B0S 1A0 Canada;X-APPLE-RADIUS=500;X-TITLE=66 Victoria St:geo:-65.5172655,44.7432838
END:VEVENT
BEGIN:VEVENT
DTSTART;TZID=America/Halifax:20250620T190000
DTEND;TZID=America/Halifax:20250620T210000
DTSTAMP:20260422T150439
CREATED:20250619T172340Z
LAST-MODIFIED:20250619T172340Z
UID:10006514-1750446000-1750453200@annapolisroyal.com
SUMMARY:Legion. Live music with Charlie Langmead
DESCRIPTION:
URL:https://annapolisroyal.com/event/legion-live-music-with-charlie-langmead-3/
LOCATION:Port Royal Legion Branch #21\, 66 Victoria St\, Annapolis Royal\, Nova Scotia\, B0S 1A0\, Canada
GEO:44.7432838;-65.5172655
X-APPLE-STRUCTURED-LOCATION;VALUE=URI;X-ADDRESS=Port Royal Legion Branch #21 66 Victoria St Annapolis Royal Nova Scotia B0S 1A0 Canada;X-APPLE-RADIUS=500;X-TITLE=66 Victoria St:geo:-65.5172655,44.7432838
END:VEVENT
BEGIN:VEVENT
DTSTART;TZID=America/Halifax:20250614T150000
DTEND;TZID=America/Halifax:20250614T170000
DTSTAMP:20260422T150439
CREATED:20250606T160016Z
LAST-MODIFIED:20250606T160016Z
UID:10006412-1749913200-1749920400@annapolisroyal.com
SUMMARY:Legion: Kitchen Party
DESCRIPTION:
URL:https://annapolisroyal.com/event/legion-kitchen-party/
LOCATION:Port Royal Legion Branch #21\, 66 Victoria St\, Annapolis Royal\, Nova Scotia\, B0S 1A0\, Canada
GEO:44.7432838;-65.5172655
X-APPLE-STRUCTURED-LOCATION;VALUE=URI;X-ADDRESS=Port Royal Legion Branch #21 66 Victoria St Annapolis Royal Nova Scotia B0S 1A0 Canada;X-APPLE-RADIUS=500;X-TITLE=66 Victoria St:geo:-65.5172655,44.7432838
END:VEVENT
BEGIN:VEVENT
DTSTART;TZID=America/Halifax:20250613T190000
DTEND;TZID=America/Halifax:20250613T220000
DTSTAMP:20260422T150439
CREATED:20250606T155856Z
LAST-MODIFIED:20250606T155856Z
UID:10006410-1749841200-1749852000@annapolisroyal.com
SUMMARY:Legion: Karaoke ‘fun’draiser
DESCRIPTION:Legion: Karaoke ‘fun’draiser! For Natal Day. Questions?. Contact Theresa Porter at stuckingranville@yahoo.com or call/text: 902-532-8629.
URL:https://annapolisroyal.com/event/legion-karaoke-fundraiser/
LOCATION:Port Royal Legion Branch #21\, 66 Victoria St\, Annapolis Royal\, Nova Scotia\, B0S 1A0\, Canada
GEO:44.7432838;-65.5172655
X-APPLE-STRUCTURED-LOCATION;VALUE=URI;X-ADDRESS=Port Royal Legion Branch #21 66 Victoria St Annapolis Royal Nova Scotia B0S 1A0 Canada;X-APPLE-RADIUS=500;X-TITLE=66 Victoria St:geo:-65.5172655,44.7432838
END:VEVENT
BEGIN:VEVENT
DTSTART;TZID=America/Halifax:20250606T190000
DTEND;TZID=America/Halifax:20250606T190000
DTSTAMP:20260422T150439
CREATED:20250606T155113Z
LAST-MODIFIED:20250606T155113Z
UID:10006397-1749236400-1749236400@annapolisroyal.com
SUMMARY:Legion: Live music with the Taproom Growlers
DESCRIPTION:
URL:https://annapolisroyal.com/event/legion-live-music-with-the-taproom-growlers-2/
LOCATION:Port Royal Legion Branch #21\, 66 Victoria St\, Annapolis Royal\, Nova Scotia\, B0S 1A0\, Canada
GEO:44.7432838;-65.5172655
X-APPLE-STRUCTURED-LOCATION;VALUE=URI;X-ADDRESS=Port Royal Legion Branch #21 66 Victoria St Annapolis Royal Nova Scotia B0S 1A0 Canada;X-APPLE-RADIUS=500;X-TITLE=66 Victoria St:geo:-65.5172655,44.7432838
END:VEVENT
BEGIN:VEVENT
DTSTART;TZID=America/Halifax:20250502T190000
DTEND;TZID=America/Halifax:20250502T190000
DTSTAMP:20260422T150439
CREATED:20250502T130850Z
LAST-MODIFIED:20250502T130850Z
UID:10006163-1746212400-1746212400@annapolisroyal.com
SUMMARY:Legion: Live music with Jim Taylor
DESCRIPTION:
URL:https://annapolisroyal.com/event/legion-live-music-with-jim-taylor-2/
LOCATION:Port Royal Legion Branch #21\, 66 Victoria St\, Annapolis Royal\, Nova Scotia\, B0S 1A0\, Canada
GEO:44.7432838;-65.5172655
X-APPLE-STRUCTURED-LOCATION;VALUE=URI;X-ADDRESS=Port Royal Legion Branch #21 66 Victoria St Annapolis Royal Nova Scotia B0S 1A0 Canada;X-APPLE-RADIUS=500;X-TITLE=66 Victoria St:geo:-65.5172655,44.7432838
END:VEVENT
BEGIN:VEVENT
DTSTART;TZID=America/Halifax:20250429T183000
DTEND;TZID=America/Halifax:20250429T183000
DTSTAMP:20260422T150439
CREATED:20250425T122309Z
LAST-MODIFIED:20250425T122309Z
UID:10006152-1745951400-1745951400@annapolisroyal.com
SUMMARY:Legion: Natal Days Committee meeting
DESCRIPTION:Legion: Natal Days Committee meeting. Volunteers needed and welcomed to help us plan our 2025 Natal Days weekend.
URL:https://annapolisroyal.com/event/legion-natal-days-committee-meeting/
LOCATION:Port Royal Legion Branch #21\, 66 Victoria St\, Annapolis Royal\, Nova Scotia\, B0S 1A0\, Canada
GEO:44.7432838;-65.5172655
X-APPLE-STRUCTURED-LOCATION;VALUE=URI;X-ADDRESS=Port Royal Legion Branch #21 66 Victoria St Annapolis Royal Nova Scotia B0S 1A0 Canada;X-APPLE-RADIUS=500;X-TITLE=66 Victoria St:geo:-65.5172655,44.7432838
END:VEVENT
BEGIN:VEVENT
DTSTART;TZID=America/Halifax:20250419T150000
DTEND;TZID=America/Halifax:20250419T170000
DTSTAMP:20260422T150439
CREATED:20250411T181240Z
LAST-MODIFIED:20250411T181240Z
UID:10006124-1745074800-1745082000@annapolisroyal.com
SUMMARY:Legion: Kitchen party with Theresa Porter
DESCRIPTION:
URL:https://annapolisroyal.com/event/legion-kitchen-party-with-theresa-porter-5/
LOCATION:Port Royal Legion Branch #21\, 66 Victoria St\, Annapolis Royal\, Nova Scotia\, B0S 1A0\, Canada
GEO:44.7432838;-65.5172655
X-APPLE-STRUCTURED-LOCATION;VALUE=URI;X-ADDRESS=Port Royal Legion Branch #21 66 Victoria St Annapolis Royal Nova Scotia B0S 1A0 Canada;X-APPLE-RADIUS=500;X-TITLE=66 Victoria St:geo:-65.5172655,44.7432838
END:VEVENT
BEGIN:VEVENT
DTSTART;TZID=America/Halifax:20250419T090000
DTEND;TZID=America/Halifax:20250419T130000
DTSTAMP:20260422T150439
CREATED:20250411T181034Z
LAST-MODIFIED:20250411T181034Z
UID:10006120-1745053200-1745067600@annapolisroyal.com
SUMMARY:Legion: Easter Craft and Collectables Sale
DESCRIPTION:Legion: Easter Craft and Collectables Sale. Over 60 vendors selling an assortment of art\, crafts\, jewelry\, baked goods\, chocolate and lots of collectables. Lunch available at the canteen.
URL:https://annapolisroyal.com/event/legion-easter-craft-and-collectables-sale/
LOCATION:Port Royal Legion Branch #21\, 66 Victoria St\, Annapolis Royal\, Nova Scotia\, B0S 1A0\, Canada
GEO:44.7432838;-65.5172655
X-APPLE-STRUCTURED-LOCATION;VALUE=URI;X-ADDRESS=Port Royal Legion Branch #21 66 Victoria St Annapolis Royal Nova Scotia B0S 1A0 Canada;X-APPLE-RADIUS=500;X-TITLE=66 Victoria St:geo:-65.5172655,44.7432838
END:VEVENT
BEGIN:VEVENT
DTSTART;TZID=America/Halifax:20250414T161500
DTEND;TZID=America/Halifax:20250414T181500
DTSTAMP:20260422T150439
CREATED:20250325T184731Z
LAST-MODIFIED:20250325T184731Z
UID:10006075-1744647300-1744654500@annapolisroyal.com
SUMMARY:Meet and Greet Council - Legion
DESCRIPTION:
URL:https://annapolisroyal.com/event/meet-and-greet-council-legion/
LOCATION:Port Royal Legion Branch #21\, 66 Victoria St\, Annapolis Royal\, Nova Scotia\, B0S 1A0\, Canada
GEO:44.7432838;-65.5172655
X-APPLE-STRUCTURED-LOCATION;VALUE=URI;X-ADDRESS=Port Royal Legion Branch #21 66 Victoria St Annapolis Royal Nova Scotia B0S 1A0 Canada;X-APPLE-RADIUS=500;X-TITLE=66 Victoria St:geo:-65.5172655,44.7432838
END:VEVENT
BEGIN:VEVENT
DTSTART;TZID=America/Halifax:20250412T093000
DTEND;TZID=America/Halifax:20250412T093000
DTSTAMP:20260422T150439
CREATED:20250411T180441Z
LAST-MODIFIED:20250411T180441Z
UID:10006112-1744450200-1744450200@annapolisroyal.com
SUMMARY:Legion: Newfie Shoot Open Mixed Tripes Dart Tournamen
DESCRIPTION:Legion: Newfie Shoot Open Mixed Tripes Dart Tournament. $45 per team. Pre-register by April 11th at 532-5196. Public welcome
URL:https://annapolisroyal.com/event/legion-newfie-shoot-open-mixed-tripes-dart-tournamen/
LOCATION:Port Royal Legion Branch #21\, 66 Victoria St\, Annapolis Royal\, Nova Scotia\, B0S 1A0\, Canada
GEO:44.7432838;-65.5172655
X-APPLE-STRUCTURED-LOCATION;VALUE=URI;X-ADDRESS=Port Royal Legion Branch #21 66 Victoria St Annapolis Royal Nova Scotia B0S 1A0 Canada;X-APPLE-RADIUS=500;X-TITLE=66 Victoria St:geo:-65.5172655,44.7432838
END:VEVENT
BEGIN:VEVENT
DTSTART;TZID=America/Halifax:20250411T193000
DTEND;TZID=America/Halifax:20250411T210000
DTSTAMP:20260422T150439
CREATED:20250411T180332Z
LAST-MODIFIED:20250411T180332Z
UID:10006110-1744399800-1744405200@annapolisroyal.com
SUMMARY:Legion. Live music with Charlie Langmead
DESCRIPTION:
URL:https://annapolisroyal.com/event/legion-live-music-with-charlie-langmead-2/
LOCATION:Port Royal Legion Branch #21\, 66 Victoria St\, Annapolis Royal\, Nova Scotia\, B0S 1A0\, Canada
GEO:44.7432838;-65.5172655
X-APPLE-STRUCTURED-LOCATION;VALUE=URI;X-ADDRESS=Port Royal Legion Branch #21 66 Victoria St Annapolis Royal Nova Scotia B0S 1A0 Canada;X-APPLE-RADIUS=500;X-TITLE=66 Victoria St:geo:-65.5172655,44.7432838
END:VEVENT
END:VCALENDAR