BEGIN:VCALENDAR
VERSION:2.0
PRODID:-//Town of Annapolis Royal - ECPv6.15.20//NONSGML v1.0//EN
CALSCALE:GREGORIAN
METHOD:PUBLISH
X-WR-CALNAME:Town of Annapolis Royal
X-ORIGINAL-URL:https://annapolisroyal.com
X-WR-CALDESC:Events for Town of Annapolis Royal
REFRESH-INTERVAL;VALUE=DURATION:PT1H
X-Robots-Tag:noindex
X-PUBLISHED-TTL:PT1H
BEGIN:VTIMEZONE
TZID:America/Halifax
BEGIN:DAYLIGHT
TZOFFSETFROM:-0400
TZOFFSETTO:-0300
TZNAME:ADT
DTSTART:20240310T060000
END:DAYLIGHT
BEGIN:STANDARD
TZOFFSETFROM:-0300
TZOFFSETTO:-0400
TZNAME:AST
DTSTART:20241103T050000
END:STANDARD
BEGIN:DAYLIGHT
TZOFFSETFROM:-0400
TZOFFSETTO:-0300
TZNAME:ADT
DTSTART:20250309T060000
END:DAYLIGHT
BEGIN:STANDARD
TZOFFSETFROM:-0300
TZOFFSETTO:-0400
TZNAME:AST
DTSTART:20251102T050000
END:STANDARD
BEGIN:DAYLIGHT
TZOFFSETFROM:-0400
TZOFFSETTO:-0300
TZNAME:ADT
DTSTART:20260308T060000
END:DAYLIGHT
BEGIN:STANDARD
TZOFFSETFROM:-0300
TZOFFSETTO:-0400
TZNAME:AST
DTSTART:20261101T050000
END:STANDARD
END:VTIMEZONE
BEGIN:VEVENT
DTSTART;TZID=America/Halifax:20250317T163000
DTEND;TZID=America/Halifax:20250317T180000
DTSTAMP:20260421T231631
CREATED:20250310T165221Z
LAST-MODIFIED:20250314T134824Z
UID:10006040-1742229000-1742234400@annapolisroyal.com
SUMMARY:Irish Stew Fundraiser
DESCRIPTION:☘️St Louis Church St Patty’s Fundraiser is on again! Enjoy a hot Irish stew takeout dinner with fresh rolls & gingerbread with our famous lemon sauce. $18. Pickup warm on Monday 17th 4:30-6pm. Reserve yours ahead of time! ☘️
URL:https://annapolisroyal.com/event/irish-stew-fundraiser/
LOCATION:St Louis Church\, 540 St George St\, Annapolis Royal\, NS\, B0S1a0\, Canada
ATTACH;FMTTYPE=image/png:https://annapolisroyal.com/wp-content/uploads/2025/03/Day-Irish-Stew.png
END:VEVENT
END:VCALENDAR